BEGIN:VCALENDAR
VERSION:2.0
PRODID:-//El Dorado, Arkansas - ECPv6.15.20//NONSGML v1.0//EN
CALSCALE:GREGORIAN
METHOD:PUBLISH
X-WR-CALNAME:El Dorado, Arkansas
X-ORIGINAL-URL:https://www.goeldorado.com
X-WR-CALDESC:Events for El Dorado, Arkansas
REFRESH-INTERVAL;VALUE=DURATION:PT1H
X-Robots-Tag:noindex
X-PUBLISHED-TTL:PT1H
BEGIN:VTIMEZONE
TZID:America/Chicago
BEGIN:DAYLIGHT
TZOFFSETFROM:-0600
TZOFFSETTO:-0500
TZNAME:CDT
DTSTART:20220313T080000
END:DAYLIGHT
BEGIN:STANDARD
TZOFFSETFROM:-0500
TZOFFSETTO:-0600
TZNAME:CST
DTSTART:20221106T070000
END:STANDARD
BEGIN:DAYLIGHT
TZOFFSETFROM:-0600
TZOFFSETTO:-0500
TZNAME:CDT
DTSTART:20230312T080000
END:DAYLIGHT
BEGIN:STANDARD
TZOFFSETFROM:-0500
TZOFFSETTO:-0600
TZNAME:CST
DTSTART:20231105T070000
END:STANDARD
BEGIN:DAYLIGHT
TZOFFSETFROM:-0600
TZOFFSETTO:-0500
TZNAME:CDT
DTSTART:20240310T080000
END:DAYLIGHT
BEGIN:STANDARD
TZOFFSETFROM:-0500
TZOFFSETTO:-0600
TZNAME:CST
DTSTART:20241103T070000
END:STANDARD
END:VTIMEZONE
BEGIN:VEVENT
DTSTART;TZID=America/Chicago:20230829T120000
DTEND;TZID=America/Chicago:20230829T130000
DTSTAMP:20260422T010446
CREATED:20230816T193655Z
LAST-MODIFIED:20230817T125142Z
UID:10014526-1693310400-1693314000@www.goeldorado.com
SUMMARY:El Dorado Rotary Club Meeting with Guest Jennifer Davis (Turning Point)
DESCRIPTION:
URL:https://www.goeldorado.com/event/el-dorado-rotary-club-meeting-with-guest-jennifer-davis-turning-point/
LOCATION:HealthWorks Fitness Center\, 304 N. Madison\, El Dorado\, AR\, 71730
CATEGORIES:Clubs/Organizations,Community
END:VEVENT
BEGIN:VEVENT
DTSTART;TZID=America/Chicago:20230829T160000
DTEND;TZID=America/Chicago:20230829T173000
DTSTAMP:20260422T010446
CREATED:20230816T152453Z
LAST-MODIFIED:20230821T133054Z
UID:10014520-1693324800-1693330200@www.goeldorado.com
SUMMARY:Audition Call-Once Upon a Mattress Youth Additon @ South Arkansas Arts Center
DESCRIPTION:Drama Club Auditions \n  \nOnce Upon a Mattress: Youth Edition\nAug 29 & 31 Audition Call • 4pm\nCallbacks Sept 5 • 4pm \nThe Drama Club production\, sponsored by Southern Airways Express\, will host auditions for the youth edition August 29 & 31 from 4pm. Students grades 7-12 can attend either or both days. Select a 45 second cut from a song of your choice to sing\, and bring the music track. There will also be a selection of monologues from the show provided. Make sure to prepare a monologue from that selection. Also\, expect to learn a short-dance exercise. Callbacks will be September 5 at 4pm\, and scene reading will be provided. \n  \nThe SAAC Arts Academy Drama Club is presenting the one-hour “Once Upon a Mattress: Youth Edition” on November 9-10.   This fairy-tale musical is a fun rendition of “The Princess and The Pea.” \n  \nMany moons ago in a far-off place\, Queen Aggravain decreed no couples could marry until her son\, Prince Dauntless\, found a bride. Princesses came from far and wide to win the hand of the prince\, but none could pass the impossible tests given to them by the Queen. That is\, until the “shy” swamp princess\, Winnifred the Woebegone\, showed up. Would she be able to pass the Sensitivity Test\, marry her prince and help Lady Larkin and Sir Harry to the altar? For after all\, a princess is a delicate thing. \nhttps://saac-arts.org/oum-audition-call/ \n 
URL:https://www.goeldorado.com/event/audition-call-once-upon-a-mattress-youth-additon-south-arkansas-arts-center/
LOCATION:South Arkansas Arts Center
CATEGORIES:Arts & Culture,Community,Family and Children
ATTACH;FMTTYPE=image/jpeg:https://www.goeldorado.com/wp-content/uploads/2023/08/Once-upon-a-mattress-youth.jpg
END:VEVENT
BEGIN:VEVENT
DTSTART;TZID=America/Chicago:20230829T180000
DTEND;TZID=America/Chicago:20230829T200000
DTSTAMP:20260422T010446
CREATED:20230822T132938Z
LAST-MODIFIED:20230822T172428Z
UID:10014531-1693332000-1693339200@www.goeldorado.com
SUMMARY:Pasta Making II
DESCRIPTION:Chef Scott Enzor will walk you through the steps in this hands-on class and provide the participants with different ingredients to add to their sauce (red or creamy) to create an amazing prepared meal!
URL:https://www.goeldorado.com/event/pasta-making-ii/
LOCATION:SouthArk Center for Workforce Development\, 3696 East Main St.\, El Dorado\, AR\, 71730\, United States
CATEGORIES:Community,Continuing Education
ATTACH;FMTTYPE=image/png:https://www.goeldorado.com/wp-content/uploads/2023/08/Pasta-Making-II-Flyer-Small.png
END:VEVENT
BEGIN:VEVENT
DTSTART;TZID=America/Chicago:20230829T180000
DTEND;TZID=America/Chicago:20230829T210000
DTSTAMP:20260422T010446
CREATED:20230425T163350Z
LAST-MODIFIED:20230821T133455Z
UID:10013399-1693332000-1693342800@www.goeldorado.com
SUMMARY:South Arkansas Together - A Celebration of Hope
DESCRIPTION:  \n\nYouth\, come see on August 29th in El Dorado Arkansas for Youth Night!\n\n\nWhen  August 29th 6PM\nWhere  Municipal Auditorium\n\n\nTickets can be purchased at many area churches or contact us at 870.314.9364 or info@southarkansastogether.com.\n\n\n#SouthArkansasTogether
URL:https://www.goeldorado.com/event/south-arkansas-together-a-celebration-of-hope-3/
LOCATION:El Dorado Municipal Auditorium\, El Dorado\, AR\, 71730\, United States
CATEGORIES:Community,Family and Children,Live Music
ORGANIZER;CN="south arkansas together":MAILTO:info@southarkansastogether.com
END:VEVENT
BEGIN:VEVENT
DTSTART;TZID=America/Chicago:20230829T190000
DTEND;TZID=America/Chicago:20230829T203000
DTSTAMP:20260422T010446
CREATED:20230816T152308Z
LAST-MODIFIED:20230821T132332Z
UID:10014519-1693335600-1693341000@www.goeldorado.com
SUMMARY:Audition Call- Once Upon a Mattress @ South Arkansas Arts Center
DESCRIPTION:Once Upon a Mattress – full length musical\nAug 28 & 29 Audition Call 6:30pm\nAug 30 Callbacks 6:30pm \nThe Community Theatre production\, sponsored by Nexans AmerCable and Southern Bancorp\, will host auditions August 28-29 with registration starting at 6:30pm and auditions starting promptly at 7:00pm. Attend either or both days. Expect there to be cold scene readings\, some singing\, and dress for movement. A song list will be provided\, and you will need to choose a song to sing a 30-45 second cut at auditions. Callbacks will be held August 30th at 6:30pm. \n  \nThe SAAC Theatre Committee is hosting the community theatre production of the full-length musical on October 19-29.  This fairy-tale musical is a fun rendition of “The Princess and The Pea.” \n  \nMany moons ago in a far-off place\, Queen Aggravain decreed no couples could marry until her son\, Prince Dauntless\, found a bride. Princesses came from far and wide to win the hand of the prince\, but none could pass the impossible tests given to them by the Queen. That is\, until the “shy” swamp princess\, Winnifred the Woebegone\, showed up. Carried on a wave of wonderful\, romantic\, and melodic songs\, and action that turns hilarious and raucous\, this rollicking tale provides some side-splitting shenanigans. \n  \nhttps://saac-arts.org/oum-audition-call/
URL:https://www.goeldorado.com/event/audition-call-once-upon-a-mattress-south-arkansas-arts-center-2/
LOCATION:South Arkansas Arts Center
CATEGORIES:Arts & Culture,Community
ATTACH;FMTTYPE=image/jpeg:https://www.goeldorado.com/wp-content/uploads/2023/08/once-upon-a-mattress.jpg
END:VEVENT
END:VCALENDAR