BEGIN:VCALENDAR
VERSION:2.0
PRODID:-//El Dorado, Arkansas - ECPv6.15.20//NONSGML v1.0//EN
CALSCALE:GREGORIAN
METHOD:PUBLISH
X-WR-CALNAME:El Dorado, Arkansas
X-ORIGINAL-URL:https://www.goeldorado.com
X-WR-CALDESC:Events for El Dorado, Arkansas
REFRESH-INTERVAL;VALUE=DURATION:PT1H
X-Robots-Tag:noindex
X-PUBLISHED-TTL:PT1H
BEGIN:VTIMEZONE
TZID:America/Chicago
BEGIN:DAYLIGHT
TZOFFSETFROM:-0600
TZOFFSETTO:-0500
TZNAME:CDT
DTSTART:20220313T080000
END:DAYLIGHT
BEGIN:STANDARD
TZOFFSETFROM:-0500
TZOFFSETTO:-0600
TZNAME:CST
DTSTART:20221106T070000
END:STANDARD
BEGIN:DAYLIGHT
TZOFFSETFROM:-0600
TZOFFSETTO:-0500
TZNAME:CDT
DTSTART:20230312T080000
END:DAYLIGHT
BEGIN:STANDARD
TZOFFSETFROM:-0500
TZOFFSETTO:-0600
TZNAME:CST
DTSTART:20231105T070000
END:STANDARD
BEGIN:DAYLIGHT
TZOFFSETFROM:-0600
TZOFFSETTO:-0500
TZNAME:CDT
DTSTART:20240310T080000
END:DAYLIGHT
BEGIN:STANDARD
TZOFFSETFROM:-0500
TZOFFSETTO:-0600
TZNAME:CST
DTSTART:20241103T070000
END:STANDARD
END:VTIMEZONE
BEGIN:VEVENT
DTSTART;TZID=America/Chicago:20230830T120000
DTEND;TZID=America/Chicago:20230830T130000
DTSTAMP:20260422T010552
CREATED:20230607T210102Z
LAST-MODIFIED:20230607T210335Z
UID:10014308-1693396800-1693400400@www.goeldorado.com
SUMMARY:Kiwanis Meeting
DESCRIPTION:
URL:https://www.goeldorado.com/event/kiwanis-meeting-2/2023-08-30/
LOCATION:First Presbyterian Church\, 300 E. Main St\, El Dorado
END:VEVENT
BEGIN:VEVENT
DTSTART;TZID=America/Chicago:20230830T180000
DTEND;TZID=America/Chicago:20230830T210000
DTSTAMP:20260422T010552
CREATED:20230425T164017Z
LAST-MODIFIED:20230426T203348Z
UID:10013400-1693418400-1693429200@www.goeldorado.com
SUMMARY:South Arkansas Together - A Celebration of Hope
DESCRIPTION:A Community outreach event for all ages
URL:https://www.goeldorado.com/event/south-arkansas-together-a-celebration-of-hope-4/
CATEGORIES:Community,Family and Children,Festivals & Celebrations,Live Music
END:VEVENT
END:VCALENDAR