BEGIN:VCALENDAR
VERSION:2.0
PRODID:-//El Dorado, Arkansas - ECPv6.15.20//NONSGML v1.0//EN
CALSCALE:GREGORIAN
METHOD:PUBLISH
X-WR-CALNAME:El Dorado, Arkansas
X-ORIGINAL-URL:https://www.goeldorado.com
X-WR-CALDESC:Events for El Dorado, Arkansas
REFRESH-INTERVAL;VALUE=DURATION:PT1H
X-Robots-Tag:noindex
X-PUBLISHED-TTL:PT1H
BEGIN:VTIMEZONE
TZID:America/Chicago
BEGIN:DAYLIGHT
TZOFFSETFROM:-0600
TZOFFSETTO:-0500
TZNAME:CDT
DTSTART:20220313T080000
END:DAYLIGHT
BEGIN:STANDARD
TZOFFSETFROM:-0500
TZOFFSETTO:-0600
TZNAME:CST
DTSTART:20221106T070000
END:STANDARD
BEGIN:DAYLIGHT
TZOFFSETFROM:-0600
TZOFFSETTO:-0500
TZNAME:CDT
DTSTART:20230312T080000
END:DAYLIGHT
BEGIN:STANDARD
TZOFFSETFROM:-0500
TZOFFSETTO:-0600
TZNAME:CST
DTSTART:20231105T070000
END:STANDARD
BEGIN:DAYLIGHT
TZOFFSETFROM:-0600
TZOFFSETTO:-0500
TZNAME:CDT
DTSTART:20240310T080000
END:DAYLIGHT
BEGIN:STANDARD
TZOFFSETFROM:-0500
TZOFFSETTO:-0600
TZNAME:CST
DTSTART:20241103T070000
END:STANDARD
END:VTIMEZONE
BEGIN:VEVENT
DTSTART;VALUE=DATE:20230916
DTEND;VALUE=DATE:20230917
DTSTAMP:20260421T234952
CREATED:20230713T163613Z
LAST-MODIFIED:20230713T163620Z
UID:10014472-1694822400-1694908799@www.goeldorado.com
SUMMARY:First Financial Bank SHARE Benefit Gold Tournament
DESCRIPTION:
URL:https://www.goeldorado.com/event/first-financial-bank-share-benefit-gold-tournament/
LOCATION:Lions Club Golf Course\, 1420 E. 19th Street\, El Dorado\, AR\, 71730
CATEGORIES:Community,Recreation & Sports
ATTACH;FMTTYPE=image/png:https://www.goeldorado.com/wp-content/uploads/2023/07/352469012_1385476558683800_1267246283167767471_n.png
ORGANIZER;CN="SHARE Foundation":MAILTO:acooley@sharefoundation.com
END:VEVENT
BEGIN:VEVENT
DTSTART;TZID=America/Chicago:20230916T080000
DTEND;TZID=America/Chicago:20230916T110000
DTSTAMP:20260421T234952
CREATED:20230414T212537Z
LAST-MODIFIED:20230626T140535Z
UID:10014355-1694851200-1694862000@www.goeldorado.com
SUMMARY:Farmers Market at MAD
DESCRIPTION:Shop local vendors at the MAD Amphitheater!
URL:https://www.goeldorado.com/event/farmers-market-at-mad-3/2023-09-16/
CATEGORIES:Arts & Culture,Community,Family and Children
ATTACH;FMTTYPE=image/jpeg:https://www.goeldorado.com/wp-content/uploads/2023/04/famersmarketevent.jpg
END:VEVENT
BEGIN:VEVENT
DTSTART;TZID=America/Chicago:20230916T090000
DTEND;TZID=America/Chicago:20230916T160000
DTSTAMP:20260421T234952
CREATED:20230724T201144Z
LAST-MODIFIED:20230724T201144Z
UID:10014496-1694854800-1694880000@www.goeldorado.com
SUMMARY:Mini Main Street w/ ESL
DESCRIPTION:
URL:https://www.goeldorado.com/event/mini-main-street-w-esl/
LOCATION:First United Methodist Hanna Building\, El Dorado\, AR
CATEGORIES:Arts & Culture,Business,Clubs/Organizations,Family and Children
ATTACH;FMTTYPE=image/jpeg:https://www.goeldorado.com/wp-content/uploads/2023/07/362930532_653056473524208_4292735084412018256_n.jpg
END:VEVENT
BEGIN:VEVENT
DTSTART;TZID=America/Chicago:20230916T170000
DTEND;TZID=America/Chicago:20230916T213000
DTSTAMP:20260421T234952
CREATED:20230123T171108Z
LAST-MODIFIED:20230123T171108Z
UID:10011028-1694883600-1694899800@www.goeldorado.com
SUMMARY:Bingo @ The VFW
DESCRIPTION:The VFW will be hosting BINGO! Every Saturday night. \nQuarter Bingo starts at 5pm \nRegular Bingo starts at 7pm
URL:https://www.goeldorado.com/event/bingo-the-vfw/2023-09-16/
LOCATION:VFW\, 451 Industrial Rd\, El Dorado\, AR\, 71730\, United States
CATEGORIES:Clubs/Organizations,Community,Recreation & Sports
END:VEVENT
END:VCALENDAR