BEGIN:VCALENDAR
VERSION:2.0
PRODID:-//El Dorado, Arkansas - ECPv6.15.20//NONSGML v1.0//EN
CALSCALE:GREGORIAN
METHOD:PUBLISH
X-WR-CALNAME:El Dorado, Arkansas
X-ORIGINAL-URL:https://www.goeldorado.com
X-WR-CALDESC:Events for El Dorado, Arkansas
REFRESH-INTERVAL;VALUE=DURATION:PT1H
X-Robots-Tag:noindex
X-PUBLISHED-TTL:PT1H
BEGIN:VTIMEZONE
TZID:America/Chicago
BEGIN:DAYLIGHT
TZOFFSETFROM:-0600
TZOFFSETTO:-0500
TZNAME:CDT
DTSTART:20220313T080000
END:DAYLIGHT
BEGIN:STANDARD
TZOFFSETFROM:-0500
TZOFFSETTO:-0600
TZNAME:CST
DTSTART:20221106T070000
END:STANDARD
BEGIN:DAYLIGHT
TZOFFSETFROM:-0600
TZOFFSETTO:-0500
TZNAME:CDT
DTSTART:20230312T080000
END:DAYLIGHT
BEGIN:STANDARD
TZOFFSETFROM:-0500
TZOFFSETTO:-0600
TZNAME:CST
DTSTART:20231105T070000
END:STANDARD
BEGIN:DAYLIGHT
TZOFFSETFROM:-0600
TZOFFSETTO:-0500
TZNAME:CDT
DTSTART:20240310T080000
END:DAYLIGHT
BEGIN:STANDARD
TZOFFSETFROM:-0500
TZOFFSETTO:-0600
TZNAME:CST
DTSTART:20241103T070000
END:STANDARD
END:VTIMEZONE
BEGIN:VEVENT
DTSTART;VALUE=DATE:20230918
DTEND;VALUE=DATE:20230925
DTSTAMP:20260424T100633
CREATED:20230713T161955Z
LAST-MODIFIED:20230713T162133Z
UID:10014470-1694995200-1695599999@www.goeldorado.com
SUMMARY:Murphy USA El Dorado Shootout: Epson tour event
DESCRIPTION:  \n  \n\nSAVE THE DATE! The Murphy USA El Dorado Shootout will return to Mystic Creek Golf Club on September 18-24\, 2023! Mark your calendars and plan to join us for our eighth annual professional tournament where the future stars of the LPGA will square off for the $225\,000 prize.\n\n\nBring the whole family to this fun Epson Tour event where you can learn more about golf and watch the pros. We’ll be announcing volunteer opportunities and more very soon\, so stay tuned!\n\n\nWe can’t wait to see you in September. Learn more at https://eldoradoshootout.com.
URL:https://www.goeldorado.com/event/murphy-usa-el-dorado-shootout-epson-tour-event/
LOCATION:Mystic Creek Clubhouse\, 191 Clubhouse Dr\, El Dorado\, AR\, 71730\, United States
CATEGORIES:Community,Recreation & Sports
ATTACH;FMTTYPE=image/jpeg:https://www.goeldorado.com/wp-content/uploads/2023/07/357533554_688694069936873_2494034729366700867_n.jpg
END:VEVENT
BEGIN:VEVENT
DTSTART;TZID=America/Chicago:20230918T173000
DTEND;TZID=America/Chicago:20230921T210000
DTSTAMP:20260424T100633
CREATED:20230822T134009Z
LAST-MODIFIED:20230920T180032Z
UID:10014533-1695058200-1695330000@www.goeldorado.com
SUMMARY:Hunter Education @ SouthArk
DESCRIPTION:The traditional hunter education class is a 10-hour instructor led classroom course with hands-on demonstrations. Classes may be a few hours a night for 3 or 4 nights or an all-day class. The final class will end with a test to pass the course. \n\n\nHunter Education classes are offered by knowledgeable and dedicated volunteer instructors and Arkansas Game and Fish Employees. \nThis class is being provided in collaboration with Community Education at South Arkansas College.
URL:https://www.goeldorado.com/event/hunter-education-southark/
LOCATION:SouthArk Center for Workforce Development\, 3696 East Main St.\, El Dorado\, AR\, 71730\, United States
CATEGORIES:Community,Continuing Education,Recreation & Sports
ATTACH;FMTTYPE=image/jpeg:https://www.goeldorado.com/wp-content/uploads/2023/08/369866492_10104131225932408_5587954074177818413_n.jpg
END:VEVENT
BEGIN:VEVENT
DTSTART;VALUE=DATE:20230919
DTEND;VALUE=DATE:20230924
DTSTAMP:20260424T100633
CREATED:20230629T203436Z
LAST-MODIFIED:20230629T203436Z
UID:10014435-1695081600-1695513599@www.goeldorado.com
SUMMARY:Union County Fair
DESCRIPTION:
URL:https://www.goeldorado.com/event/union-county-fair-2/
LOCATION:Union County Fair Grounds\, 430 E 19th St\, El Dorado\, AR\, 71730\, United States
CATEGORIES:Arts & Culture,Community,Family and Children,Festivals & Celebrations
ATTACH;FMTTYPE=image/png:https://www.goeldorado.com/wp-content/uploads/2023/06/351307784_801501498429378_9154341890609759121_n.png
ORGANIZER;CN="Union County Fair":MAILTO:lewis_debbiej@yahoo.com
END:VEVENT
BEGIN:VEVENT
DTSTART;TZID=America/Chicago:20230919T170000
DTEND;TZID=America/Chicago:20230919T180000
DTSTAMP:20260424T100633
CREATED:20230720T214504Z
LAST-MODIFIED:20230720T214504Z
UID:10014489-1695142800-1695146400@www.goeldorado.com
SUMMARY:Business After Hours: Employer Services of America
DESCRIPTION:
URL:https://www.goeldorado.com/event/business-after-hours-employer-services-of-america/
LOCATION:AR
CATEGORIES:Business,Chamber Of Commerce
END:VEVENT
END:VCALENDAR