BEGIN:VCALENDAR
VERSION:2.0
PRODID:-//El Dorado, Arkansas - ECPv6.15.20//NONSGML v1.0//EN
CALSCALE:GREGORIAN
METHOD:PUBLISH
X-ORIGINAL-URL:https://www.goeldorado.com
X-WR-CALDESC:Events for El Dorado, Arkansas
REFRESH-INTERVAL;VALUE=DURATION:PT1H
X-Robots-Tag:noindex
X-PUBLISHED-TTL:PT1H
BEGIN:VTIMEZONE
TZID:America/Chicago
BEGIN:DAYLIGHT
TZOFFSETFROM:-0600
TZOFFSETTO:-0500
TZNAME:CDT
DTSTART:20220313T080000
END:DAYLIGHT
BEGIN:STANDARD
TZOFFSETFROM:-0500
TZOFFSETTO:-0600
TZNAME:CST
DTSTART:20221106T070000
END:STANDARD
BEGIN:DAYLIGHT
TZOFFSETFROM:-0600
TZOFFSETTO:-0500
TZNAME:CDT
DTSTART:20230312T080000
END:DAYLIGHT
BEGIN:STANDARD
TZOFFSETFROM:-0500
TZOFFSETTO:-0600
TZNAME:CST
DTSTART:20231105T070000
END:STANDARD
BEGIN:DAYLIGHT
TZOFFSETFROM:-0600
TZOFFSETTO:-0500
TZNAME:CDT
DTSTART:20240310T080000
END:DAYLIGHT
BEGIN:STANDARD
TZOFFSETFROM:-0500
TZOFFSETTO:-0600
TZNAME:CST
DTSTART:20241103T070000
END:STANDARD
END:VTIMEZONE
BEGIN:VEVENT
DTSTART;TZID=America/Chicago:20230926T173000
DTEND;TZID=America/Chicago:20230926T190000
DTSTAMP:20260422T005852
CREATED:20230913T213712Z
LAST-MODIFIED:20230914T172330Z
UID:10014563-1695749400-1695754800@www.goeldorado.com
SUMMARY:Sign Language Class @ South Ark
DESCRIPTION:All ages are invited to learn the basics of ASL with Crystal Curley
URL:https://www.goeldorado.com/event/sign-language-class-south-ark/
LOCATION:HealthWorks Fitness Center\, 304 N. Madison\, El Dorado\, AR\, 71730
CATEGORIES:Community,Continuing Education
ATTACH;FMTTYPE=image/png:https://www.goeldorado.com/wp-content/uploads/2023/09/Sign-Language-Flyer-Small.png
END:VEVENT
END:VCALENDAR