BEGIN:VCALENDAR
VERSION:2.0
PRODID:-//El Dorado, Arkansas - ECPv6.15.20//NONSGML v1.0//EN
CALSCALE:GREGORIAN
METHOD:PUBLISH
X-WR-CALNAME:El Dorado, Arkansas
X-ORIGINAL-URL:https://www.goeldorado.com
X-WR-CALDESC:Events for El Dorado, Arkansas
REFRESH-INTERVAL;VALUE=DURATION:PT1H
X-Robots-Tag:noindex
X-PUBLISHED-TTL:PT1H
BEGIN:VTIMEZONE
TZID:America/Chicago
BEGIN:DAYLIGHT
TZOFFSETFROM:-0600
TZOFFSETTO:-0500
TZNAME:CDT
DTSTART:20220313T080000
END:DAYLIGHT
BEGIN:STANDARD
TZOFFSETFROM:-0500
TZOFFSETTO:-0600
TZNAME:CST
DTSTART:20221106T070000
END:STANDARD
BEGIN:DAYLIGHT
TZOFFSETFROM:-0600
TZOFFSETTO:-0500
TZNAME:CDT
DTSTART:20230312T080000
END:DAYLIGHT
BEGIN:STANDARD
TZOFFSETFROM:-0500
TZOFFSETTO:-0600
TZNAME:CST
DTSTART:20231105T070000
END:STANDARD
BEGIN:DAYLIGHT
TZOFFSETFROM:-0600
TZOFFSETTO:-0500
TZNAME:CDT
DTSTART:20240310T080000
END:DAYLIGHT
BEGIN:STANDARD
TZOFFSETFROM:-0500
TZOFFSETTO:-0600
TZNAME:CST
DTSTART:20241103T070000
END:STANDARD
END:VTIMEZONE
BEGIN:VEVENT
DTSTART;TZID=America/Chicago:20231005T110000
DTEND;TZID=America/Chicago:20231005T113000
DTSTAMP:20260421T201436
CREATED:20230921T151259Z
LAST-MODIFIED:20230921T151259Z
UID:10014626-1696503600-1696505400@www.goeldorado.com
SUMMARY:Ribbon Cutting: First Community Trust
DESCRIPTION:
URL:https://www.goeldorado.com/event/ribbon-cutting-first-community-trust/
LOCATION:First Community Trust\, 200 N Jefferson Suite 618\, El Dorado\, AR\, 71730\, United States
CATEGORIES:Business,Chamber Of Commerce
ATTACH;FMTTYPE=image/jpeg:https://www.goeldorado.com/wp-content/uploads/2023/09/CFT-El-Dorado-Open-House_LinkedIn.jpg
END:VEVENT
BEGIN:VEVENT
DTSTART;TZID=America/Chicago:20231005T113000
DTEND;TZID=America/Chicago:20231005T120000
DTSTAMP:20260421T201436
CREATED:20230803T151220Z
LAST-MODIFIED:20231004T134818Z
UID:10014502-1696505400-1696507200@www.goeldorado.com
SUMMARY:Proclamation for Domestic Violence Awareness Month
DESCRIPTION:Please join us on the Union County Courthouse steps as Mayor Paul Choate recites the proclamation for Domestic Violence Awareness Month. We will also review Arkansas domestic violence statistics from previous years.
URL:https://www.goeldorado.com/event/proclamation-for-domestic-violence-awareness-month/
LOCATION:Union County Courthouse\, 101 N. Washington\, El Dorado\, AR\, 71730
CATEGORIES:Clubs/Organizations,Community
ATTACH;FMTTYPE=image/jpeg:https://www.goeldorado.com/wp-content/uploads/2023/08/correct-turning-point.jpg
END:VEVENT
END:VCALENDAR