BEGIN:VCALENDAR
VERSION:2.0
PRODID:-//El Dorado, Arkansas - ECPv6.15.20//NONSGML v1.0//EN
CALSCALE:GREGORIAN
METHOD:PUBLISH
X-WR-CALNAME:El Dorado, Arkansas
X-ORIGINAL-URL:https://www.goeldorado.com
X-WR-CALDESC:Events for El Dorado, Arkansas
REFRESH-INTERVAL;VALUE=DURATION:PT1H
X-Robots-Tag:noindex
X-PUBLISHED-TTL:PT1H
BEGIN:VTIMEZONE
TZID:America/Chicago
BEGIN:DAYLIGHT
TZOFFSETFROM:-0600
TZOFFSETTO:-0500
TZNAME:CDT
DTSTART:20220313T080000
END:DAYLIGHT
BEGIN:STANDARD
TZOFFSETFROM:-0500
TZOFFSETTO:-0600
TZNAME:CST
DTSTART:20221106T070000
END:STANDARD
BEGIN:DAYLIGHT
TZOFFSETFROM:-0600
TZOFFSETTO:-0500
TZNAME:CDT
DTSTART:20230312T080000
END:DAYLIGHT
BEGIN:STANDARD
TZOFFSETFROM:-0500
TZOFFSETTO:-0600
TZNAME:CST
DTSTART:20231105T070000
END:STANDARD
BEGIN:DAYLIGHT
TZOFFSETFROM:-0600
TZOFFSETTO:-0500
TZNAME:CDT
DTSTART:20240310T080000
END:DAYLIGHT
BEGIN:STANDARD
TZOFFSETFROM:-0500
TZOFFSETTO:-0600
TZNAME:CST
DTSTART:20241103T070000
END:STANDARD
END:VTIMEZONE
BEGIN:VEVENT
DTSTART;TZID=America/Chicago:20231013T190000
DTEND;TZID=America/Chicago:20231015T220000
DTSTAMP:20260424T040006
CREATED:20230817T201221Z
LAST-MODIFIED:20230822T172346Z
UID:10014530-1697223600-1697407200@www.goeldorado.com
SUMMARY:El Dorado Haunt
DESCRIPTION:Join us at this year’s El Dorado Haunt\n“DEADTIME STORIES”\nwhere not every princess gets a prince and there’s no escape from the dreaded rabbit hole.\nOur fairy tales don’t begin with “Once Upon a Time” but with “Once Upon a Nightmare”.
URL:https://www.goeldorado.com/event/el-dorado-haunt/
LOCATION:AR
CATEGORIES:Clubs/Organizations,Community,Family and Children,Holiday
END:VEVENT
BEGIN:VEVENT
DTSTART;TZID=America/Chicago:20231015T190000
DTEND;TZID=America/Chicago:20231015T220000
DTSTAMP:20260424T040006
CREATED:20231006T142236Z
LAST-MODIFIED:20231006T145939Z
UID:10014649-1697396400-1697407200@www.goeldorado.com
SUMMARY:El Dorado Haunt
DESCRIPTION:A haunted walking trail. \nOpens nightly at 7pm until ???? \n$15 each \nVisit us at https://eldohaunt.com/ or on Facebook and Instagram for more details. \n 
URL:https://www.goeldorado.com/event/el-dorado-haunt-2/2023-10-15/
LOCATION:Camp Wotapi\, 4100 Wotapi Dr\, El Dorado\, AR\, 71730\, United States
CATEGORIES:Clubs/Organizations,Community,Festivals & Celebrations,Holiday
ATTACH;FMTTYPE=image/jpeg:https://www.goeldorado.com/wp-content/uploads/2023/10/haunt-calendar-2023.jpg
ORGANIZER;CN="Campfire El Dorado":MAILTO:campfire@suddenlinkmail.com
END:VEVENT
END:VCALENDAR