BEGIN:VCALENDAR
VERSION:2.0
PRODID:-//El Dorado, Arkansas - ECPv6.15.20//NONSGML v1.0//EN
CALSCALE:GREGORIAN
METHOD:PUBLISH
X-ORIGINAL-URL:https://www.goeldorado.com
X-WR-CALDESC:Events for El Dorado, Arkansas
REFRESH-INTERVAL;VALUE=DURATION:PT1H
X-Robots-Tag:noindex
X-PUBLISHED-TTL:PT1H
BEGIN:VTIMEZONE
TZID:America/Chicago
BEGIN:DAYLIGHT
TZOFFSETFROM:-0600
TZOFFSETTO:-0500
TZNAME:CDT
DTSTART:20220313T080000
END:DAYLIGHT
BEGIN:STANDARD
TZOFFSETFROM:-0500
TZOFFSETTO:-0600
TZNAME:CST
DTSTART:20221106T070000
END:STANDARD
BEGIN:DAYLIGHT
TZOFFSETFROM:-0600
TZOFFSETTO:-0500
TZNAME:CDT
DTSTART:20230312T080000
END:DAYLIGHT
BEGIN:STANDARD
TZOFFSETFROM:-0500
TZOFFSETTO:-0600
TZNAME:CST
DTSTART:20231105T070000
END:STANDARD
BEGIN:DAYLIGHT
TZOFFSETFROM:-0600
TZOFFSETTO:-0500
TZNAME:CDT
DTSTART:20240310T080000
END:DAYLIGHT
BEGIN:STANDARD
TZOFFSETFROM:-0500
TZOFFSETTO:-0600
TZNAME:CST
DTSTART:20241103T070000
END:STANDARD
END:VTIMEZONE
BEGIN:VEVENT
DTSTART;TZID=America/Chicago:20231202T080000
DTEND;TZID=America/Chicago:20231202T140000
DTSTAMP:20260425T052316
CREATED:20231127T161033Z
LAST-MODIFIED:20231127T161033Z
UID:10016580-1701504000-1701525600@www.goeldorado.com
SUMMARY:Christmas Craft Fair @ Healthworks
DESCRIPTION:
URL:https://www.goeldorado.com/event/christmas-craft-fair-healthworks/
LOCATION:HealthWorks Fitness Center\, 304 N. Madison\, El Dorado\, AR\, 71730
CATEGORIES:Community,Family and Children,Holiday
ATTACH;FMTTYPE=image/jpeg:https://www.goeldorado.com/wp-content/uploads/2023/11/HFC_Christmas_Craft_Fair_TV.jpg
END:VEVENT
BEGIN:VEVENT
DTSTART;TZID=America/Chicago:20231202T140000
DTEND;TZID=America/Chicago:20231202T170000
DTSTAMP:20260425T052316
CREATED:20231109T222013Z
LAST-MODIFIED:20231109T222013Z
UID:10016574-1701525600-1701536400@www.goeldorado.com
SUMMARY:Oh what fun it is to...see Santa Clause in Downtown El Dorado
DESCRIPTION:
URL:https://www.goeldorado.com/event/oh-what-fun-it-is-to-see-santa-clause-in-downtown-el-dorado/
LOCATION:All About Flowers\, 106 E Elm\, El Dorado\, AR\, 71730\, United States
CATEGORIES:Business,Community,Family and Children,Festivals & Celebrations,Holiday
ATTACH;FMTTYPE=image/jpeg:https://www.goeldorado.com/wp-content/uploads/2023/11/400375190_661231859480793_8417837147684095786_n.jpg
END:VEVENT
BEGIN:VEVENT
DTSTART;TZID=America/Chicago:20231202T170000
DTEND;TZID=America/Chicago:20231202T213000
DTSTAMP:20260425T052316
CREATED:20230123T171108Z
LAST-MODIFIED:20230123T171108Z
UID:10011039-1701536400-1701552600@www.goeldorado.com
SUMMARY:Bingo @ The VFW
DESCRIPTION:The VFW will be hosting BINGO! Every Saturday night. \nQuarter Bingo starts at 5pm \nRegular Bingo starts at 7pm
URL:https://www.goeldorado.com/event/bingo-the-vfw/2023-12-02/
LOCATION:VFW\, 451 Industrial Rd\, El Dorado\, AR\, 71730\, United States
CATEGORIES:Clubs/Organizations,Community,Recreation & Sports
END:VEVENT
BEGIN:VEVENT
DTSTART;TZID=America/Chicago:20231202T173000
DTEND;TZID=America/Chicago:20231202T203000
DTSTAMP:20260425T052316
CREATED:20231107T172204Z
LAST-MODIFIED:20231107T172204Z
UID:10016285-1701538200-1701549000@www.goeldorado.com
SUMMARY:Holiday Lights Extravaganza @ Natural Resource Museum
DESCRIPTION:$10 a car load \nThis is a must see lighting display
URL:https://www.goeldorado.com/event/holiday-lights-extravaganza-natural-resource-museum-3/2023-12-02/
LOCATION:Arkansas Museum of Natural Resources\, 4087 Smackover Hwy\, Smackover\, AR\, 71730\, United States
CATEGORIES:Arts & Culture,Community,Family and Children,Festivals & Celebrations,Holiday
END:VEVENT
BEGIN:VEVENT
DTSTART;TZID=America/Chicago:20231202T190000
DTEND;TZID=America/Chicago:20231202T210000
DTSTAMP:20260425T052316
CREATED:20230815T212002Z
LAST-MODIFIED:20230815T212019Z
UID:10014508-1701543600-1701550800@www.goeldorado.com
SUMMARY:Community Christmas with the South Arkansas Symphony
DESCRIPTION:Gary and Beth Mauer will be preforming with the South Arkansas Symphony bringing joy to El Dorado. Gary Bauer performed with in with the Symphony for the 3 Phantoms in Concert last year. The El Dorado\, Magnolia\, and Smackover High School choirs will be joining with Holiday music.
URL:https://www.goeldorado.com/event/community-christmas-with-the-south-arkansas-symphony/
LOCATION:El Dorado Municipal Auditorium\, El Dorado\, AR\, 71730\, United States
CATEGORIES:Arts & Culture,Community,Family and Children
END:VEVENT
BEGIN:VEVENT
DTSTART;TZID=America/Chicago:20231202T210000
DTEND;TZID=America/Chicago:20231202T230000
DTSTAMP:20260425T052316
CREATED:20231128T222654Z
LAST-MODIFIED:20231128T222654Z
UID:10016585-1701550800-1701558000@www.goeldorado.com
SUMMARY:Boomer Hill Band LIVE @ Hills Pool Hall + Makeshift Tapedeck
DESCRIPTION:
URL:https://www.goeldorado.com/event/boomer-hill-band-live-hills-pool-hall-makeshift-tapedeck/
LOCATION:Hills pool Hall\, 205 E Cedar St\, El Dorado\, AR\, 71730\, United States
CATEGORIES:Community,Live Music
ATTACH;FMTTYPE=image/jpeg:https://www.goeldorado.com/wp-content/uploads/2023/11/403725139_1015810059584005_3612743510166381170_n.jpg
END:VEVENT
END:VCALENDAR