BEGIN:VCALENDAR
VERSION:2.0
PRODID:-//El Dorado, Arkansas - ECPv6.15.20//NONSGML v1.0//EN
CALSCALE:GREGORIAN
METHOD:PUBLISH
X-WR-CALNAME:El Dorado, Arkansas
X-ORIGINAL-URL:https://www.goeldorado.com
X-WR-CALDESC:Events for El Dorado, Arkansas
REFRESH-INTERVAL;VALUE=DURATION:PT1H
X-Robots-Tag:noindex
X-PUBLISHED-TTL:PT1H
BEGIN:VTIMEZONE
TZID:America/Chicago
BEGIN:DAYLIGHT
TZOFFSETFROM:-0600
TZOFFSETTO:-0500
TZNAME:CDT
DTSTART:20220313T080000
END:DAYLIGHT
BEGIN:STANDARD
TZOFFSETFROM:-0500
TZOFFSETTO:-0600
TZNAME:CST
DTSTART:20221106T070000
END:STANDARD
BEGIN:DAYLIGHT
TZOFFSETFROM:-0600
TZOFFSETTO:-0500
TZNAME:CDT
DTSTART:20230312T080000
END:DAYLIGHT
BEGIN:STANDARD
TZOFFSETFROM:-0500
TZOFFSETTO:-0600
TZNAME:CST
DTSTART:20231105T070000
END:STANDARD
BEGIN:DAYLIGHT
TZOFFSETFROM:-0600
TZOFFSETTO:-0500
TZNAME:CDT
DTSTART:20240310T080000
END:DAYLIGHT
BEGIN:STANDARD
TZOFFSETFROM:-0500
TZOFFSETTO:-0600
TZNAME:CST
DTSTART:20241103T070000
END:STANDARD
END:VTIMEZONE
BEGIN:VEVENT
DTSTART;TZID=America/Chicago:20231230T160000
DTEND;TZID=America/Chicago:20231230T200000
DTSTAMP:20260424T101529
CREATED:20230628T143043Z
LAST-MODIFIED:20230628T143043Z
UID:10014419-1703952000-1703966400@www.goeldorado.com
SUMMARY:Cruise Night Car Show
DESCRIPTION:
URL:https://www.goeldorado.com/event/cruise-night-car-show/2023-12-30/
LOCATION:Downtown El Dorado\, 101 N. Washington\, El Dorado\, AR\, 71730
CATEGORIES:Clubs/Organizations,Community,Family and Children
ATTACH;FMTTYPE=image/jpeg:https://www.goeldorado.com/wp-content/uploads/2023/06/292313811_354253066884080_3925772226374212086_n.jpg
ORGANIZER;CN="Joe":MAILTO:jjsgourmetbbq@msn.com
END:VEVENT
BEGIN:VEVENT
DTSTART;TZID=America/Chicago:20231230T170000
DTEND;TZID=America/Chicago:20231230T200000
DTSTAMP:20260424T101529
CREATED:20231222T164310Z
LAST-MODIFIED:20231222T164310Z
UID:10017743-1703955600-1703966400@www.goeldorado.com
SUMMARY:Trail of Light @ Murphy Arts District
DESCRIPTION:
URL:https://www.goeldorado.com/event/trail-of-light-murphy-arts-district/2023-12-30/
LOCATION:Murphy Arts District\, 101 E. Locust Street\, El Dorado\, AR\, 71730\, United States
CATEGORIES:Community,Family and Children,Festivals & Celebrations,Holiday
ATTACH;FMTTYPE=image/jpeg:https://www.goeldorado.com/wp-content/uploads/2023/12/411494745_386683217066681_534126764938969262_n.jpg
END:VEVENT
BEGIN:VEVENT
DTSTART;TZID=America/Chicago:20231230T170000
DTEND;TZID=America/Chicago:20231230T213000
DTSTAMP:20260424T101529
CREATED:20230123T171108Z
LAST-MODIFIED:20230123T171108Z
UID:10011043-1703955600-1703971800@www.goeldorado.com
SUMMARY:Bingo @ The VFW
DESCRIPTION:The VFW will be hosting BINGO! Every Saturday night. \nQuarter Bingo starts at 5pm \nRegular Bingo starts at 7pm
URL:https://www.goeldorado.com/event/bingo-the-vfw/2023-12-30/
LOCATION:VFW\, 451 Industrial Rd\, El Dorado\, AR\, 71730\, United States
CATEGORIES:Clubs/Organizations,Community,Recreation & Sports
END:VEVENT
BEGIN:VEVENT
DTSTART;TZID=America/Chicago:20231230T200000
DTEND;TZID=America/Chicago:20231230T220000
DTSTAMP:20260424T101529
CREATED:20231222T163350Z
LAST-MODIFIED:20231222T163350Z
UID:10017733-1703966400-1703973600@www.goeldorado.com
SUMMARY:Blake Anglin LIVE @ PJ's Coffee
DESCRIPTION:
URL:https://www.goeldorado.com/event/blake-anglin-live-pjs-coffee-2/
LOCATION:PJ’s Coffee Shop El Dorado\, 106 W Main\, El Dorado\, AR\, 71730\, United States
CATEGORIES:Live Music
END:VEVENT
END:VCALENDAR