BEGIN:VCALENDAR
VERSION:2.0
PRODID:-//El Dorado, Arkansas - ECPv6.15.20//NONSGML v1.0//EN
CALSCALE:GREGORIAN
METHOD:PUBLISH
X-WR-CALNAME:El Dorado, Arkansas
X-ORIGINAL-URL:https://www.goeldorado.com
X-WR-CALDESC:Events for El Dorado, Arkansas
REFRESH-INTERVAL;VALUE=DURATION:PT1H
X-Robots-Tag:noindex
X-PUBLISHED-TTL:PT1H
BEGIN:VTIMEZONE
TZID:America/Chicago
BEGIN:DAYLIGHT
TZOFFSETFROM:-0600
TZOFFSETTO:-0500
TZNAME:CDT
DTSTART:20230312T080000
END:DAYLIGHT
BEGIN:STANDARD
TZOFFSETFROM:-0500
TZOFFSETTO:-0600
TZNAME:CST
DTSTART:20231105T070000
END:STANDARD
BEGIN:DAYLIGHT
TZOFFSETFROM:-0600
TZOFFSETTO:-0500
TZNAME:CDT
DTSTART:20240310T080000
END:DAYLIGHT
BEGIN:STANDARD
TZOFFSETFROM:-0500
TZOFFSETTO:-0600
TZNAME:CST
DTSTART:20241103T070000
END:STANDARD
BEGIN:DAYLIGHT
TZOFFSETFROM:-0600
TZOFFSETTO:-0500
TZNAME:CDT
DTSTART:20250309T080000
END:DAYLIGHT
BEGIN:STANDARD
TZOFFSETFROM:-0500
TZOFFSETTO:-0600
TZNAME:CST
DTSTART:20251102T070000
END:STANDARD
END:VTIMEZONE
BEGIN:VEVENT
DTSTART;TZID=America/Chicago:20240303T110000
DTEND;TZID=America/Chicago:20240303T130000
DTSTAMP:20260424T112746
CREATED:20240227T151812Z
LAST-MODIFIED:20240227T151812Z
UID:10018682-1709463600-1709470800@www.goeldorado.com
SUMMARY:Harvey's Garden Party Brunch @SAAC
DESCRIPTION:
URL:https://www.goeldorado.com/event/harveys-garden-party-brunch-saac/
LOCATION:South Arkansas Arts Center
CATEGORIES:Arts & Culture,Community
ATTACH;FMTTYPE=image/jpeg:https://www.goeldorado.com/wp-content/uploads/2024/02/harvey-garden-party.jpg
END:VEVENT
BEGIN:VEVENT
DTSTART;TZID=America/Chicago:20240303T110600
DTEND;TZID=America/Chicago:20240307T090300
DTSTAMP:20260424T112746
CREATED:20240111T024728Z
LAST-MODIFIED:20240112T155058Z
UID:10017768-1709463960-1709802180@www.goeldorado.com
SUMMARY:Rhea Lana's of El Dorado
DESCRIPTION:Discover Rhea Lana’s of El Dorado: South Arkansas’ Largest Consignment Event with 80\,000+ Items\, Including Newborn to High School Sizes\, Toys\, Furniture\, Maternity & More. Enjoy Savings of 60-90% Off Retail Prices and Join Our Vibrant Community Event. Expecting Moms\, Shop for Your Little Ones Too! Don’t Miss this Limited-Time Awesome Marketplace! We are only here for a few days.
URL:https://www.goeldorado.com/event/rhea-lanas-of-el-dorado-7/
LOCATION:Mellor Park Mall\, 1865 N West Ave\, El Dorado\, 71730\, United States
CATEGORIES:Community,Family and Children
ATTACH;FMTTYPE=image/jpeg:https://www.goeldorado.com/wp-content/uploads/2024/01/Clothing.jpg
END:VEVENT
BEGIN:VEVENT
DTSTART;TZID=America/Chicago:20240303T143000
DTEND;TZID=America/Chicago:20240303T170000
DTSTAMP:20260424T112746
CREATED:20240130T211147Z
LAST-MODIFIED:20240130T211147Z
UID:10018214-1709476200-1709485200@www.goeldorado.com
SUMMARY:Harvey: South Arkansas Arts Center Spring Production
DESCRIPTION:
URL:https://www.goeldorado.com/event/harvey-south-arkansas-arts-center-spring-production/
LOCATION:South Arkansas Arts Center
CATEGORIES:Arts & Culture,Community,Family and Children
END:VEVENT
END:VCALENDAR