BEGIN:VCALENDAR
VERSION:2.0
PRODID:-//El Dorado, Arkansas - ECPv6.15.20//NONSGML v1.0//EN
CALSCALE:GREGORIAN
METHOD:PUBLISH
X-ORIGINAL-URL:https://www.goeldorado.com
X-WR-CALDESC:Events for El Dorado, Arkansas
REFRESH-INTERVAL;VALUE=DURATION:PT1H
X-Robots-Tag:noindex
X-PUBLISHED-TTL:PT1H
BEGIN:VTIMEZONE
TZID:America/Chicago
BEGIN:DAYLIGHT
TZOFFSETFROM:-0600
TZOFFSETTO:-0500
TZNAME:CDT
DTSTART:20230312T080000
END:DAYLIGHT
BEGIN:STANDARD
TZOFFSETFROM:-0500
TZOFFSETTO:-0600
TZNAME:CST
DTSTART:20231105T070000
END:STANDARD
BEGIN:DAYLIGHT
TZOFFSETFROM:-0600
TZOFFSETTO:-0500
TZNAME:CDT
DTSTART:20240310T080000
END:DAYLIGHT
BEGIN:STANDARD
TZOFFSETFROM:-0500
TZOFFSETTO:-0600
TZNAME:CST
DTSTART:20241103T070000
END:STANDARD
BEGIN:DAYLIGHT
TZOFFSETFROM:-0600
TZOFFSETTO:-0500
TZNAME:CDT
DTSTART:20250309T080000
END:DAYLIGHT
BEGIN:STANDARD
TZOFFSETFROM:-0500
TZOFFSETTO:-0600
TZNAME:CST
DTSTART:20251102T070000
END:STANDARD
END:VTIMEZONE
BEGIN:VEVENT
DTSTART;VALUE=DATE:20240304
DTEND;VALUE=DATE:20240414
DTSTAMP:20260424T080406
CREATED:20240304T222559Z
LAST-MODIFIED:20240304T222559Z
UID:10018694-1709510400-1713052799@www.goeldorado.com
SUMMARY:Friends of Barton Library Book Sale
DESCRIPTION:
URL:https://www.goeldorado.com/event/friends-of-barton-library-book-sale/
LOCATION:Barton Library\, 200 E 5th\, El Dorado\, AR\, 71730\, United States
CATEGORIES:Community,Family and Children
ATTACH;FMTTYPE=image/png:https://www.goeldorado.com/wp-content/uploads/2024/03/2.png
ORGANIZER;CN="Barton Library":MAILTO:eldorado@ucpls.org
END:VEVENT
BEGIN:VEVENT
DTSTART;TZID=America/Chicago:20240314T110000
DTEND;TZID=America/Chicago:20240314T113000
DTSTAMP:20260424T080406
CREATED:20240118T163710Z
LAST-MODIFIED:20240220T165526Z
UID:10017774-1710414000-1710415800@www.goeldorado.com
SUMMARY:Ribbon Cutting: Newhaven Medical Clinic
DESCRIPTION:
URL:https://www.goeldorado.com/event/ribbon-cutting-newhaven-medical-clinic/
LOCATION:Newhaven Medical Clinic\, 750 N Flenniken Ave\, El Dorado\, AR\, 71730
CATEGORIES:Chamber Of Commerce,Community
ATTACH;FMTTYPE=image/png:https://www.goeldorado.com/wp-content/uploads/2024/01/Grand-Opening-Ribbon-Cutting-29.png
END:VEVENT
BEGIN:VEVENT
DTSTART;TZID=America/Chicago:20240314T170000
DTEND;TZID=America/Chicago:20240314T180000
DTSTAMP:20260424T080406
CREATED:20220809T212644Z
LAST-MODIFIED:20220816T204808Z
UID:10009504-1710435600-1710439200@www.goeldorado.com
SUMMARY:El Dorado City Council Meeting
DESCRIPTION:The City of El Dorado’s City Council meeting to discuss city business. Meeting is open to the public. To be placed on the agenda contact the Mayor’s office or your local Alderman. 
URL:https://www.goeldorado.com/event/el-dorado-city-council-meeting/2024-03-14/
LOCATION:AR
CATEGORIES:Community,Government
END:VEVENT
END:VCALENDAR