BEGIN:VCALENDAR
VERSION:2.0
PRODID:-//El Dorado, Arkansas - ECPv6.15.20//NONSGML v1.0//EN
CALSCALE:GREGORIAN
METHOD:PUBLISH
X-WR-CALNAME:El Dorado, Arkansas
X-ORIGINAL-URL:https://www.goeldorado.com
X-WR-CALDESC:Events for El Dorado, Arkansas
REFRESH-INTERVAL;VALUE=DURATION:PT1H
X-Robots-Tag:noindex
X-PUBLISHED-TTL:PT1H
BEGIN:VTIMEZONE
TZID:America/Chicago
BEGIN:DAYLIGHT
TZOFFSETFROM:-0600
TZOFFSETTO:-0500
TZNAME:CDT
DTSTART:20230312T080000
END:DAYLIGHT
BEGIN:STANDARD
TZOFFSETFROM:-0500
TZOFFSETTO:-0600
TZNAME:CST
DTSTART:20231105T070000
END:STANDARD
BEGIN:DAYLIGHT
TZOFFSETFROM:-0600
TZOFFSETTO:-0500
TZNAME:CDT
DTSTART:20240310T080000
END:DAYLIGHT
BEGIN:STANDARD
TZOFFSETFROM:-0500
TZOFFSETTO:-0600
TZNAME:CST
DTSTART:20241103T070000
END:STANDARD
BEGIN:DAYLIGHT
TZOFFSETFROM:-0600
TZOFFSETTO:-0500
TZNAME:CDT
DTSTART:20250309T080000
END:DAYLIGHT
BEGIN:STANDARD
TZOFFSETFROM:-0500
TZOFFSETTO:-0600
TZNAME:CST
DTSTART:20251102T070000
END:STANDARD
END:VTIMEZONE
BEGIN:VEVENT
DTSTART;VALUE=DATE:20240304
DTEND;VALUE=DATE:20240414
DTSTAMP:20260422T184208
CREATED:20240304T222559Z
LAST-MODIFIED:20240304T222559Z
UID:10018694-1709510400-1713052799@www.goeldorado.com
SUMMARY:Friends of Barton Library Book Sale
DESCRIPTION:
URL:https://www.goeldorado.com/event/friends-of-barton-library-book-sale/
LOCATION:Barton Library\, 200 E 5th\, El Dorado\, AR\, 71730\, United States
CATEGORIES:Community,Family and Children
ATTACH;FMTTYPE=image/png:https://www.goeldorado.com/wp-content/uploads/2024/03/2.png
ORGANIZER;CN="Barton Library":MAILTO:eldorado@ucpls.org
END:VEVENT
BEGIN:VEVENT
DTSTART;TZID=America/Chicago:20240320T100000
DTEND;TZID=America/Chicago:20240320T110000
DTSTAMP:20260422T184208
CREATED:20240318T181340Z
LAST-MODIFIED:20240318T192956Z
UID:10018713-1710928800-1710932400@www.goeldorado.com
SUMMARY:Spring into STEM!  @ The Museum
DESCRIPTION:  \nSpring into STEM!  Looking for fun activities to do during spring break? You are invited to join us at the Arkansas Museum of Natural Museum for Spring Tinkering. Discover our natural state’s oil boom science and history. Wednesday through Friday of Spring Break\, March 20 through 22\, we will have two classes per day\, 10:00 to 11:00 a.m. and 1:30 to 2:30 p.m. These free classes are for ages 4 and up (younger siblings welcome too) with a beginner or higher skill level. Registration is required. For more details and to register\, please contact Park Interpreter Paige Creed at (870) 725-2877 or paige.creed@arkansas.gov
URL:https://www.goeldorado.com/event/spring-into-stem-the-museum/
LOCATION:Arkansas Museum of Natural Resources\, 4087 Smackover Hwy\, Smackover\, AR\, 71730\, United States
CATEGORIES:Community,Education,Family and Children
ATTACH;FMTTYPE=image/jpeg:https://www.goeldorado.com/wp-content/uploads/2024/03/outside_museum_f.jpg
END:VEVENT
BEGIN:VEVENT
DTSTART;TZID=America/Chicago:20240320T110000
DTEND;TZID=America/Chicago:20240320T120000
DTSTAMP:20260422T184208
CREATED:20240318T193930Z
LAST-MODIFIED:20240318T193930Z
UID:10018722-1710932400-1710936000@www.goeldorado.com
SUMMARY:Spring Break @ MAD Playscape: Read a Book with South Ark Stars Baseball team
DESCRIPTION:
URL:https://www.goeldorado.com/event/spring-break-mad-playscape-read-a-book-with-south-ark-stars-baseball-team/
LOCATION:MAD Playscape\, 101 E Locust
CATEGORIES:Community,Family and Children
END:VEVENT
BEGIN:VEVENT
DTSTART;TZID=America/Chicago:20240320T150000
DTEND;TZID=America/Chicago:20240320T160000
DTSTAMP:20260422T184208
CREATED:20240318T195221Z
LAST-MODIFIED:20240318T195221Z
UID:10018723-1710946800-1710950400@www.goeldorado.com
SUMMARY:Spring Break @ Mad Playscape: South Arkansas Arts Center Kids Improv
DESCRIPTION:
URL:https://www.goeldorado.com/event/spring-break-mad-playscape-south-arkansas-arts-center-kids-improv/
LOCATION:MAD Playscape\, 101 E Locust
CATEGORIES:Community,Family and Children
END:VEVENT
END:VCALENDAR