BEGIN:VCALENDAR
VERSION:2.0
PRODID:-//El Dorado, Arkansas - ECPv6.15.20//NONSGML v1.0//EN
CALSCALE:GREGORIAN
METHOD:PUBLISH
X-WR-CALNAME:El Dorado, Arkansas
X-ORIGINAL-URL:https://www.goeldorado.com
X-WR-CALDESC:Events for El Dorado, Arkansas
REFRESH-INTERVAL;VALUE=DURATION:PT1H
X-Robots-Tag:noindex
X-PUBLISHED-TTL:PT1H
BEGIN:VTIMEZONE
TZID:America/Chicago
BEGIN:DAYLIGHT
TZOFFSETFROM:-0600
TZOFFSETTO:-0500
TZNAME:CDT
DTSTART:20230312T080000
END:DAYLIGHT
BEGIN:STANDARD
TZOFFSETFROM:-0500
TZOFFSETTO:-0600
TZNAME:CST
DTSTART:20231105T070000
END:STANDARD
BEGIN:DAYLIGHT
TZOFFSETFROM:-0600
TZOFFSETTO:-0500
TZNAME:CDT
DTSTART:20240310T080000
END:DAYLIGHT
BEGIN:STANDARD
TZOFFSETFROM:-0500
TZOFFSETTO:-0600
TZNAME:CST
DTSTART:20241103T070000
END:STANDARD
BEGIN:DAYLIGHT
TZOFFSETFROM:-0600
TZOFFSETTO:-0500
TZNAME:CDT
DTSTART:20250309T080000
END:DAYLIGHT
BEGIN:STANDARD
TZOFFSETFROM:-0500
TZOFFSETTO:-0600
TZNAME:CST
DTSTART:20251102T070000
END:STANDARD
END:VTIMEZONE
BEGIN:VEVENT
DTSTART;VALUE=DATE:20240304
DTEND;VALUE=DATE:20240414
DTSTAMP:20260422T215725
CREATED:20240304T222559Z
LAST-MODIFIED:20240304T222559Z
UID:10018694-1709510400-1713052799@www.goeldorado.com
SUMMARY:Friends of Barton Library Book Sale
DESCRIPTION:
URL:https://www.goeldorado.com/event/friends-of-barton-library-book-sale/
LOCATION:Barton Library\, 200 E 5th\, El Dorado\, AR\, 71730\, United States
CATEGORIES:Community,Family and Children
ATTACH;FMTTYPE=image/png:https://www.goeldorado.com/wp-content/uploads/2024/03/2.png
ORGANIZER;CN="Barton Library":MAILTO:eldorado@ucpls.org
END:VEVENT
BEGIN:VEVENT
DTSTART;TZID=America/Chicago:20240321T100000
DTEND;TZID=America/Chicago:20240321T110000
DTSTAMP:20260422T215725
CREATED:20240318T182452Z
LAST-MODIFIED:20240318T193036Z
UID:10018714-1711015200-1711018800@www.goeldorado.com
SUMMARY:Spring into STEM@ The Museum
DESCRIPTION:Spring into STEM!  Looking for fun activities to do during spring break? You are invited to join us at the Arkansas Museum of Natural Museum for Spring Tinkering. Discover our natural state’s oil boom science and history. Wednesday through Friday of Spring Break\, March 20 through 22\, we will have two classes per day\, 10:00 to 11:00 a.m. and 1:30 to 2:30 p.m. These free classes are for ages 4 and up (younger siblings welcome too) with a beginner or higher skill level. Registration is required. For more details and to register\, please contact Park Interpreter Paige Creed at (870) 725-2877 or paige.creed@arkansas.gov
URL:https://www.goeldorado.com/event/spring-into-stem-the-museum-2/
LOCATION:Arkansas Museum of Natural Resources\, 4087 Smackover Hwy\, Smackover\, AR\, 71730\, United States
CATEGORIES:Community,Education,Family and Children
ATTACH;FMTTYPE=image/png:https://www.goeldorado.com/wp-content/uploads/2024/03/Picture1.png
END:VEVENT
BEGIN:VEVENT
DTSTART;TZID=America/Chicago:20240321T110000
DTEND;TZID=America/Chicago:20240321T120000
DTSTAMP:20260422T215725
CREATED:20240318T195330Z
LAST-MODIFIED:20240318T195330Z
UID:10018724-1711018800-1711022400@www.goeldorado.com
SUMMARY:Spring Break @ MAD Playscape: Read a Book with US Army Officer
DESCRIPTION:
URL:https://www.goeldorado.com/event/spring-break-mad-playscape-read-a-book-with-us-army-officer/
LOCATION:MAD Playscape\, 101 E Locust
CATEGORIES:Community,Family and Children
END:VEVENT
BEGIN:VEVENT
DTSTART;TZID=America/Chicago:20240321T133000
DTEND;TZID=America/Chicago:20240321T143000
DTSTAMP:20260422T215725
CREATED:20240318T183245Z
LAST-MODIFIED:20240318T193054Z
UID:10018715-1711027800-1711031400@www.goeldorado.com
SUMMARY:Spring into STEM @ The Museum
DESCRIPTION:Spring into STEM!  Looking for fun activities to do during spring break? You are invited to join us at the Arkansas Museum of Natural Museum for Spring Tinkering. Discover our natural state’s oil boom science and history. Wednesday through Friday of Spring Break\, March 20 through 22\, we will have two classes per day\, 10:00 to 11:00 a.m. and 1:30 to 2:30 p.m. These free classes are for ages 4 and up (younger siblings welcome too) with a beginner or higher skill level. Registration is required. For more details and to register\, please contact Park Interpreter Paige Creed at (870) 725-2877 or paige.creed@arkansas.gov
URL:https://www.goeldorado.com/event/spring-into-stem-the-museum-3/
LOCATION:Arkansas Museum of Natural Resources\, 4087 Smackover Hwy\, Smackover\, AR\, 71730\, United States
CATEGORIES:Community,Family and Children,Schools
ATTACH;FMTTYPE=image/png:https://www.goeldorado.com/wp-content/uploads/2024/03/Picture11.png
END:VEVENT
BEGIN:VEVENT
DTSTART;TZID=America/Chicago:20240321T150000
DTEND;TZID=America/Chicago:20240321T160000
DTSTAMP:20260422T215725
CREATED:20240318T195433Z
LAST-MODIFIED:20240318T195433Z
UID:10018725-1711033200-1711036800@www.goeldorado.com
SUMMARY:Spring Break @ MAD Playscape: Meet our First Responders
DESCRIPTION:
URL:https://www.goeldorado.com/event/spring-break-mad-playscape-meet-our-first-responders/
LOCATION:MAD Playscape\, 101 E Locust
CATEGORIES:Community,Family and Children
END:VEVENT
BEGIN:VEVENT
DTSTART;TZID=America/Chicago:20240321T171500
DTEND;TZID=America/Chicago:20240321T180000
DTSTAMP:20260422T215726
CREATED:20240318T195544Z
LAST-MODIFIED:20240318T195544Z
UID:10018726-1711041300-1711044000@www.goeldorado.com
SUMMARY:Spring Break @ MAD Playscape: Hop\, Skip\, Jump w/ Healthworks Fitness
DESCRIPTION:
URL:https://www.goeldorado.com/event/spring-break-mad-playscape-hop-skip-jump-w-healthworks-fitness/
LOCATION:MAD Playscape\, 101 E Locust
CATEGORIES:Community,Family and Children
END:VEVENT
BEGIN:VEVENT
DTSTART;TZID=America/Chicago:20240321T200000
DTEND;TZID=America/Chicago:20240321T220000
DTSTAMP:20260422T215726
CREATED:20240318T193457Z
LAST-MODIFIED:20240318T193457Z
UID:10018719-1711051200-1711058400@www.goeldorado.com
SUMMARY:Mad Hatters Dueling Pianos LIVE at Mad House 101
DESCRIPTION:
URL:https://www.goeldorado.com/event/mad-hatters-dueling-pianos-live-at-mad-house-101/
LOCATION:MAD House 101 Restuarant and Bar\, 101 E Locust\, El Dorado\, AR\, 71730\, United States
CATEGORIES:Live Music
ATTACH;FMTTYPE=image/jpeg:https://www.goeldorado.com/wp-content/uploads/2024/03/431014641_427457842989218_8473027096874187292_n.jpg
END:VEVENT
END:VCALENDAR