BEGIN:VCALENDAR
VERSION:2.0
PRODID:-//El Dorado, Arkansas - ECPv6.15.20//NONSGML v1.0//EN
CALSCALE:GREGORIAN
METHOD:PUBLISH
X-WR-CALNAME:El Dorado, Arkansas
X-ORIGINAL-URL:https://www.goeldorado.com
X-WR-CALDESC:Events for El Dorado, Arkansas
REFRESH-INTERVAL;VALUE=DURATION:PT1H
X-Robots-Tag:noindex
X-PUBLISHED-TTL:PT1H
BEGIN:VTIMEZONE
TZID:America/Chicago
BEGIN:DAYLIGHT
TZOFFSETFROM:-0600
TZOFFSETTO:-0500
TZNAME:CDT
DTSTART:20230312T080000
END:DAYLIGHT
BEGIN:STANDARD
TZOFFSETFROM:-0500
TZOFFSETTO:-0600
TZNAME:CST
DTSTART:20231105T070000
END:STANDARD
BEGIN:DAYLIGHT
TZOFFSETFROM:-0600
TZOFFSETTO:-0500
TZNAME:CDT
DTSTART:20240310T080000
END:DAYLIGHT
BEGIN:STANDARD
TZOFFSETFROM:-0500
TZOFFSETTO:-0600
TZNAME:CST
DTSTART:20241103T070000
END:STANDARD
BEGIN:DAYLIGHT
TZOFFSETFROM:-0600
TZOFFSETTO:-0500
TZNAME:CDT
DTSTART:20250309T080000
END:DAYLIGHT
BEGIN:STANDARD
TZOFFSETFROM:-0500
TZOFFSETTO:-0600
TZNAME:CST
DTSTART:20251102T070000
END:STANDARD
END:VTIMEZONE
BEGIN:VEVENT
DTSTART;VALUE=DATE:20240304
DTEND;VALUE=DATE:20240414
DTSTAMP:20260424T112629
CREATED:20240304T222559Z
LAST-MODIFIED:20240304T222559Z
UID:10018694-1709510400-1713052799@www.goeldorado.com
SUMMARY:Friends of Barton Library Book Sale
DESCRIPTION:
URL:https://www.goeldorado.com/event/friends-of-barton-library-book-sale/
LOCATION:Barton Library\, 200 E 5th\, El Dorado\, AR\, 71730\, United States
CATEGORIES:Community,Family and Children
ATTACH;FMTTYPE=image/png:https://www.goeldorado.com/wp-content/uploads/2024/03/2.png
ORGANIZER;CN="Barton Library":MAILTO:eldorado@ucpls.org
END:VEVENT
BEGIN:VEVENT
DTSTART;TZID=America/Chicago:20240322T100000
DTEND;TZID=America/Chicago:20240322T110000
DTSTAMP:20260424T112629
CREATED:20240318T183602Z
LAST-MODIFIED:20240318T193110Z
UID:10018716-1711101600-1711105200@www.goeldorado.com
SUMMARY:Spring into STEM @ The Museum
DESCRIPTION:Spring into STEM!  Looking for fun activities to do during spring break? You are invited to join us at the Arkansas Museum of Natural Museum for Spring Tinkering. Discover our natural state’s oil boom science and history. Wednesday through Friday of Spring Break\, March 20 through 22\, we will have two classes per day\, 10:00 to 11:00 a.m. and 1:30 to 2:30 p.m. These free classes are for ages 4 and up (younger siblings welcome too) with a beginner or higher skill level. Registration is required. For more details and to register\, please contact Park Interpreter Paige Creed at (870) 725-2877 or paige.creed@arkansas.gov
URL:https://www.goeldorado.com/event/spring-into-stem-the-museum-4/
LOCATION:Arkansas Museum of Natural Resources\, 4087 Smackover Hwy\, Smackover\, AR\, 71730\, United States
CATEGORIES:Education,Family and Children,Schools
ATTACH;FMTTYPE=image/jpeg:https://www.goeldorado.com/wp-content/uploads/2024/03/AMNR-LOGO.jpg
END:VEVENT
BEGIN:VEVENT
DTSTART;TZID=America/Chicago:20240322T110000
DTEND;TZID=America/Chicago:20240322T120000
DTSTAMP:20260424T112629
CREATED:20240318T195648Z
LAST-MODIFIED:20240318T195648Z
UID:10018727-1711105200-1711108800@www.goeldorado.com
SUMMARY:Spring Break @ MAD Playscape: Read a book with a Community Health Nurse & UCAPS
DESCRIPTION:
URL:https://www.goeldorado.com/event/spring-break-mad-playscape-read-a-book-with-a-community-health-nurse-ucaps/
LOCATION:MAD Playscape\, 101 E Locust
CATEGORIES:Community,Family and Children
END:VEVENT
BEGIN:VEVENT
DTSTART;TZID=America/Chicago:20240322T131300
DTEND;TZID=America/Chicago:20240322T143000
DTSTAMP:20260424T112629
CREATED:20240318T183846Z
LAST-MODIFIED:20240318T193131Z
UID:10018717-1711113180-1711117800@www.goeldorado.com
SUMMARY:Spring into STEM @ The Museum
DESCRIPTION:Spring into STEM!  Looking for fun activities to do during spring break? You are invited to join us at the Arkansas Museum of Natural Museum for Spring Tinkering. Discover our natural state’s oil boom science and history. Wednesday through Friday of Spring Break\, March 20 through 22\, we will have two classes per day\, 10:00 to 11:00 a.m. and 1:30 to 2:30 p.m. These free classes are for ages 4 and up (younger siblings welcome too) with a beginner or higher skill level. Registration is required. For more details and to register\, please contact Park Interpreter Paige Creed at (870) 725-2877 or paige.creed@arkansas.gov
URL:https://www.goeldorado.com/event/spring-into-stem-the-museum-5/
LOCATION:Arkansas Museum of Natural Resources\, 4087 Smackover Hwy\, Smackover\, AR\, 71730\, United States
CATEGORIES:Education,Family and Children,Schools
ATTACH;FMTTYPE=image/jpeg:https://www.goeldorado.com/wp-content/uploads/2024/03/GAS-PUMPS.jpg
END:VEVENT
BEGIN:VEVENT
DTSTART;TZID=America/Chicago:20240322T150000
DTEND;TZID=America/Chicago:20240322T160000
DTSTAMP:20260424T112629
CREATED:20240318T195745Z
LAST-MODIFIED:20240318T195745Z
UID:10018728-1711119600-1711123200@www.goeldorado.com
SUMMARY:Spring Break @ MAD Playscape: Learn a dance with Young Artist Studio
DESCRIPTION:
URL:https://www.goeldorado.com/event/spring-break-mad-playscape-learn-a-dance-with-young-artist-studio/
LOCATION:MAD Playscape\, 101 E Locust
CATEGORIES:Community,Family and Children
END:VEVENT
BEGIN:VEVENT
DTSTART;TZID=America/Chicago:20240322T190000
DTEND;TZID=America/Chicago:20240322T200000
DTSTAMP:20260424T112629
CREATED:20240318T200047Z
LAST-MODIFIED:20240318T200414Z
UID:10018729-1711134000-1711137600@www.goeldorado.com
SUMMARY:Spring Break @ MAD playscape: KIDS GLOW DANCE PARTY WITH DJ JAYO
DESCRIPTION:
URL:https://www.goeldorado.com/event/spring-break-mad-playscape-kids-glow-dance-party-with-dj-jayo/
LOCATION:MAD Playscape\, 101 E Locust
CATEGORIES:Community,Family and Children
END:VEVENT
BEGIN:VEVENT
DTSTART;TZID=America/Chicago:20240322T210000
DTEND;TZID=America/Chicago:20240322T230000
DTSTAMP:20260424T112629
CREATED:20240311T161506Z
LAST-MODIFIED:20240311T161506Z
UID:10018705-1711141200-1711148400@www.goeldorado.com
SUMMARY:Lucas Vines LIVE at The Mink Eye
DESCRIPTION:
URL:https://www.goeldorado.com/event/lucas-vines-live-at-the-mink-eye/
LOCATION:The Mink Eye\, 117 Main st\, El Dorado\, AR\, 71730\, United States
CATEGORIES:Live Music
ATTACH;FMTTYPE=image/jpeg:https://www.goeldorado.com/wp-content/uploads/2024/03/430091876_927026342764139_6205118939260027782_n.jpg
END:VEVENT
BEGIN:VEVENT
DTSTART;TZID=America/Chicago:20240322T210000
DTEND;TZID=America/Chicago:20240322T230000
DTSTAMP:20260424T112629
CREATED:20240318T193314Z
LAST-MODIFIED:20240318T193314Z
UID:10018718-1711141200-1711148400@www.goeldorado.com
SUMMARY:Lucas Vines LIVE at The Mink Eye
DESCRIPTION:
URL:https://www.goeldorado.com/event/lucas-vines-live-at-the-mink-eye-2/
LOCATION:The Mink Eye\, 117 Main st\, El Dorado\, AR\, 71730\, United States
CATEGORIES:Live Music
ATTACH;FMTTYPE=image/jpeg:https://www.goeldorado.com/wp-content/uploads/2024/03/430091876_927026342764139_6205118939260027782_n-1.jpg
END:VEVENT
END:VCALENDAR