BEGIN:VCALENDAR
VERSION:2.0
PRODID:-//El Dorado, Arkansas - ECPv6.15.20//NONSGML v1.0//EN
CALSCALE:GREGORIAN
METHOD:PUBLISH
X-WR-CALNAME:El Dorado, Arkansas
X-ORIGINAL-URL:https://www.goeldorado.com
X-WR-CALDESC:Events for El Dorado, Arkansas
REFRESH-INTERVAL;VALUE=DURATION:PT1H
X-Robots-Tag:noindex
X-PUBLISHED-TTL:PT1H
BEGIN:VTIMEZONE
TZID:America/Chicago
BEGIN:DAYLIGHT
TZOFFSETFROM:-0600
TZOFFSETTO:-0500
TZNAME:CDT
DTSTART:20230312T080000
END:DAYLIGHT
BEGIN:STANDARD
TZOFFSETFROM:-0500
TZOFFSETTO:-0600
TZNAME:CST
DTSTART:20231105T070000
END:STANDARD
BEGIN:DAYLIGHT
TZOFFSETFROM:-0600
TZOFFSETTO:-0500
TZNAME:CDT
DTSTART:20240310T080000
END:DAYLIGHT
BEGIN:STANDARD
TZOFFSETFROM:-0500
TZOFFSETTO:-0600
TZNAME:CST
DTSTART:20241103T070000
END:STANDARD
BEGIN:DAYLIGHT
TZOFFSETFROM:-0600
TZOFFSETTO:-0500
TZNAME:CDT
DTSTART:20250309T080000
END:DAYLIGHT
BEGIN:STANDARD
TZOFFSETFROM:-0500
TZOFFSETTO:-0600
TZNAME:CST
DTSTART:20251102T070000
END:STANDARD
END:VTIMEZONE
BEGIN:VEVENT
DTSTART;VALUE=DATE:20240304
DTEND;VALUE=DATE:20240414
DTSTAMP:20260424T112524
CREATED:20240304T222559Z
LAST-MODIFIED:20240304T222559Z
UID:10018694-1709510400-1713052799@www.goeldorado.com
SUMMARY:Friends of Barton Library Book Sale
DESCRIPTION:
URL:https://www.goeldorado.com/event/friends-of-barton-library-book-sale/
LOCATION:Barton Library\, 200 E 5th\, El Dorado\, AR\, 71730\, United States
CATEGORIES:Community,Family and Children
ATTACH;FMTTYPE=image/png:https://www.goeldorado.com/wp-content/uploads/2024/03/2.png
ORGANIZER;CN="Barton Library":MAILTO:eldorado@ucpls.org
END:VEVENT
BEGIN:VEVENT
DTSTART;TZID=America/Chicago:20240327T120000
DTEND;TZID=America/Chicago:20240327T130000
DTSTAMP:20260424T112524
CREATED:20240318T201100Z
LAST-MODIFIED:20240318T201100Z
UID:10018732-1711540800-1711544400@www.goeldorado.com
SUMMARY:Ecumenical Holy Week Worship Services
DESCRIPTION:
URL:https://www.goeldorado.com/event/ecumenical-holy-week-worship-services-3/
LOCATION:First United Methodist Church\, 201 S Hill\, El Dorado\, AR\, 71730
CATEGORIES:Community,Holiday
END:VEVENT
BEGIN:VEVENT
DTSTART;TZID=America/Chicago:20240327T130000
DTEND;TZID=America/Chicago:20240327T140000
DTSTAMP:20260424T112524
CREATED:20240325T164940Z
LAST-MODIFIED:20240325T164940Z
UID:10018747-1711544400-1711548000@www.goeldorado.com
SUMMARY:Ribbon Cutting-UAMS Family Medical Clinic
DESCRIPTION:
URL:https://www.goeldorado.com/event/ribbon-cutting-uams-family-medical-clinic/
LOCATION:UAMS Family Medical Clinic\, 620 W Grove #202\, El Dorado\, ar\, 71730
CATEGORIES:Chamber Of Commerce
END:VEVENT
BEGIN:VEVENT
DTSTART;TZID=America/Chicago:20240327T133000
DTEND;TZID=America/Chicago:20240327T143000
DTSTAMP:20260424T112524
CREATED:20240202T153524Z
LAST-MODIFIED:20240202T153524Z
UID:10018280-1711546200-1711549800@www.goeldorado.com
SUMMARY:Wednesday of Wonder @ Barton Library
DESCRIPTION:Wed
URL:https://www.goeldorado.com/event/wednesday-of-wonder-barton-library/2024-03-27/
LOCATION:Barton Library\, 200 E 5th\, El Dorado\, AR\, 71730\, United States
CATEGORIES:Arts & Culture,Community,Education,Family and Children
ATTACH;FMTTYPE=image/jpeg:https://www.goeldorado.com/wp-content/uploads/2024/02/423583792_689582633381336_6789171151967273724_n.jpg
ORGANIZER;CN="Barton Library":MAILTO:eldorado@ucpls.org
END:VEVENT
END:VCALENDAR