BEGIN:VCALENDAR
VERSION:2.0
PRODID:-//El Dorado, Arkansas - ECPv6.15.20//NONSGML v1.0//EN
CALSCALE:GREGORIAN
METHOD:PUBLISH
X-WR-CALNAME:El Dorado, Arkansas
X-ORIGINAL-URL:https://www.goeldorado.com
X-WR-CALDESC:Events for El Dorado, Arkansas
REFRESH-INTERVAL;VALUE=DURATION:PT1H
X-Robots-Tag:noindex
X-PUBLISHED-TTL:PT1H
BEGIN:VTIMEZONE
TZID:America/Chicago
BEGIN:DAYLIGHT
TZOFFSETFROM:-0600
TZOFFSETTO:-0500
TZNAME:CDT
DTSTART:20230312T080000
END:DAYLIGHT
BEGIN:STANDARD
TZOFFSETFROM:-0500
TZOFFSETTO:-0600
TZNAME:CST
DTSTART:20231105T070000
END:STANDARD
BEGIN:DAYLIGHT
TZOFFSETFROM:-0600
TZOFFSETTO:-0500
TZNAME:CDT
DTSTART:20240310T080000
END:DAYLIGHT
BEGIN:STANDARD
TZOFFSETFROM:-0500
TZOFFSETTO:-0600
TZNAME:CST
DTSTART:20241103T070000
END:STANDARD
BEGIN:DAYLIGHT
TZOFFSETFROM:-0600
TZOFFSETTO:-0500
TZNAME:CDT
DTSTART:20250309T080000
END:DAYLIGHT
BEGIN:STANDARD
TZOFFSETFROM:-0500
TZOFFSETTO:-0600
TZNAME:CST
DTSTART:20251102T070000
END:STANDARD
END:VTIMEZONE
BEGIN:VEVENT
DTSTART;VALUE=DATE:20240304
DTEND;VALUE=DATE:20240414
DTSTAMP:20260422T170606
CREATED:20240304T222559Z
LAST-MODIFIED:20240304T222559Z
UID:10018694-1709510400-1713052799@www.goeldorado.com
SUMMARY:Friends of Barton Library Book Sale
DESCRIPTION:
URL:https://www.goeldorado.com/event/friends-of-barton-library-book-sale/
LOCATION:Barton Library\, 200 E 5th\, El Dorado\, AR\, 71730\, United States
CATEGORIES:Community,Family and Children
ATTACH;FMTTYPE=image/png:https://www.goeldorado.com/wp-content/uploads/2024/03/2.png
ORGANIZER;CN="Barton Library":MAILTO:eldorado@ucpls.org
END:VEVENT
BEGIN:VEVENT
DTSTART;TZID=America/Chicago:20240330T110000
DTEND;TZID=America/Chicago:20240330T140000
DTSTAMP:20260422T170606
CREATED:20240304T221943Z
LAST-MODIFIED:20240304T221943Z
UID:10018692-1711796400-1711807200@www.goeldorado.com
SUMMARY:Community Easter Egg Hunt
DESCRIPTION:Saturday\, March 20th\n11 a.m.\nEaster Egg Hunt at Noon \nFood\, games\, bounce house\, and fun! \nMattocks Park!
URL:https://www.goeldorado.com/event/community-easter-egg-hunt-2/
LOCATION:Mattocks Park\, Detroit St\, El Dorado\, AR\, 71730\, United States
CATEGORIES:Community,Family and Children,Holiday
ATTACH;FMTTYPE=image/jpeg:https://www.goeldorado.com/wp-content/uploads/2024/03/431037303_10232909635302980_7407069443729393870_n.jpg
END:VEVENT
BEGIN:VEVENT
DTSTART;TZID=America/Chicago:20240330T160000
DTEND;TZID=America/Chicago:20240330T200000
DTSTAMP:20260422T170606
CREATED:20230628T143043Z
LAST-MODIFIED:20230628T143043Z
UID:10014422-1711814400-1711828800@www.goeldorado.com
SUMMARY:Cruise Night Car Show
DESCRIPTION:
URL:https://www.goeldorado.com/event/cruise-night-car-show/2024-03-30/
LOCATION:Downtown El Dorado\, 101 N. Washington\, El Dorado\, AR\, 71730
CATEGORIES:Clubs/Organizations,Community,Family and Children
ATTACH;FMTTYPE=image/jpeg:https://www.goeldorado.com/wp-content/uploads/2023/06/292313811_354253066884080_3925772226374212086_n.jpg
ORGANIZER;CN="Joe":MAILTO:jjsgourmetbbq@msn.com
END:VEVENT
BEGIN:VEVENT
DTSTART;TZID=America/Chicago:20240330T170000
DTEND;TZID=America/Chicago:20240330T213000
DTSTAMP:20260422T170606
CREATED:20230123T171108Z
LAST-MODIFIED:20230123T171108Z
UID:10011056-1711818000-1711834200@www.goeldorado.com
SUMMARY:Bingo @ The VFW
DESCRIPTION:The VFW will be hosting BINGO! Every Saturday night. \nQuarter Bingo starts at 5pm \nRegular Bingo starts at 7pm
URL:https://www.goeldorado.com/event/bingo-the-vfw/2024-03-30/
LOCATION:VFW\, 451 Industrial Rd\, El Dorado\, AR\, 71730\, United States
CATEGORIES:Clubs/Organizations,Community,Recreation & Sports
END:VEVENT
BEGIN:VEVENT
DTSTART;TZID=America/Chicago:20240330T180000
DTEND;TZID=America/Chicago:20240330T200000
DTSTAMP:20260422T170606
CREATED:20240123T221905Z
LAST-MODIFIED:20240325T210812Z
UID:10017799-1711821600-1711828800@www.goeldorado.com
SUMMARY:Boomer Hill Band LIVE @ DPs Food Truck Park
DESCRIPTION:
URL:https://www.goeldorado.com/event/boomer-hill-band-live-dps-food-truck-park-2/
LOCATION:DP’s Food Truck Court\, 2117 N College Ave\, 2117 N College Ave\, El Dorado\, AR\, 71730\, United States
CATEGORIES:Business,Community,Family and Children,Live Music
ATTACH;FMTTYPE=image/jpeg:https://www.goeldorado.com/wp-content/uploads/2024/01/boomer.jpg
END:VEVENT
BEGIN:VEVENT
DTSTART;TZID=America/Chicago:20240330T180000
DTEND;TZID=America/Chicago:20240330T210000
DTSTAMP:20260422T170606
CREATED:20240318T200826Z
LAST-MODIFIED:20240321T145103Z
UID:10018740-1711821600-1711832400@www.goeldorado.com
SUMMARY:Real Deal Championship 11 - MMA Sanctioned Kickboxing
DESCRIPTION:MMA Sanctioned Kickboxing \nKeep RDC 11 on your radar\nMarch 30th is going to be a night of WAR \nThe Real Deal cage is going to be displayed once again in El Dorado  \nFor more information on bouts or a full fight card\, visit: \nhttps://www.facebook.com/profile.php?id=100082916542799
URL:https://www.goeldorado.com/event/real-deal-championship-11-mma-sanctioned-kickboxing/
LOCATION:AR
CATEGORIES:Community,Recreation & Sports
ATTACH;FMTTYPE=image/jpeg:https://www.goeldorado.com/wp-content/uploads/2024/03/RDC-11.jpg
END:VEVENT
BEGIN:VEVENT
DTSTART;TZID=America/Chicago:20240330T190000
DTEND;TZID=America/Chicago:20240330T220000
DTSTAMP:20260422T170606
CREATED:20240325T203453Z
LAST-MODIFIED:20240325T203453Z
UID:10018748-1711825200-1711836000@www.goeldorado.com
SUMMARY:JT Lee LIVE @ The Well Bar
DESCRIPTION:
URL:https://www.goeldorado.com/event/jt-lee-live-the-well-bar/
LOCATION:The Well @ The Haywood\, 210 S Washington\, El Dorado\, 717303\, United States
CATEGORIES:Arts & Culture,Community,Live Music
ATTACH;FMTTYPE=image/jpeg:https://www.goeldorado.com/wp-content/uploads/2024/03/jtlee-haywood.jpg
END:VEVENT
END:VCALENDAR