BEGIN:VCALENDAR
VERSION:2.0
PRODID:-//El Dorado, Arkansas - ECPv6.15.20//NONSGML v1.0//EN
CALSCALE:GREGORIAN
METHOD:PUBLISH
X-ORIGINAL-URL:https://www.goeldorado.com
X-WR-CALDESC:Events for El Dorado, Arkansas
REFRESH-INTERVAL;VALUE=DURATION:PT1H
X-Robots-Tag:noindex
X-PUBLISHED-TTL:PT1H
BEGIN:VTIMEZONE
TZID:America/Chicago
BEGIN:DAYLIGHT
TZOFFSETFROM:-0600
TZOFFSETTO:-0500
TZNAME:CDT
DTSTART:20230312T080000
END:DAYLIGHT
BEGIN:STANDARD
TZOFFSETFROM:-0500
TZOFFSETTO:-0600
TZNAME:CST
DTSTART:20231105T070000
END:STANDARD
BEGIN:DAYLIGHT
TZOFFSETFROM:-0600
TZOFFSETTO:-0500
TZNAME:CDT
DTSTART:20240310T080000
END:DAYLIGHT
BEGIN:STANDARD
TZOFFSETFROM:-0500
TZOFFSETTO:-0600
TZNAME:CST
DTSTART:20241103T070000
END:STANDARD
BEGIN:DAYLIGHT
TZOFFSETFROM:-0600
TZOFFSETTO:-0500
TZNAME:CDT
DTSTART:20250309T080000
END:DAYLIGHT
BEGIN:STANDARD
TZOFFSETFROM:-0500
TZOFFSETTO:-0600
TZNAME:CST
DTSTART:20251102T070000
END:STANDARD
END:VTIMEZONE
BEGIN:VEVENT
DTSTART;VALUE=DATE:20240618
DTEND;VALUE=DATE:20240724
DTSTAMP:20260425T052251
CREATED:20240521T210110Z
LAST-MODIFIED:20240523T153951Z
UID:10019860-1718668800-1721779199@www.goeldorado.com
SUMMARY:Juried Art Competition Exhibit
DESCRIPTION:SAAC’s Juried Art Competition is juried by nationally and internationally recognized art professionals and is open to all artists and makers across the nation\, ages 18 and up who work in two-dimensional and three-dimensional fine arts media\, including but not limited to\, paintings\, sculptures\, photography\, computer generated art\, video\, fiber art\, and multi-media. The 2024 Juror is David Houston of the Ohr-O’Keefe Museum of Art in Biloxi\, Mississippi.
URL:https://www.goeldorado.com/event/juried-art-competition-exhibit/
LOCATION:South Arkansas Arts Center
CATEGORIES:Arts & Culture,Community
END:VEVENT
BEGIN:VEVENT
DTSTART;VALUE=DATE:20240712
DTEND;VALUE=DATE:20240714
DTSTAMP:20260425T052251
CREATED:20240521T183306Z
LAST-MODIFIED:20240523T153203Z
UID:10019853-1720742400-1720915199@www.goeldorado.com
SUMMARY:Grill Wars/ SCA Steak Competition
DESCRIPTION:Get ready for an epic showdown at Grill Wars: Triple Steak Cook-Off happening in El Dorado\, Arkansas July 12-13! This two-day event will feature three intense steak cook-offs where the best grill masters will battle it out for the title. If you think you have what it takes\, sign up to compete at www.steakcookoffs.com. \nMSE will also sell Steak plates for $25 each with steak\, potato\, salad\, roll\, and dessert.
URL:https://www.goeldorado.com/event/grill-wars-sca-steak-competition/
LOCATION:Downtown El Dorado\, 101 N. Washington\, El Dorado\, AR\, 71730
CATEGORIES:Clubs/Organizations,Community
END:VEVENT
BEGIN:VEVENT
DTSTART;TZID=America/Chicago:20240713T133000
DTEND;TZID=America/Chicago:20240713T143000
DTSTAMP:20260425T052251
CREATED:20240112T155253Z
LAST-MODIFIED:20240119T162359Z
UID:10017784-1720877400-1720881000@www.goeldorado.com
SUMMARY:Weekend tinkering @ the Museum
DESCRIPTION:If you are looking for a fun and educational activity that will challenge and inspire your child\, Weekend Tinkering at the Arkansas Museum of Natural Resources is a perfect choice for you. Through a variety of programs each month\, participants will have the opportunity to expand their understanding of the 1920s Oil Boom of south Arkansas using STEM (science\, technology\, engineering\, and math) concepts in fun and engaging ways. Sign-up today and see what your child can create. Weekend Tinkering is for ages five and up with a beginner or higher skill level\, and it’s FREE! \n  \nFor details and registration\, please contact Paige Creed at the museum. 870.725.2877 or paige.creed@arkansas.gov
URL:https://www.goeldorado.com/event/weekend-tinkering-the-museum/2024-07-13/
LOCATION:Arkansas Museum of Natural Resources\, 4087 Smackover Hwy\, Smackover\, AR\, 71730\, United States
CATEGORIES:Family and Children
END:VEVENT
BEGIN:VEVENT
DTSTART;TZID=America/Chicago:20240713T170000
DTEND;TZID=America/Chicago:20240713T213000
DTSTAMP:20260425T052251
CREATED:20230123T171108Z
LAST-MODIFIED:20230123T171108Z
UID:10011071-1720890000-1720906200@www.goeldorado.com
SUMMARY:Bingo @ The VFW
DESCRIPTION:The VFW will be hosting BINGO! Every Saturday night. \nQuarter Bingo starts at 5pm \nRegular Bingo starts at 7pm
URL:https://www.goeldorado.com/event/bingo-the-vfw/2024-07-13/
LOCATION:VFW\, 451 Industrial Rd\, El Dorado\, AR\, 71730\, United States
CATEGORIES:Clubs/Organizations,Community,Recreation & Sports
END:VEVENT
BEGIN:VEVENT
DTSTART;TZID=America/Chicago:20240713T180000
DTEND;TZID=America/Chicago:20240713T193000
DTSTAMP:20260425T052251
CREATED:20240521T210820Z
LAST-MODIFIED:20240523T154022Z
UID:10019861-1720893600-1720899000@www.goeldorado.com
SUMMARY:Juried Art Competition Reception and Awards @ South Arkansas Arts Center
DESCRIPTION:
URL:https://www.goeldorado.com/event/juried-art-competition-reception-and-awards-south-arkansas-arts-center/
LOCATION:South Arkansas Arts Center
CATEGORIES:Arts & Culture,Clubs/Organizations
END:VEVENT
BEGIN:VEVENT
DTSTART;TZID=America/Chicago:20240713T190000
DTEND;TZID=America/Chicago:20240713T220000
DTSTAMP:20260425T052251
CREATED:20240627T143136Z
LAST-MODIFIED:20240627T143136Z
UID:10020263-1720897200-1720908000@www.goeldorado.com
SUMMARY:Reagan Harvill LIVE @ DP's Food Truck Park
DESCRIPTION:
URL:https://www.goeldorado.com/event/reagan-harvill-live-dps-food-truck-park-2/
LOCATION:DP’s Food Truck Court\, 2117 N College Ave\, 2117 N College Ave\, El Dorado\, AR\, 71730\, United States
CATEGORIES:Live Music
ATTACH;FMTTYPE=image/jpeg:https://www.goeldorado.com/wp-content/uploads/2024/06/448246654_366933646401939_1984287083314964070_n.jpg
END:VEVENT
BEGIN:VEVENT
DTSTART;TZID=America/Chicago:20240713T193000
DTEND;TZID=America/Chicago:20240713T213000
DTSTAMP:20260425T052251
CREATED:20240123T223129Z
LAST-MODIFIED:20240123T223129Z
UID:10017812-1720899000-1720906200@www.goeldorado.com
SUMMARY:Shaw Revolver LIVE @ DP's Food Truck Park
DESCRIPTION:
URL:https://www.goeldorado.com/event/shaw-revolver-live-dps-food-truck-park/
LOCATION:DP’s Food Truck Court\, 2117 N College Ave\, 2117 N College Ave\, El Dorado\, AR\, 71730\, United States
CATEGORIES:Business,Community,Family and Children,Live Music
END:VEVENT
END:VCALENDAR