BEGIN:VCALENDAR
VERSION:2.0
PRODID:-//El Dorado, Arkansas - ECPv6.15.20//NONSGML v1.0//EN
CALSCALE:GREGORIAN
METHOD:PUBLISH
X-WR-CALNAME:El Dorado, Arkansas
X-ORIGINAL-URL:https://www.goeldorado.com
X-WR-CALDESC:Events for El Dorado, Arkansas
REFRESH-INTERVAL;VALUE=DURATION:PT1H
X-Robots-Tag:noindex
X-PUBLISHED-TTL:PT1H
BEGIN:VTIMEZONE
TZID:America/Chicago
BEGIN:DAYLIGHT
TZOFFSETFROM:-0600
TZOFFSETTO:-0500
TZNAME:CDT
DTSTART:20230312T080000
END:DAYLIGHT
BEGIN:STANDARD
TZOFFSETFROM:-0500
TZOFFSETTO:-0600
TZNAME:CST
DTSTART:20231105T070000
END:STANDARD
BEGIN:DAYLIGHT
TZOFFSETFROM:-0600
TZOFFSETTO:-0500
TZNAME:CDT
DTSTART:20240310T080000
END:DAYLIGHT
BEGIN:STANDARD
TZOFFSETFROM:-0500
TZOFFSETTO:-0600
TZNAME:CST
DTSTART:20241103T070000
END:STANDARD
BEGIN:DAYLIGHT
TZOFFSETFROM:-0600
TZOFFSETTO:-0500
TZNAME:CDT
DTSTART:20250309T080000
END:DAYLIGHT
BEGIN:STANDARD
TZOFFSETFROM:-0500
TZOFFSETTO:-0600
TZNAME:CST
DTSTART:20251102T070000
END:STANDARD
END:VTIMEZONE
BEGIN:VEVENT
DTSTART;VALUE=DATE:20240618
DTEND;VALUE=DATE:20240724
DTSTAMP:20260421T120750
CREATED:20240521T210110Z
LAST-MODIFIED:20240523T153951Z
UID:10019860-1718668800-1721779199@www.goeldorado.com
SUMMARY:Juried Art Competition Exhibit
DESCRIPTION:SAAC’s Juried Art Competition is juried by nationally and internationally recognized art professionals and is open to all artists and makers across the nation\, ages 18 and up who work in two-dimensional and three-dimensional fine arts media\, including but not limited to\, paintings\, sculptures\, photography\, computer generated art\, video\, fiber art\, and multi-media. The 2024 Juror is David Houston of the Ohr-O’Keefe Museum of Art in Biloxi\, Mississippi.
URL:https://www.goeldorado.com/event/juried-art-competition-exhibit/
LOCATION:South Arkansas Arts Center
CATEGORIES:Arts & Culture,Community
END:VEVENT
BEGIN:VEVENT
DTSTART;TZID=America/Chicago:20240720T170000
DTEND;TZID=America/Chicago:20240720T213000
DTSTAMP:20260421T120750
CREATED:20230123T171108Z
LAST-MODIFIED:20230123T171108Z
UID:10011072-1721494800-1721511000@www.goeldorado.com
SUMMARY:Bingo @ The VFW
DESCRIPTION:The VFW will be hosting BINGO! Every Saturday night. \nQuarter Bingo starts at 5pm \nRegular Bingo starts at 7pm
URL:https://www.goeldorado.com/event/bingo-the-vfw/2024-07-20/
LOCATION:VFW\, 451 Industrial Rd\, El Dorado\, AR\, 71730\, United States
CATEGORIES:Clubs/Organizations,Community,Recreation & Sports
END:VEVENT
BEGIN:VEVENT
DTSTART;TZID=America/Chicago:20240720T190000
DTEND;TZID=America/Chicago:20240720T200000
DTSTAMP:20260421T120750
CREATED:20240618T163137Z
LAST-MODIFIED:20240627T161520Z
UID:10020189-1721502000-1721505600@www.goeldorado.com
SUMMARY:Women Moving Forward: 3 year celebration fundraiser
DESCRIPTION:
URL:https://www.goeldorado.com/event/women-moving-forward-3-year-celebration-fundraiser/
LOCATION:El Dorado Conference Center\, 311 S West Ave\, El Dorado\, 71730\, United States
CATEGORIES:Clubs/Organizations,Recreation & Sports
ATTACH;FMTTYPE=image/png:https://www.goeldorado.com/wp-content/uploads/2024/06/All-White-Celebration-2024-Flyer.png
ORGANIZER;CN="Women Moving Forward":MAILTO:womenmovingforward21@gmail.com
END:VEVENT
BEGIN:VEVENT
DTSTART;TZID=America/Chicago:20240720T193000
DTEND;TZID=America/Chicago:20240720T213000
DTSTAMP:20260421T120750
CREATED:20240709T194740Z
LAST-MODIFIED:20240709T194740Z
UID:10020270-1721503800-1721511000@www.goeldorado.com
SUMMARY:Almost Guilty LIVE @ DP's Food Truck Park
DESCRIPTION:
URL:https://www.goeldorado.com/event/almost-guilty-live-dps-food-truck-park/
LOCATION:DP’s Food Truck Court\, 2117 N College Ave\, 2117 N College Ave\, El Dorado\, AR\, 71730\, United States
CATEGORIES:Live Music
ATTACH;FMTTYPE=image/jpeg:https://www.goeldorado.com/wp-content/uploads/2024/07/almost-guilty.jpg
END:VEVENT
BEGIN:VEVENT
DTSTART;TZID=America/Chicago:20240720T193000
DTEND;TZID=America/Chicago:20240720T220000
DTSTAMP:20260421T120750
CREATED:20240712T185016Z
LAST-MODIFIED:20240716T195956Z
UID:10020279-1721503800-1721512800@www.goeldorado.com
SUMMARY:Mary Poppins: Summer Musical @ SAAC
DESCRIPTION:
URL:https://www.goeldorado.com/event/mary-poppins-summer-musical-saac/2024-07-20/
LOCATION:South Arkansas Arts Center
CATEGORIES:Arts & Culture,Clubs/Organizations,Family and Children
ATTACH;FMTTYPE=image/jpeg:https://www.goeldorado.com/wp-content/uploads/2024/07/448721843_859827219514681_626301801504091190_n.jpg
END:VEVENT
END:VCALENDAR