BEGIN:VCALENDAR
VERSION:2.0
PRODID:-//El Dorado, Arkansas - ECPv6.15.20//NONSGML v1.0//EN
CALSCALE:GREGORIAN
METHOD:PUBLISH
X-WR-CALNAME:El Dorado, Arkansas
X-ORIGINAL-URL:https://www.goeldorado.com
X-WR-CALDESC:Events for El Dorado, Arkansas
REFRESH-INTERVAL;VALUE=DURATION:PT1H
X-Robots-Tag:noindex
X-PUBLISHED-TTL:PT1H
BEGIN:VTIMEZONE
TZID:America/Chicago
BEGIN:DAYLIGHT
TZOFFSETFROM:-0600
TZOFFSETTO:-0500
TZNAME:CDT
DTSTART:20230312T080000
END:DAYLIGHT
BEGIN:STANDARD
TZOFFSETFROM:-0500
TZOFFSETTO:-0600
TZNAME:CST
DTSTART:20231105T070000
END:STANDARD
BEGIN:DAYLIGHT
TZOFFSETFROM:-0600
TZOFFSETTO:-0500
TZNAME:CDT
DTSTART:20240310T080000
END:DAYLIGHT
BEGIN:STANDARD
TZOFFSETFROM:-0500
TZOFFSETTO:-0600
TZNAME:CST
DTSTART:20241103T070000
END:STANDARD
BEGIN:DAYLIGHT
TZOFFSETFROM:-0600
TZOFFSETTO:-0500
TZNAME:CDT
DTSTART:20250309T080000
END:DAYLIGHT
BEGIN:STANDARD
TZOFFSETFROM:-0500
TZOFFSETTO:-0600
TZNAME:CST
DTSTART:20251102T070000
END:STANDARD
END:VTIMEZONE
BEGIN:VEVENT
DTSTART;VALUE=DATE:20240729
DTEND;VALUE=DATE:20240906
DTSTAMP:20260419T085145
CREATED:20240524T161032Z
LAST-MODIFIED:20240528T143955Z
UID:10020115-1722211200-1725580799@www.goeldorado.com
SUMMARY:Mandy Mooneyham Art Exhibition @ South Arkansas Arts Center
DESCRIPTION:Paragould\, Arkansas native Mandy Mooneyham’s exhibition “The Chree Show” will be in the Lobby Gallery at the South Arkansas Arts Center.
URL:https://www.goeldorado.com/event/mandy-mooneyham-art-exhibition-south-arkansas-arts-center/
LOCATION:South Arkansas Arts Center
CATEGORIES:Arts & Culture,Community,Education
END:VEVENT
BEGIN:VEVENT
DTSTART;VALUE=DATE:20240729
DTEND;VALUE=DATE:20240906
DTSTAMP:20260419T085145
CREATED:20240524T162240Z
LAST-MODIFIED:20240528T144031Z
UID:10020116-1722211200-1725580799@www.goeldorado.com
SUMMARY:Gary Bachers and Christopher Bachers Art Exhibition @ SAAC
DESCRIPTION:Father and son will have an exhibit together for the first time ever in the Markle and Price Galleries at SAAC. Gary was excited about sharing an exhibit with his son. Sadly\, Gary passed away last August\, 2023\, but Gary’s wife and his son both wanted to carry on with this exhibit. Art was a second career for Dr. Gary Bachers\, and he pursued it with the same passion as he did his first.  Against all odds he survived a devastating stroke at the prime of his life.  The stroke left him with expressive aphasia\, robbing him of the ability to converse or to write as well as leaving him without use of his right side. The transition from physician to artist was not an easy one but he painstakingly trained his left hand to create award winning colored pencil works that are brilliant and vivid\, masterfully created. His art became his language.  These works often challenge preconceptions the viewers may have about pencil art works. For Bachers\, his art truly was the art of living!
URL:https://www.goeldorado.com/event/gary-bachers-and-christopher-bachers-art-exhibition-saac/
LOCATION:South Arkansas Arts Center
CATEGORIES:Arts & Culture,Community
END:VEVENT
BEGIN:VEVENT
DTSTART;TZID=America/Chicago:20240803T170000
DTEND;TZID=America/Chicago:20240803T213000
DTSTAMP:20260419T085145
CREATED:20230123T171108Z
LAST-MODIFIED:20230123T171108Z
UID:10011074-1722704400-1722720600@www.goeldorado.com
SUMMARY:Bingo @ The VFW
DESCRIPTION:The VFW will be hosting BINGO! Every Saturday night. \nQuarter Bingo starts at 5pm \nRegular Bingo starts at 7pm
URL:https://www.goeldorado.com/event/bingo-the-vfw/2024-08-03/
LOCATION:VFW\, 451 Industrial Rd\, El Dorado\, AR\, 71730\, United States
CATEGORIES:Clubs/Organizations,Community,Recreation & Sports
END:VEVENT
BEGIN:VEVENT
DTSTART;TZID=America/Chicago:20240803T200000
DTEND;TZID=America/Chicago:20240803T220000
DTSTAMP:20260419T085145
CREATED:20240801T203244Z
LAST-MODIFIED:20240806T155059Z
UID:10021032-1722715200-1722722400@www.goeldorado.com
SUMMARY:JIMMY LEWIS AND THE 8 SECOND RIDE @ MAD HOUSE 101
DESCRIPTION:JIMMY LEWIS AND THE 8 SECOND RIDE\nSATURDAY @ 8:00PM – 10:00PM(CST)\n\n\nFree music. NO cover charge \nCome early grab dinner and a seat…. \nFirst come first serve. \nRestaurant opens at 5 pm. \nCome party with Jimmy Lewis and 8 Second Ride!
URL:https://www.goeldorado.com/event/jimmy-lewis-and-the-8-second-ride-mad-house-101/
LOCATION:MAD House 101 Restuarant and Bar\, 101 E Locust\, El Dorado\, AR\, 71730\, United States
CATEGORIES:Live Music
END:VEVENT
END:VCALENDAR