BEGIN:VCALENDAR
VERSION:2.0
PRODID:-//El Dorado, Arkansas - ECPv6.15.20//NONSGML v1.0//EN
CALSCALE:GREGORIAN
METHOD:PUBLISH
X-WR-CALNAME:El Dorado, Arkansas
X-ORIGINAL-URL:https://www.goeldorado.com
X-WR-CALDESC:Events for El Dorado, Arkansas
REFRESH-INTERVAL;VALUE=DURATION:PT1H
X-Robots-Tag:noindex
X-PUBLISHED-TTL:PT1H
BEGIN:VTIMEZONE
TZID:America/Chicago
BEGIN:DAYLIGHT
TZOFFSETFROM:-0600
TZOFFSETTO:-0500
TZNAME:CDT
DTSTART:20230312T080000
END:DAYLIGHT
BEGIN:STANDARD
TZOFFSETFROM:-0500
TZOFFSETTO:-0600
TZNAME:CST
DTSTART:20231105T070000
END:STANDARD
BEGIN:DAYLIGHT
TZOFFSETFROM:-0600
TZOFFSETTO:-0500
TZNAME:CDT
DTSTART:20240310T080000
END:DAYLIGHT
BEGIN:STANDARD
TZOFFSETFROM:-0500
TZOFFSETTO:-0600
TZNAME:CST
DTSTART:20241103T070000
END:STANDARD
BEGIN:DAYLIGHT
TZOFFSETFROM:-0600
TZOFFSETTO:-0500
TZNAME:CDT
DTSTART:20250309T080000
END:DAYLIGHT
BEGIN:STANDARD
TZOFFSETFROM:-0500
TZOFFSETTO:-0600
TZNAME:CST
DTSTART:20251102T070000
END:STANDARD
END:VTIMEZONE
BEGIN:VEVENT
DTSTART;TZID=America/Chicago:20240910T090000
DTEND;TZID=America/Chicago:20241016T170000
DTSTAMP:20260420T090804
CREATED:20240731T195330Z
LAST-MODIFIED:20240806T154708Z
UID:10020658-1725958800-1729098000@www.goeldorado.com
SUMMARY:Art Exhibition: "Beyond Labels" by Virmarie DePoyster @ South Arkansas Arts Center
DESCRIPTION:Beyond Labels | Más allá de las Etiquetas \nVirmarie DePoyster is a bilingual\, Puerto Rican artist interested in utilizing art to bring communities together. In this portrait exhibition\, she explores how in today’s world — a melting pot — the labels we assign each other have the power to either divide or connect us. Rather than focusing on the boundaries these labels can create\, DePoyster’s goal with these works is to inspire a sense of community as each subject’s intrinsic beauty is illustrated. Her hope is to inspire an appreciation in our community for what makes each of us unique so we can learn to look beyond labels and truly see one another. \n  \nMás allá de las Etiquetas \nVirmarie DePoyster es una artista puertorriqueña bilingüe interesada en utilizar el arte para unir a las comunidades. En esta exhibición de cuadros\, ella explora cómo en el mundo de hoy\, un crisol\, las etiquetas que nos asignamos tienen el poder de dividirnos o conectarnos. En lugar de centrarse en los límites que pueden crear estas etiquetas\, el objetivo de DePoyster con estos trabajos es inspirar un sentido de comunidad\, como se ilustra la belleza intrínseca de cada sujeto. Su esperanza es inspirar un aprecio en nuestra comunidad por lo que nos hace únicos para que podamos aprender a mirar más allá de las etiquetas y realmente vernos.
URL:https://www.goeldorado.com/event/art-exhibition-beyond-labels-by-virmarie-depoyster-south-arkansas-arts-center/
LOCATION:South Arkansas Arts Center
CATEGORIES:Arts & Culture,Education,Family and Children
END:VEVENT
BEGIN:VEVENT
DTSTART;TZID=America/Chicago:20240910T090000
DTEND;TZID=America/Chicago:20241016T170000
DTSTAMP:20260420T090804
CREATED:20240829T153803Z
LAST-MODIFIED:20240829T164907Z
UID:10021832-1725958800-1729098000@www.goeldorado.com
SUMMARY:"From Almeda To Zilphia: Arkansas Women Who Transformed American Popular Song": Portraits by Little Rock Artist Katherine Strause
DESCRIPTION:This exhibit runs from September 10 to October 16\, 2023\, in SAAC’s Lobby Gallery and will showcase oil portraits of 30 remarkable Arkansas women who have had a significant impact on the world of music. \nKatherine Strause’s portraits are drawn from extensive research that delves into the lives and artistic expressions of women with Arkansas roots who have shaped the landscape of American music. The exhibition features figures from diverse genres including gospel (Rosetta Tharpe)\, opera (Marjorie Lawrence)\, blues (Sippie Wallace)\, folk ballads (Almeda Riddle)\, dance-pop (Beth Ditto)\, classical (Florence Price)\, and country (K.T. Oslin).
URL:https://www.goeldorado.com/event/from-almeda-to-zilphia-arkansas-women-who-transformed-american-popular-song-portraits-by-little-rock-artist-katherine-strause/
LOCATION:AR
CATEGORIES:Arts & Culture,Community,Education
END:VEVENT
BEGIN:VEVENT
DTSTART;VALUE=DATE:20241001
DTEND;VALUE=DATE:20241101
DTSTAMP:20260420T090804
CREATED:20240822T134940Z
LAST-MODIFIED:20240822T213759Z
UID:10021821-1727740800-1730419199@www.goeldorado.com
SUMMARY:ELDO FOOD FEST
DESCRIPTION:The ELDO FOOD FEST is a monthlong celebration featuring nearly cuisine imaginable. With over 75 restaurants El Dorado is ready for you to savory the flavors of our Festival City!  During the ELDO FOOD FEST you can win cash prizes just by dining out.  Pick up your copy of the El Dorado Dining Guide and dine out in El Dorado.
URL:https://www.goeldorado.com/event/eldo-food-fest/
LOCATION:El Dorado Arkansas
CATEGORIES:Arts & Culture,Community,Festivals & Celebrations
END:VEVENT
BEGIN:VEVENT
DTSTART;TZID=America/Chicago:20241010T170000
DTEND;TZID=America/Chicago:20241010T180000
DTSTAMP:20260420T090804
CREATED:20220809T212644Z
LAST-MODIFIED:20220816T204808Z
UID:10009511-1728579600-1728583200@www.goeldorado.com
SUMMARY:El Dorado City Council Meeting
DESCRIPTION:The City of El Dorado’s City Council meeting to discuss city business. Meeting is open to the public. To be placed on the agenda contact the Mayor’s office or your local Alderman. 
URL:https://www.goeldorado.com/event/el-dorado-city-council-meeting/2024-10-10/
LOCATION:AR
CATEGORIES:Community,Government
END:VEVENT
BEGIN:VEVENT
DTSTART;TZID=America/Chicago:20241010T173000
DTEND;TZID=America/Chicago:20241010T190000
DTSTAMP:20260420T090804
CREATED:20240814T203146Z
LAST-MODIFIED:20240814T203146Z
UID:10021425-1728581400-1728586800@www.goeldorado.com
SUMMARY:South Arkansas Walk to End Alzheimer's
DESCRIPTION:updated flyer
URL:https://www.goeldorado.com/event/south-arkansas-walk-to-end-alzheimers/
LOCATION:El Dorado Conference Center\, 311 S West Ave\, El Dorado\, 71730\, United States
CATEGORIES:Clubs/Organizations,Community,Recreation & Sports
ATTACH;FMTTYPE=application/pdf:https://www.goeldorado.com/wp-content/uploads/2024/08/updated-flyer-1.pdf
ORGANIZER;CN="Walk to End Alzheimer's South Arkansas":MAILTO:iashuttleworth@alz.org
END:VEVENT
END:VCALENDAR