BEGIN:VCALENDAR
VERSION:2.0
PRODID:-//El Dorado, Arkansas - ECPv6.15.20//NONSGML v1.0//EN
CALSCALE:GREGORIAN
METHOD:PUBLISH
X-ORIGINAL-URL:https://www.goeldorado.com
X-WR-CALDESC:Events for El Dorado, Arkansas
REFRESH-INTERVAL;VALUE=DURATION:PT1H
X-Robots-Tag:noindex
X-PUBLISHED-TTL:PT1H
BEGIN:VTIMEZONE
TZID:America/Chicago
BEGIN:DAYLIGHT
TZOFFSETFROM:-0600
TZOFFSETTO:-0500
TZNAME:CDT
DTSTART:20230312T080000
END:DAYLIGHT
BEGIN:STANDARD
TZOFFSETFROM:-0500
TZOFFSETTO:-0600
TZNAME:CST
DTSTART:20231105T070000
END:STANDARD
BEGIN:DAYLIGHT
TZOFFSETFROM:-0600
TZOFFSETTO:-0500
TZNAME:CDT
DTSTART:20240310T080000
END:DAYLIGHT
BEGIN:STANDARD
TZOFFSETFROM:-0500
TZOFFSETTO:-0600
TZNAME:CST
DTSTART:20241103T070000
END:STANDARD
BEGIN:DAYLIGHT
TZOFFSETFROM:-0600
TZOFFSETTO:-0500
TZNAME:CDT
DTSTART:20250309T080000
END:DAYLIGHT
BEGIN:STANDARD
TZOFFSETFROM:-0500
TZOFFSETTO:-0600
TZNAME:CST
DTSTART:20251102T070000
END:STANDARD
END:VTIMEZONE
BEGIN:VEVENT
DTSTART;VALUE=DATE:20241001
DTEND;VALUE=DATE:20241101
DTSTAMP:20260422T145748
CREATED:20240822T134940Z
LAST-MODIFIED:20240822T213759Z
UID:10021821-1727740800-1730419199@www.goeldorado.com
SUMMARY:ELDO FOOD FEST
DESCRIPTION:The ELDO FOOD FEST is a monthlong celebration featuring nearly cuisine imaginable. With over 75 restaurants El Dorado is ready for you to savory the flavors of our Festival City!  During the ELDO FOOD FEST you can win cash prizes just by dining out.  Pick up your copy of the El Dorado Dining Guide and dine out in El Dorado.
URL:https://www.goeldorado.com/event/eldo-food-fest/
LOCATION:El Dorado Arkansas
CATEGORIES:Arts & Culture,Community,Festivals & Celebrations
END:VEVENT
BEGIN:VEVENT
DTSTART;TZID=America/Chicago:20241018T180000
DTEND;TZID=America/Chicago:20241020T160000
DTSTAMP:20260422T145748
CREATED:20240930T203306Z
LAST-MODIFIED:20241002T215304Z
UID:10022513-1729274400-1729440000@www.goeldorado.com
SUMMARY:Mike Mean's Beginner Adult Pencil Drawing Workshop @ SAAC
DESCRIPTION:Over the course of three sessions\, attendees will grasp the essentials of drawing in a fun and supportive environment. Whether you are a complete novice or looking to refine your skills\, this workshop is perfect for adults eager to develop their artistic talents. \nFriday\, October 18\, 6-8pm\nSaturday\, October 19\, 1-4pm\nSunday\, October 20\, 1-4pm \nTo Register\, click here: \nUnleash Your Creativity at Mike Mean’s Beginner Adult Pencil Drawing Workshop! • Oct 18-20 – South Arkansas Arts Center (saac-arts.org) \n 
URL:https://www.goeldorado.com/event/mike-means-beginner-adult-pencil-drawing-workshop-saac/
LOCATION:South Arkansas Arts Center
CATEGORIES:Arts & Culture,Community,Education
ATTACH;FMTTYPE=image/png:https://www.goeldorado.com/wp-content/uploads/2024/09/Mike-Workshop.png
END:VEVENT
BEGIN:VEVENT
DTSTART;TZID=America/Chicago:20241018T190000
DTEND;TZID=America/Chicago:20241018T210000
DTSTAMP:20260422T145748
CREATED:20241001T144200Z
LAST-MODIFIED:20241001T144200Z
UID:10022517-1729278000-1729285200@www.goeldorado.com
SUMMARY:DJ Treymoney LIVE @ DPs Food Truck Park
DESCRIPTION:
URL:https://www.goeldorado.com/event/dj-treymoney-live-dps-food-truck-park/
LOCATION:DP’s Food Truck Court\, 2117 N College Ave\, 2117 N College Ave\, El Dorado\, AR\, 71730\, United States
CATEGORIES:Family and Children,Live Music
END:VEVENT
BEGIN:VEVENT
DTSTART;TZID=America/Chicago:20241018T190000
DTEND;TZID=America/Chicago:20241018T220000
DTSTAMP:20260422T145748
CREATED:20240814T204611Z
LAST-MODIFIED:20240814T204621Z
UID:10021434-1729278000-1729288800@www.goeldorado.com
SUMMARY:El Dorado High Varsity Football vs. Benton: AWAY game
DESCRIPTION:
URL:https://www.goeldorado.com/event/el-dorado-high-varsity-football-vs-benton-away-game/
LOCATION:Arkansas
CATEGORIES:Community,Education,Family and Children,Recreation & Sports
END:VEVENT
BEGIN:VEVENT
DTSTART;TZID=America/Chicago:20241018T190000
DTEND;TZID=America/Chicago:20241018T220000
DTSTAMP:20260422T145748
CREATED:20240903T212300Z
LAST-MODIFIED:20240903T212300Z
UID:10021845-1729278000-1729288800@www.goeldorado.com
SUMMARY:The Haunt
DESCRIPTION:  \n  \nYou are alone and hear a noise. \nBut\, when you turn to see what caused the noise\, nothing is there. \nA chill runs down your spine. \nIs someone watching you??? \nPerhaps your mind is playing tricks on you. \nOr\, perhaps\, that eerie\, unexplained noise is caused by something you cannot see\, something you don’t want to see. \nJoin us at this year’s El Dorado Haunt and face your Boogeyman as we present  \n“CREATURES OF THE NIGHT.”
URL:https://www.goeldorado.com/event/the-haunt-2/2024-10-18/
LOCATION:Camp Wotapi\, 4100 Wotapi Dr\, El Dorado\, AR\, 71730\, United States
CATEGORIES:Clubs/Organizations,Community,Family and Children,Holiday
ORGANIZER;CN="Campfire El Dorado":MAILTO:campfire@suddenlinkmail.com
END:VEVENT
BEGIN:VEVENT
DTSTART;TZID=America/Chicago:20241018T200000
DTEND;TZID=America/Chicago:20241018T220000
DTSTAMP:20260422T145748
CREATED:20240916T153817Z
LAST-MODIFIED:20240916T153817Z
UID:10021880-1729281600-1729288800@www.goeldorado.com
SUMMARY:Cliff & Susan LIVE at Madhouse 101
DESCRIPTION:
URL:https://www.goeldorado.com/event/cliff-susan-live-at-madhouse-101/
LOCATION:MAD House 101 Restuarant and Bar\, 101 E Locust\, El Dorado\, AR\, 71730\, United States
CATEGORIES:Live Music
ATTACH;FMTTYPE=image/jpeg:https://www.goeldorado.com/wp-content/uploads/2024/09/448627827_489733320095003_8138167816126618183_n.jpg
END:VEVENT
END:VCALENDAR