BEGIN:VCALENDAR
VERSION:2.0
PRODID:-//El Dorado, Arkansas - ECPv6.15.20//NONSGML v1.0//EN
CALSCALE:GREGORIAN
METHOD:PUBLISH
X-WR-CALNAME:El Dorado, Arkansas
X-ORIGINAL-URL:https://www.goeldorado.com
X-WR-CALDESC:Events for El Dorado, Arkansas
REFRESH-INTERVAL;VALUE=DURATION:PT1H
X-Robots-Tag:noindex
X-PUBLISHED-TTL:PT1H
BEGIN:VTIMEZONE
TZID:America/Chicago
BEGIN:DAYLIGHT
TZOFFSETFROM:-0600
TZOFFSETTO:-0500
TZNAME:CDT
DTSTART:20230312T080000
END:DAYLIGHT
BEGIN:STANDARD
TZOFFSETFROM:-0500
TZOFFSETTO:-0600
TZNAME:CST
DTSTART:20231105T070000
END:STANDARD
BEGIN:DAYLIGHT
TZOFFSETFROM:-0600
TZOFFSETTO:-0500
TZNAME:CDT
DTSTART:20240310T080000
END:DAYLIGHT
BEGIN:STANDARD
TZOFFSETFROM:-0500
TZOFFSETTO:-0600
TZNAME:CST
DTSTART:20241103T070000
END:STANDARD
BEGIN:DAYLIGHT
TZOFFSETFROM:-0600
TZOFFSETTO:-0500
TZNAME:CDT
DTSTART:20250309T080000
END:DAYLIGHT
BEGIN:STANDARD
TZOFFSETFROM:-0500
TZOFFSETTO:-0600
TZNAME:CST
DTSTART:20251102T070000
END:STANDARD
END:VTIMEZONE
BEGIN:VEVENT
DTSTART;VALUE=DATE:20241001
DTEND;VALUE=DATE:20241101
DTSTAMP:20260422T114100
CREATED:20240822T134940Z
LAST-MODIFIED:20240822T213759Z
UID:10021821-1727740800-1730419199@www.goeldorado.com
SUMMARY:ELDO FOOD FEST
DESCRIPTION:The ELDO FOOD FEST is a monthlong celebration featuring nearly cuisine imaginable. With over 75 restaurants El Dorado is ready for you to savory the flavors of our Festival City!  During the ELDO FOOD FEST you can win cash prizes just by dining out.  Pick up your copy of the El Dorado Dining Guide and dine out in El Dorado.
URL:https://www.goeldorado.com/event/eldo-food-fest/
LOCATION:El Dorado Arkansas
CATEGORIES:Arts & Culture,Community,Festivals & Celebrations
END:VEVENT
BEGIN:VEVENT
DTSTART;TZID=America/Chicago:20241021T090000
DTEND;TZID=America/Chicago:20241122T170000
DTSTAMP:20260422T114100
CREATED:20241001T185811Z
LAST-MODIFIED:20241002T213414Z
UID:10022526-1729501200-1732294800@www.goeldorado.com
SUMMARY:"Things Remembered" Exhibition by Donna Twyford @ SAAC
DESCRIPTION:The South Arkansas Arts Center is proud to present “Things Remembered\,” a solo exhibition featuring the evocative watercolor paintings of Hot Springs artist Donna Twyford. On display in the Merkle Gallery from October 21 to November 22\, 2024\, this exhibit will showcase a nostalgic collection of artworks that delve deeply into the themes of memory and longing\, capturing people\, places\, and cherished objects that resonate with the heart.
URL:https://www.goeldorado.com/event/things-remembered-exhibition-by-donna-twyford-saac/
LOCATION:South Arkansas Arts Center
CATEGORIES:Arts & Culture,Community,Family and Children
END:VEVENT
BEGIN:VEVENT
DTSTART;TZID=America/Chicago:20241021T090000
DTEND;TZID=America/Chicago:20241212T170000
DTSTAMP:20260422T114100
CREATED:20241001T190447Z
LAST-MODIFIED:20241002T213452Z
UID:10022527-1729501200-1734022800@www.goeldorado.com
SUMMARY:"Unveiling Potential" Exhibition by Rhonda Hicks and Janice Hughes @ SAAC
DESCRIPTION:The South Arkansas Arts Center is proud to announce the upcoming Lobby exhibition titled “Unveiling Potential\,” showcasing the work of talented local artists Rhonda Hicks and Janice Hughes. This compelling exhibition will run from October 21 to December 12\, 2024\, and aims to explore the profound journey of self-discovery and creativity.
URL:https://www.goeldorado.com/event/unveiling-potential-exhibition-by-rhonda-hicks-and-janice-hughes-saac/
LOCATION:South Arkansas Arts Center
CATEGORIES:Arts & Culture,Community,Family and Children
ATTACH;FMTTYPE=image/jpeg:https://www.goeldorado.com/wp-content/uploads/2024/10/Janice-Art-2-scaled.jpg
END:VEVENT
BEGIN:VEVENT
DTSTART;TZID=America/Chicago:20241021T090000
DTEND;TZID=America/Chicago:20241212T170000
DTSTAMP:20260422T114100
CREATED:20241001T190944Z
LAST-MODIFIED:20241002T213522Z
UID:10022528-1729501200-1734022800@www.goeldorado.com
SUMMARY:Raku Pottery Exhibition by Steve Slaughter @ SAAC
DESCRIPTION:The South Arkansas Arts Center (SAAC) is excited to announce the upcoming Price Gallery exhibition featuring local artist Steve Slaughter and his original Raku pottery at the South Arkansas Arts Center. The exhibition will run from October 21 to December 12\, with an artist reception scheduled for Tuesday\, October 29\, from 5:30 PM to 7:00 PM.
URL:https://www.goeldorado.com/event/raku-pottery-exhibition-by-steve-slaughter-saac/
LOCATION:South Arkansas Arts Center
CATEGORIES:Arts & Culture,Community,Family and Children
END:VEVENT
BEGIN:VEVENT
DTSTART;TZID=America/Chicago:20241027T140000
DTEND;TZID=America/Chicago:20241027T160000
DTSTAMP:20260422T114100
CREATED:20241011T165053Z
LAST-MODIFIED:20241011T165319Z
UID:10022912-1730037600-1730044800@www.goeldorado.com
SUMMARY:Fall Carnival in the Park @ NEEL Park
DESCRIPTION:
URL:https://www.goeldorado.com/event/fall-carnival-in-the-park/
LOCATION:Neel Park\, Randolf\, El Dorado\, AR\, 71730
CATEGORIES:Clubs/Organizations,Family and Children,Festivals & Celebrations,Holiday
ATTACH;FMTTYPE=image/jpeg:https://www.goeldorado.com/wp-content/uploads/2024/10/2024-Carnival-in-the-Park-Trunk-or-Treat-Landscape-scaled.jpg
END:VEVENT
BEGIN:VEVENT
DTSTART;TZID=America/Chicago:20241027T160000
DTEND;TZID=America/Chicago:20241027T183000
DTSTAMP:20260422T114100
CREATED:20240923T190650Z
LAST-MODIFIED:20240923T190650Z
UID:10022353-1730044800-1730053800@www.goeldorado.com
SUMMARY:Fall Fest @ West Side Baptist Church
DESCRIPTION:
URL:https://www.goeldorado.com/event/fall-fest-west-side-baptist-church-3/
LOCATION:West Side Baptist Church\, 2400 W Hillsboro St\, El Dorado\, AR\, 71730\, United States
CATEGORIES:Community,Family and Children,Festivals & Celebrations,Holiday
END:VEVENT
BEGIN:VEVENT
DTSTART;TZID=America/Chicago:20241027T190000
DTEND;TZID=America/Chicago:20241027T210000
DTSTAMP:20260422T114100
CREATED:20241023T195042Z
LAST-MODIFIED:20241023T195042Z
UID:10023183-1730055600-1730062800@www.goeldorado.com
SUMMARY:Downhome Country LIVE at PJs Coffee
DESCRIPTION:
URL:https://www.goeldorado.com/event/downhome-country-live-at-pjs-coffee/
LOCATION:PJs Coffee
CATEGORIES:Live Music
END:VEVENT
BEGIN:VEVENT
DTSTART;TZID=America/Chicago:20241027T190000
DTEND;TZID=America/Chicago:20241027T220000
DTSTAMP:20260422T114100
CREATED:20240903T212428Z
LAST-MODIFIED:20240903T212428Z
UID:10021849-1730055600-1730066400@www.goeldorado.com
SUMMARY:The Haunt
DESCRIPTION:You are alone and hear a noise. \nBut\, when you turn to see what caused the noise\, nothing is there. \nA chill runs down your spine. \nIs someone watching you??? \nPerhaps your mind is playing tricks on you. \nOr\, perhaps\, that eerie\, unexplained noise is caused by something you cannot see\, something you don’t want to see. \nJoin us at this year’s El Dorado Haunt and face your Boogeyman as we present  \n“CREATURES OF THE NIGHT.”
URL:https://www.goeldorado.com/event/the-haunt-3/2024-10-27/
LOCATION:Camp Wotapi\, 4100 Wotapi Dr\, El Dorado\, AR\, 71730\, United States
CATEGORIES:Community,Family and Children,Holiday
ORGANIZER;CN="Campfire El Dorado":MAILTO:campfire@suddenlinkmail.com
END:VEVENT
END:VCALENDAR