BEGIN:VCALENDAR
VERSION:2.0
PRODID:-//El Dorado, Arkansas - ECPv6.15.20//NONSGML v1.0//EN
CALSCALE:GREGORIAN
METHOD:PUBLISH
X-WR-CALNAME:El Dorado, Arkansas
X-ORIGINAL-URL:https://www.goeldorado.com
X-WR-CALDESC:Events for El Dorado, Arkansas
REFRESH-INTERVAL;VALUE=DURATION:PT1H
X-Robots-Tag:noindex
X-PUBLISHED-TTL:PT1H
BEGIN:VTIMEZONE
TZID:America/Chicago
BEGIN:DAYLIGHT
TZOFFSETFROM:-0600
TZOFFSETTO:-0500
TZNAME:CDT
DTSTART:20250309T080000
END:DAYLIGHT
BEGIN:STANDARD
TZOFFSETFROM:-0500
TZOFFSETTO:-0600
TZNAME:CST
DTSTART:20251102T070000
END:STANDARD
BEGIN:DAYLIGHT
TZOFFSETFROM:-0600
TZOFFSETTO:-0500
TZNAME:CDT
DTSTART:20260308T080000
END:DAYLIGHT
BEGIN:STANDARD
TZOFFSETFROM:-0500
TZOFFSETTO:-0600
TZNAME:CST
DTSTART:20261101T070000
END:STANDARD
BEGIN:DAYLIGHT
TZOFFSETFROM:-0600
TZOFFSETTO:-0500
TZNAME:CDT
DTSTART:20270314T080000
END:DAYLIGHT
BEGIN:STANDARD
TZOFFSETFROM:-0500
TZOFFSETTO:-0600
TZNAME:CST
DTSTART:20271107T070000
END:STANDARD
BEGIN:DAYLIGHT
TZOFFSETFROM:-0600
TZOFFSETTO:-0500
TZNAME:CDT
DTSTART:20280312T080000
END:DAYLIGHT
BEGIN:STANDARD
TZOFFSETFROM:-0500
TZOFFSETTO:-0600
TZNAME:CST
DTSTART:20281105T070000
END:STANDARD
BEGIN:DAYLIGHT
TZOFFSETFROM:-0600
TZOFFSETTO:-0500
TZNAME:CDT
DTSTART:20290311T080000
END:DAYLIGHT
BEGIN:STANDARD
TZOFFSETFROM:-0500
TZOFFSETTO:-0600
TZNAME:CST
DTSTART:20291104T070000
END:STANDARD
BEGIN:DAYLIGHT
TZOFFSETFROM:-0600
TZOFFSETTO:-0500
TZNAME:CDT
DTSTART:20300310T080000
END:DAYLIGHT
BEGIN:STANDARD
TZOFFSETFROM:-0500
TZOFFSETTO:-0600
TZNAME:CST
DTSTART:20301103T070000
END:STANDARD
END:VTIMEZONE
BEGIN:VEVENT
DTSTART;TZID=America/Chicago:20260719T140000
DTEND;TZID=America/Chicago:20260719T170000
DTSTAMP:20260424T082457
CREATED:20251212T165309Z
LAST-MODIFIED:20251212T165309Z
UID:10028742-1784469600-1784480400@www.goeldorado.com
SUMMARY:SAAC: Summer Musical "Legally Blonde"
DESCRIPTION:
URL:https://www.goeldorado.com/event/saac-summer-musical-legally-blonde/2026-07-19/
LOCATION:South Arkansas Arts Center
CATEGORIES:Arts & Culture,Community,Family and Children
END:VEVENT
BEGIN:VEVENT
DTSTART;TZID=America/Chicago:20260720T100000
DTEND;TZID=America/Chicago:20260725T160000
DTSTAMP:20260424T082457
CREATED:20260417T183130Z
LAST-MODIFIED:20260421T174144Z
UID:10029793-1784541600-1784995200@www.goeldorado.com
SUMMARY:SAAC: “Annie\, Kids” Penguin Project
DESCRIPTION:July 20-25 \nPenguin Project is a theatre production that pairs special needs Artists with peer Mentors. Artists in grades 3-12\, and mentors in grades 5-12 are both welcome. \nMentor participation is subject to director approval. After mentors have been selected\, they will meet Monday-Friday\, from 10:00-3:00\, with small groups called from 3:00-4:00. Please bring a sack lunch. \nArtists will meet from 12:30 to 3:00 each day\, with small groups from 3:00-4:00 if called. \nPerformance will be Saturday\, July 25.
URL:https://www.goeldorado.com/event/saac-annie-kids-penguin-project/
LOCATION:South Arkansas Arts Center
CATEGORIES:Arts & Culture,Family and Children
ATTACH;FMTTYPE=image/jpeg:https://www.goeldorado.com/wp-content/uploads/2026/04/SUM26-Penguin-Project.jpg
END:VEVENT
BEGIN:VEVENT
DTSTART;TZID=America/Chicago:20260720T130000
DTEND;TZID=America/Chicago:20260724T160000
DTSTAMP:20260424T082457
CREATED:20260417T183459Z
LAST-MODIFIED:20260421T174256Z
UID:10029794-1784552400-1784908800@www.goeldorado.com
SUMMARY:SAAC: iPad Drawing Camp
DESCRIPTION:July 20-24 \nStudents entering grades 4 through 12 will work with Mr. Mike to learn to use and maximize digital drawing techniques with the Procreate program. The camp will meet each day from 1-4pm. \nCost is $120/145
URL:https://www.goeldorado.com/event/saac-ipad-drawing-camp/
LOCATION:South Arkansas Arts Center
CATEGORIES:Arts & Culture
ATTACH;FMTTYPE=image/jpeg:https://www.goeldorado.com/wp-content/uploads/2026/04/SUM26-iPad.jpg
END:VEVENT
BEGIN:VEVENT
DTSTART;TZID=America/Chicago:20260727T090000
DTEND;TZID=America/Chicago:20260731T160000
DTSTAMP:20260424T082457
CREATED:20260417T184652Z
LAST-MODIFIED:20260421T174504Z
UID:10029796-1785142800-1785513600@www.goeldorado.com
SUMMARY:SAAC: “Spirit of the Tides” Ballet Camp
DESCRIPTION:Junior Camp dancers entering 1st through 4th grade\, or who have been enrolled in Ballet 1\, 2\, or 3 at SAAC\, will build their skills\, learn choreography\, and perform. Senior Camp dancers entering grades 5 and up\, or enrolled in SAAC’s Ballet 4 and 5\, are also invited to participate in this summer’s Ballet Camp experience. \nJunior campers (1st-4th grades) will attend from 1:30 to 4:00 p.m. every day\, with the exception of Friday\, when they will stay through the 6:00 p.m. showcase. Bring a snack on Friday! \nSenior campers (grades 5 and up) will attend from 9am-2pm. Bring a lunch every day. Friday all dancers will stay through the 6 pm performance. \nSAAC Ballet Camps offer the unique opportunity to take not only classical ballet classes to develop technique\, but also perform in an original mini-ballet\, to help dancers cultivate expression and artistry. Dancers will be involved in all aspects of the production including costume design\, set construction\, and developing choreography. \nDancers of all experience levels are needed and encouraged; former ballet experience is not required\, as choreography will be created and adjusted to fit all levels of experience so that dancers feel comfortable and look good on stage. \nFormer SAAC dancers and dancers from all studios are welcome at Ballet Camp for the summer show. \nCost is $120/145
URL:https://www.goeldorado.com/event/saac-spirit-of-the-tides-ballet-camp/
LOCATION:South Arkansas Arts Center
CATEGORIES:Arts & Culture,Family and Children
ATTACH;FMTTYPE=image/jpeg:https://www.goeldorado.com/wp-content/uploads/2026/04/SUM26-Ballet-junior.jpg
END:VEVENT
BEGIN:VEVENT
DTSTART;TZID=America/Chicago:20260727T130000
DTEND;TZID=America/Chicago:20260731T160000
DTSTAMP:20260424T082457
CREATED:20260417T183855Z
LAST-MODIFIED:20260421T174329Z
UID:10029795-1785157200-1785513600@www.goeldorado.com
SUMMARY:SAAC: Pencil Drawing Camp
DESCRIPTION:July 27-31 \nStudents entering grades 4 through 12 will take a deep dive into pencil drawing with Mr. Mike! Each day from 1pm to 4pm\, students will learn colored pencil technique\, composition\, and shading with a master of the form. All students will take home a sketchbook and pencils at the end of the week. \nCost is $120/145
URL:https://www.goeldorado.com/event/saac-pencil-drawing-camp/
LOCATION:South Arkansas Arts Center
CATEGORIES:Arts & Culture
ATTACH;FMTTYPE=image/jpeg:https://www.goeldorado.com/wp-content/uploads/2026/04/SUM26-Drawing-Camp.jpg
END:VEVENT
BEGIN:VEVENT
DTSTART;TZID=America/Chicago:20261024T180000
DTEND;TZID=America/Chicago:20261024T220000
DTSTAMP:20260424T082457
CREATED:20260113T163347Z
LAST-MODIFIED:20260113T174623Z
UID:10028779-1792864800-1792879200@www.goeldorado.com
SUMMARY:Night Of The Living Newtons
DESCRIPTION:Join us for Night Of The Living Newtons for haunted hayrides\, candlelit tours of the Newton House\, and much more!
URL:https://www.goeldorado.com/event/night-of-the-living-newtons-5/
LOCATION:The Newton House\, 510 N. Jackson Ave.\, El Dorado\, AR\, 71730
CATEGORIES:Arts & Culture,Business,Clubs/Organizations,Community,Family and Children,Festivals & Celebrations,Holiday
ORGANIZER;CN="South Arkansas Historical Preservation Society":MAILTO:info@soarkhistory.com
END:VEVENT
BEGIN:VEVENT
DTSTART;TZID=America/Chicago:20261203T190000
DTEND;TZID=America/Chicago:20261203T210000
DTSTAMP:20260424T082457
CREATED:20250311T144511Z
LAST-MODIFIED:20250311T144511Z
UID:10025378-1796324400-1796331600@www.goeldorado.com
SUMMARY:El Dorado Christmas Parade
DESCRIPTION:
URL:https://www.goeldorado.com/event/el-dorado-christmas-parade-2/2026-12-03/
LOCATION:El Dorado\, N West Ave
CATEGORIES:Arts & Culture,Chamber Of Commerce,Clubs/Organizations,Community,Family and Children,Festivals & Celebrations,Holiday,Schools
END:VEVENT
BEGIN:VEVENT
DTSTART;TZID=America/Chicago:20261219T140000
DTEND;TZID=America/Chicago:20261219T180000
DTSTAMP:20260424T082457
CREATED:20260113T163946Z
LAST-MODIFIED:20260113T174224Z
UID:10028776-1797688800-1797703200@www.goeldorado.com
SUMMARY:Santa's Last Stop
DESCRIPTION:Join us at the Newton House for a celebration of the holiday season\, and pictures with Santa!
URL:https://www.goeldorado.com/event/santas-last-stop-2/
LOCATION:The Newton House\, 510 N. Jackson Ave.\, El Dorado\, AR\, 71730
CATEGORIES:Arts & Culture,Business,Clubs/Organizations,Community,Family and Children,Festivals & Celebrations,Holiday
ATTACH;FMTTYPE=image/png:https://www.goeldorado.com/wp-content/uploads/2026/01/Banner-Small1.png
ORGANIZER;CN="South Arkansas Historical Preservation Society":MAILTO:info@soarkhistory.com
END:VEVENT
BEGIN:VEVENT
DTSTART;TZID=America/Chicago:20271202T190000
DTEND;TZID=America/Chicago:20271202T210000
DTSTAMP:20260424T082457
CREATED:20250311T144511Z
LAST-MODIFIED:20250311T144511Z
UID:10025379-1827774000-1827781200@www.goeldorado.com
SUMMARY:El Dorado Christmas Parade
DESCRIPTION:
URL:https://www.goeldorado.com/event/el-dorado-christmas-parade-2/2027-12-02/
LOCATION:El Dorado\, N West Ave
CATEGORIES:Arts & Culture,Chamber Of Commerce,Clubs/Organizations,Community,Family and Children,Festivals & Celebrations,Holiday,Schools
END:VEVENT
BEGIN:VEVENT
DTSTART;TZID=America/Chicago:20281207T190000
DTEND;TZID=America/Chicago:20281207T210000
DTSTAMP:20260424T082457
CREATED:20250311T144511Z
LAST-MODIFIED:20250311T144511Z
UID:10025380-1859828400-1859835600@www.goeldorado.com
SUMMARY:El Dorado Christmas Parade
DESCRIPTION:
URL:https://www.goeldorado.com/event/el-dorado-christmas-parade-2/2028-12-07/
LOCATION:El Dorado\, N West Ave
CATEGORIES:Arts & Culture,Chamber Of Commerce,Clubs/Organizations,Community,Family and Children,Festivals & Celebrations,Holiday,Schools
END:VEVENT
BEGIN:VEVENT
DTSTART;TZID=America/Chicago:20291206T190000
DTEND;TZID=America/Chicago:20291206T210000
DTSTAMP:20260424T082457
CREATED:20250311T144511Z
LAST-MODIFIED:20250311T144511Z
UID:10025381-1891278000-1891285200@www.goeldorado.com
SUMMARY:El Dorado Christmas Parade
DESCRIPTION:
URL:https://www.goeldorado.com/event/el-dorado-christmas-parade-2/2029-12-06/
LOCATION:El Dorado\, N West Ave
CATEGORIES:Arts & Culture,Chamber Of Commerce,Clubs/Organizations,Community,Family and Children,Festivals & Celebrations,Holiday,Schools
END:VEVENT
END:VCALENDAR