BEGIN:VCALENDAR
VERSION:2.0
PRODID:-//El Dorado, Arkansas - ECPv6.15.20//NONSGML v1.0//EN
CALSCALE:GREGORIAN
METHOD:PUBLISH
X-WR-CALNAME:El Dorado, Arkansas
X-ORIGINAL-URL:https://www.goeldorado.com
X-WR-CALDESC:Events for El Dorado, Arkansas
REFRESH-INTERVAL;VALUE=DURATION:PT1H
X-Robots-Tag:noindex
X-PUBLISHED-TTL:PT1H
BEGIN:VTIMEZONE
TZID:America/Chicago
BEGIN:DAYLIGHT
TZOFFSETFROM:-0600
TZOFFSETTO:-0500
TZNAME:CDT
DTSTART:20220313T080000
END:DAYLIGHT
BEGIN:STANDARD
TZOFFSETFROM:-0500
TZOFFSETTO:-0600
TZNAME:CST
DTSTART:20221106T070000
END:STANDARD
BEGIN:DAYLIGHT
TZOFFSETFROM:-0600
TZOFFSETTO:-0500
TZNAME:CDT
DTSTART:20230312T080000
END:DAYLIGHT
BEGIN:STANDARD
TZOFFSETFROM:-0500
TZOFFSETTO:-0600
TZNAME:CST
DTSTART:20231105T070000
END:STANDARD
BEGIN:DAYLIGHT
TZOFFSETFROM:-0600
TZOFFSETTO:-0500
TZNAME:CDT
DTSTART:20240310T080000
END:DAYLIGHT
BEGIN:STANDARD
TZOFFSETFROM:-0500
TZOFFSETTO:-0600
TZNAME:CST
DTSTART:20241103T070000
END:STANDARD
END:VTIMEZONE
BEGIN:VEVENT
DTSTART;TZID=America/Chicago:20230602T110000
DTEND;TZID=America/Chicago:20230602T113000
DTSTAMP:20260421T102824
CREATED:20230524T150840Z
LAST-MODIFIED:20230524T150933Z
UID:10014267-1685703600-1685705400@www.goeldorado.com
SUMMARY:Ribbon Cutting Hogwild Bins & Bargins
DESCRIPTION:El Dorado-Union County Chamber of Commerce will host a Ribbon Cutting at Hogwild Bins & Bargins \n 
URL:https://www.goeldorado.com/event/ribbon-cutting-hogwild-bins-bargins/
LOCATION:Hogwild Bins & Bargins\, 2886 N West Ave\, El Dorado\, AR\, 71730\, United States
CATEGORIES:Business,Chamber Of Commerce,Community
END:VEVENT
BEGIN:VEVENT
DTSTART;TZID=America/Chicago:20230608T110000
DTEND;TZID=America/Chicago:20230608T113000
DTSTAMP:20260421T102824
CREATED:20230524T151221Z
LAST-MODIFIED:20230524T151221Z
UID:10014268-1686222000-1686223800@www.goeldorado.com
SUMMARY:Ribbon Cutting Ideal Options
DESCRIPTION:El Dorado-Union County Chamber of Commerce will host a Ribbon Cutting for Ideal Options. \n625 E Main St
URL:https://www.goeldorado.com/event/ribbon-cutting-ideal-options/
LOCATION:Ideal Options\, 625 E Main St\, El Dorado\, AR\, United States
CATEGORIES:Business,Chamber Of Commerce,Community
END:VEVENT
BEGIN:VEVENT
DTSTART;TZID=America/Chicago:20230610T110000
DTEND;TZID=America/Chicago:20230610T130000
DTSTAMP:20260421T102824
CREATED:20230524T142307Z
LAST-MODIFIED:20230524T142315Z
UID:10014264-1686394800-1686402000@www.goeldorado.com
SUMMARY:Block Party Free Little Pantry Launch
DESCRIPTION:Engage Arkansas in partnership with El Dorado Rotary Club and Murphy USA will be hosting a Block Party to Celebrate the installation of the Free Little Food Pantry @ 1322 W Hillsboro. Join us from 11-1 for hot dogs and fun as we launch!
URL:https://www.goeldorado.com/event/block-party-free-little-pantry-launch/
LOCATION:Hillsboro Church of Christ\, 1322 W Hillsboro
CATEGORIES:Business,Clubs/Organizations,Family and Children,Festivals & Celebrations
ATTACH;FMTTYPE=image/png:https://www.goeldorado.com/wp-content/uploads/2023/05/free-little-food-pantry-1.png
END:VEVENT
BEGIN:VEVENT
DTSTART;TZID=America/Chicago:20230613T090000
DTEND;TZID=America/Chicago:20230613T100000
DTSTAMP:20260421T102824
CREATED:20230525T201626Z
LAST-MODIFIED:20230525T201626Z
UID:10014270-1686646800-1686650400@www.goeldorado.com
SUMMARY:Coffee w/ Causes @ The Chamber of Commerce
DESCRIPTION:The El Dorado-Union County Chamber of Commerce invite all Union county Non-Profits to a time of networking and learning. The second Tuesday of every month from 9-10 @ the Chamber of Commerce. \ncall Karen if you have any questions 870-312-5106
URL:https://www.goeldorado.com/event/coffee-w-causes-the-chamber-of-commerce/
LOCATION:El Dorado-Union County Chamber of Commerce\, 111 W. Main Street\, El Dorado\, AR\, 71730
CATEGORIES:Business,Chamber Of Commerce,Community
ATTACH;FMTTYPE=image/jpeg:https://www.goeldorado.com/wp-content/uploads/2023/05/211-june-coffee-meeting.jpg
END:VEVENT
BEGIN:VEVENT
DTSTART;TZID=America/Chicago:20230620T170000
DTEND;TZID=America/Chicago:20230620T180000
DTSTAMP:20260421T102824
CREATED:20230525T171116Z
LAST-MODIFIED:20230525T173949Z
UID:10014269-1687280400-1687284000@www.goeldorado.com
SUMMARY:Business After Hours: Mahony Family Library
DESCRIPTION:The El Dorado-Union County Chamber of Commerce invite you to the June 2023 Business After Hours. This Networking Events is a great way to meet other business leaders in our community. Cost is $5 and BRING YOUR BUSINESS CARDS!
URL:https://www.goeldorado.com/event/business-after-hours-mahony-family-library/
LOCATION:Mahony Family Library\, 300 Summit Ave\, El Dorado\, AR\, 71730\, United States
CATEGORIES:Business,Chamber Of Commerce,Community
ATTACH;FMTTYPE=image/png:https://www.goeldorado.com/wp-content/uploads/2023/05/Business-After-Hours-1.png
END:VEVENT
BEGIN:VEVENT
DTSTART;TZID=America/Chicago:20230630T110000
DTEND;TZID=America/Chicago:20230630T170000
DTSTAMP:20260421T102824
CREATED:20230621T152234Z
LAST-MODIFIED:20230621T152234Z
UID:10014333-1688122800-1688144400@www.goeldorado.com
SUMMARY:Ribbon Cutting/Grand Opening Pure Bliss
DESCRIPTION:
URL:https://www.goeldorado.com/event/ribbon-cutting-grand-opening-pure-bliss/
LOCATION:Pure Bliss Spa and Salon\, 514 W Main\, El Dorado\, AR\, 71730
CATEGORIES:Business,Chamber Of Commerce
ATTACH;FMTTYPE=image/jpeg:https://www.goeldorado.com/wp-content/uploads/2023/06/pure-bliss.jpg
END:VEVENT
END:VCALENDAR