BEGIN:VCALENDAR
VERSION:2.0
PRODID:-//El Dorado, Arkansas - ECPv6.15.20//NONSGML v1.0//EN
CALSCALE:GREGORIAN
METHOD:PUBLISH
X-WR-CALNAME:El Dorado, Arkansas
X-ORIGINAL-URL:https://www.goeldorado.com
X-WR-CALDESC:Events for El Dorado, Arkansas
REFRESH-INTERVAL;VALUE=DURATION:PT1H
X-Robots-Tag:noindex
X-PUBLISHED-TTL:PT1H
BEGIN:VTIMEZONE
TZID:America/Chicago
BEGIN:DAYLIGHT
TZOFFSETFROM:-0600
TZOFFSETTO:-0500
TZNAME:CDT
DTSTART:20220313T080000
END:DAYLIGHT
BEGIN:STANDARD
TZOFFSETFROM:-0500
TZOFFSETTO:-0600
TZNAME:CST
DTSTART:20221106T070000
END:STANDARD
BEGIN:DAYLIGHT
TZOFFSETFROM:-0600
TZOFFSETTO:-0500
TZNAME:CDT
DTSTART:20230312T080000
END:DAYLIGHT
BEGIN:STANDARD
TZOFFSETFROM:-0500
TZOFFSETTO:-0600
TZNAME:CST
DTSTART:20231105T070000
END:STANDARD
BEGIN:DAYLIGHT
TZOFFSETFROM:-0600
TZOFFSETTO:-0500
TZNAME:CDT
DTSTART:20240310T080000
END:DAYLIGHT
BEGIN:STANDARD
TZOFFSETFROM:-0500
TZOFFSETTO:-0600
TZNAME:CST
DTSTART:20241103T070000
END:STANDARD
END:VTIMEZONE
BEGIN:VEVENT
DTSTART;TZID=America/Chicago:20230711T090000
DTEND;TZID=America/Chicago:20230711T100000
DTSTAMP:20260425T120206
CREATED:20230629T163916Z
LAST-MODIFIED:20230629T163916Z
UID:10014434-1689066000-1689069600@www.goeldorado.com
SUMMARY:Coffee with Causes
DESCRIPTION:The El Dorado-Union County Chamber of Commerce hosts Non-profits from the community to a monthly time of networking and learning! \nThis month our speaker will be Jackie Stratton with 100 Families. All non-profits are invited to join us and learn about this program.
URL:https://www.goeldorado.com/event/coffee-with-causes/
LOCATION:El Dorado-Union County Chamber of Commerce\, 111 W. Main Street\, El Dorado\, AR\, 71730
CATEGORIES:Business,Chamber Of Commerce,Community
ATTACH;FMTTYPE=image/png:https://www.goeldorado.com/wp-content/uploads/2023/06/Coffee-with-Causes-4.png
END:VEVENT
BEGIN:VEVENT
DTSTART;VALUE=DATE:20230712
DTEND;VALUE=DATE:20230717
DTSTAMP:20260425T120206
CREATED:20230606T181011Z
LAST-MODIFIED:20230607T133111Z
UID:10014282-1689120000-1689551999@www.goeldorado.com
SUMMARY:Hannah Pregnancy Resource Center Annual Online Auction Fundraiser
DESCRIPTION:It’s not too early to start shopping for Christmas! This Wednesday\, July 12th beginning at 8 AM\, the Hannah Pregnancy Resource Center will host its 9th annual online fundraiser.\n\nThe nonprofit center offers a variety of free services to those who find themselves facing an unplanned pregnancy and other life challenges.  Services include free pregnancy tests\, ultrasounds\, parenting and life-skills classes\, abstinence education\, material needs\, post abortive counseling\, addiction relapse prevention\, and other resources. Since 2000\, the pregnancy center has served countless women and their families in need of help. Supporting this organization by participating in the auction will help them continue meeting a great need in Columbia\, Ouachita and Union County. \nThis online event will have many items for auction. Local businesses have donated items and services in order to partner with the center as a way to serve their community. From home décor\, to socket sets\, to gift certificates to local restaurants and retailers\, there is something for everyone! \nThe auction will run for 5 days and can be accessed this Wednesday\, July 12th at 8 AM through the Hannah PRC website: www.hannahprc.com. Click on the “Hannah Auction” banner. The auction will close at 8PM on July 16th.   If you would like to know more\, please call the Hannah Pregnancy Resource Center office at 870-862-1317. \nShop and support a worthy cause!
URL:https://www.goeldorado.com/event/hannah-pregnancy-resource-center-annual-online-auction-fundraiser/
LOCATION:AR
CATEGORIES:Business,Community
ATTACH;FMTTYPE=image/jpeg:https://www.goeldorado.com/wp-content/uploads/2023/06/Auction-Flyer-for-chamber-website-2023-1140-×-641-px.jpg
END:VEVENT
BEGIN:VEVENT
DTSTART;TZID=America/Chicago:20230718T170000
DTEND;TZID=America/Chicago:20230718T180000
DTSTAMP:20260425T120206
CREATED:20230621T152905Z
LAST-MODIFIED:20230621T152905Z
UID:10014334-1689699600-1689703200@www.goeldorado.com
SUMMARY:Business After Hours @ Career Accelerator
DESCRIPTION:Business After Hours is THE Networking Event in Union County.  In July we will be visited the New Career Accelerator at the South Arkansas College Campus (formerly East Branch). We look forward to highlighting this amazing opportunity for the community. For more information contact karen@goeldorado.com. Cost is $5 and don’t forget your business cards.
URL:https://www.goeldorado.com/event/business-after-hours-career-accelerator/
LOCATION:Career Accelerator\, 3696 E Main\, El Dorado\, AR\, 71730
CATEGORIES:Business,Chamber Of Commerce
ATTACH;FMTTYPE=image/png:https://www.goeldorado.com/wp-content/uploads/2023/06/Business.png
END:VEVENT
BEGIN:VEVENT
DTSTART;TZID=America/Chicago:20230720T063000
DTEND;TZID=America/Chicago:20230720T083000
DTSTAMP:20260425T120206
CREATED:20230711T162357Z
LAST-MODIFIED:20230718T170920Z
UID:10014463-1689834600-1689841800@www.goeldorado.com
SUMMARY:Summer Block Party
DESCRIPTION:Reservations Required by Monday\, July 17: 870 – 862-5437 or stop by All About Flowers\n$60 per person \nSummer Block Party\n6:30 – 8:30 PM\n@ All About Flowers \nActivities with: All about Flowers\, The Rolling Pin\, Kyle & Co.\, Murphy Pitard Jewelers\, Martha’s On the Square and Wildcat Energy & Snack Bar.
URL:https://www.goeldorado.com/event/summer-block-party/
LOCATION:All About Flowers\, 106 E Elm\, El Dorado\, AR\, 71730\, United States
CATEGORIES:Business,Community
ATTACH;FMTTYPE=image/jpeg:https://www.goeldorado.com/wp-content/uploads/2023/07/358623986_1034550074598567_6747899132207368287_n.jpg
END:VEVENT
BEGIN:VEVENT
DTSTART;TZID=America/Chicago:20230721T160000
DTEND;TZID=America/Chicago:20230721T170000
DTSTAMP:20260425T120206
CREATED:20230713T211324Z
LAST-MODIFIED:20230713T211324Z
UID:10014473-1689955200-1689958800@www.goeldorado.com
SUMMARY:Ribbon Cutting: Women Moving Forward
DESCRIPTION:
URL:https://www.goeldorado.com/event/ribbon-cutting-women-moving-forward/
LOCATION:Memorial Stadium\, N West Ave\, El Dorado\, AR\, 71730\, United States
CATEGORIES:Business,Chamber Of Commerce,Recreation & Sports
ATTACH;FMTTYPE=image/png:https://www.goeldorado.com/wp-content/uploads/2023/07/Ribbon-Cutting-May-21-4pm-East-Side-of-Memorial-Stadium.png
END:VEVENT
BEGIN:VEVENT
DTSTART;TZID=America/Chicago:20230722T120000
DTEND;TZID=America/Chicago:20230722T170000
DTSTAMP:20260425T120206
CREATED:20230718T142800Z
LAST-MODIFIED:20230718T143303Z
UID:10014476-1690027200-1690045200@www.goeldorado.com
SUMMARY:Meet and Greet @ Gabe's Cave: Author T.B. Phillips
DESCRIPTION:From his website tbphillips.com:\nInternational Bestselling author Tom “T.B.” Phillips writes Fantasy and Science Fiction.\nA prolific writer\, he has published eleven works in forty-five months\, beginning with Andalon Awakens in 2019\, kicking off his award winning series Dreamers of Andalon. In 2020 he released Andalon Arises and Andalon Attacks to complete the series\, extending it in 2022 with Andalon Project\, Andalon Paradox\, and Andalon Legacy. Other works include the Corrupted Realms series\, which kicked off with Wailing Tempest in April 2021 and continued with Howling Shadow in August 2021. In October 2022 he also published Ferryman\, a supernatural thriller based on Ferryman Tales comic series by Chris Hays and McLain McGuire of Charter Comics.\nDreamers of Andalon is just one of many in his visionary Andalon® Saga\, and is a cautionary fantasy adventure taking place twelve hundred years in our future and set in the age of sail. He has been lauded for his skillfully choreographed sea battles and action sequences. He builds worlds around imaginative settings and writes with a cinematic flair that readers claim paints the story in their minds.\nHe has always been passionate about writing\, and as a youth he would borrow his mother’s typewriter and click out stories that thankfully the world will never see.\nHe has a passion for writing that came from influences such as J.R.R. Tolkien\, Isaac Asimov\, Ray Bradbury\, Douglas Adams\, and Ian Fleming. His favorite contemporary authors are Brandon Sanderson\, Michael J. Sullivan\, and George R. R. Martin.\nHe is a former sailor and educator. He served the United States Navy as a Chief Cryptologic Technician and Analyst\, living out his own adventures while learning about the world. Many of characters are a sum of the people he met and interacted with during his travels\, as evidenced by the comradery displayed in his novels. He retired from active duty in 2008 and earned two Master’s Degrees from Midwestern State University in his home town of Wichita Falls\, Tx. He then taught English and History before becoming a public school principal and stepping out of education to focus on writing in 2020.\nHe now lives in Fort Worth\, Tx with his beautiful wife Jaana. They are a blended family and combined have six children.
URL:https://www.goeldorado.com/event/meet-and-greet-gabes-cave-author-t-b-phillips/
LOCATION:Gabe’s Cave\, 2101 N College\, El Dorado\, AR\, 71730\, United States
CATEGORIES:Arts & Culture,Business,Community,Family and Children
ATTACH;FMTTYPE=image/jpeg:https://www.goeldorado.com/wp-content/uploads/2023/07/phillips.jpg
END:VEVENT
BEGIN:VEVENT
DTSTART;TZID=America/Chicago:20230724T120000
DTEND;TZID=America/Chicago:20230724T130000
DTSTAMP:20260425T120206
CREATED:20230718T134514Z
LAST-MODIFIED:20230718T134525Z
UID:10014475-1690200000-1690203600@www.goeldorado.com
SUMMARY:El Dorado Rotary Club
DESCRIPTION:
URL:https://www.goeldorado.com/event/el-dorado-rotary-club/
LOCATION:HealthWorks Fitness Center\, 304 N. Madison\, El Dorado\, AR\, 71730
CATEGORIES:Business,Clubs/Organizations
ATTACH;FMTTYPE=image/jpeg:https://www.goeldorado.com/wp-content/uploads/2023/07/361559861_669979718500522_8214306891947290334_n.jpg
END:VEVENT
BEGIN:VEVENT
DTSTART;TZID=America/Chicago:20230724T170000
DTEND;TZID=America/Chicago:20230724T183000
DTSTAMP:20260425T120206
CREATED:20230718T134302Z
LAST-MODIFIED:20230718T134302Z
UID:10014474-1690218000-1690223400@www.goeldorado.com
SUMMARY:Meet & Greet @ Gold Cross Family Clinic in Junction City
DESCRIPTION:
URL:https://www.goeldorado.com/event/meet-greet-gold-cross-family-clinic-in-junction-city/
LOCATION:AR
CATEGORIES:Business,Community
ATTACH;FMTTYPE=image/jpeg:https://www.goeldorado.com/wp-content/uploads/2023/07/360135807_761584915970437_5870595608372871804_n.jpg
END:VEVENT
BEGIN:VEVENT
DTSTART;TZID=America/Chicago:20230725T170000
DTEND;TZID=America/Chicago:20230725T183000
DTSTAMP:20260425T120206
CREATED:20230713T162804Z
LAST-MODIFIED:20230713T162823Z
UID:10014471-1690304400-1690309800@www.goeldorado.com
SUMMARY:El Dorado Rotary Club July Networking Event: Excalibur
DESCRIPTION:The El Dorado Rotary Club’s July Networking Event.
URL:https://www.goeldorado.com/event/el-dorado-rotary-club-july-networking-event-excalibut/
LOCATION:Exacalibur Family Entertainment Center\, 1900 N West Ave\, El Dorado\, AR\, 71730
CATEGORIES:Business,Clubs/Organizations
ATTACH;FMTTYPE=image/png:https://www.goeldorado.com/wp-content/uploads/2023/07/July-25-5pm-1.png
END:VEVENT
BEGIN:VEVENT
DTSTART;TZID=America/Chicago:20230727T120000
DTEND;TZID=America/Chicago:20230727T130000
DTSTAMP:20260425T120206
CREATED:20230720T211346Z
LAST-MODIFIED:20230720T211346Z
UID:10014483-1690459200-1690462800@www.goeldorado.com
SUMMARY:Narcan Training: RSVP Required
DESCRIPTION:Narcan training 7.27.23 \nRSVP Required \nLearn the facts about opioid overdose and what can be done in an emergency. \nNarcan kits provided after the training. One hour \nLunch provided by Ideal Option
URL:https://www.goeldorado.com/event/narcan-training-rsvp-required/
LOCATION:El Dorado-Union County Chamber of Commerce\, 111 W. Main Street\, El Dorado\, AR\, 71730
CATEGORIES:Business,Education
ATTACH;FMTTYPE=application/pdf:https://www.goeldorado.com/wp-content/uploads/2023/07/Narcan-training-7.27.23-1.pdf
END:VEVENT
BEGIN:VEVENT
DTSTART;TZID=America/Chicago:20230728T160000
DTEND;TZID=America/Chicago:20230728T163000
DTSTAMP:20260425T120206
CREATED:20230629T132621Z
LAST-MODIFIED:20230629T132621Z
UID:10014430-1690560000-1690561800@www.goeldorado.com
SUMMARY:Ribbon Cutting Sticky Fingerz
DESCRIPTION: 
URL:https://www.goeldorado.com/event/ribbon-cutting-sticky-fingerz/
LOCATION:MAD Amphitheater\, 101 E Locust\, El Dorado\, AR\, 71730\, United States
CATEGORIES:Business,Chamber Of Commerce,Family and Children
ATTACH;FMTTYPE=image/png:https://www.goeldorado.com/wp-content/uploads/2023/06/sticky-fingerz-RC.png
END:VEVENT
END:VCALENDAR