BEGIN:VCALENDAR
VERSION:2.0
PRODID:-//El Dorado, Arkansas - ECPv6.15.20//NONSGML v1.0//EN
CALSCALE:GREGORIAN
METHOD:PUBLISH
X-ORIGINAL-URL:https://www.goeldorado.com
X-WR-CALDESC:Events for El Dorado, Arkansas
REFRESH-INTERVAL;VALUE=DURATION:PT1H
X-Robots-Tag:noindex
X-PUBLISHED-TTL:PT1H
BEGIN:VTIMEZONE
TZID:America/Chicago
BEGIN:DAYLIGHT
TZOFFSETFROM:-0600
TZOFFSETTO:-0500
TZNAME:CDT
DTSTART:20230312T080000
END:DAYLIGHT
BEGIN:STANDARD
TZOFFSETFROM:-0500
TZOFFSETTO:-0600
TZNAME:CST
DTSTART:20231105T070000
END:STANDARD
BEGIN:DAYLIGHT
TZOFFSETFROM:-0600
TZOFFSETTO:-0500
TZNAME:CDT
DTSTART:20240310T080000
END:DAYLIGHT
BEGIN:STANDARD
TZOFFSETFROM:-0500
TZOFFSETTO:-0600
TZNAME:CST
DTSTART:20241103T070000
END:STANDARD
BEGIN:DAYLIGHT
TZOFFSETFROM:-0600
TZOFFSETTO:-0500
TZNAME:CDT
DTSTART:20250309T080000
END:DAYLIGHT
BEGIN:STANDARD
TZOFFSETFROM:-0500
TZOFFSETTO:-0600
TZNAME:CST
DTSTART:20251102T070000
END:STANDARD
END:VTIMEZONE
BEGIN:VEVENT
DTSTART;TZID=America/Chicago:20240521T120000
DTEND;TZID=America/Chicago:20240521T130000
DTSTAMP:20260424T033829
CREATED:20240505T185325Z
LAST-MODIFIED:20240506T155203Z
UID:10018860-1716292800-1716296400@www.goeldorado.com
SUMMARY:Maximizing Productivity: Unleashing the Power of Getting Things Done  with Mark Day from Lanxess
DESCRIPTION:Discover the transformative power of Getting Things Done\, inspired by David Allen’s renowned methodology. Learn to efficiently capture all incoming requests\, streamline your inbox processing\, and conquer procrastination by taking decisive actions on tasks. Gain invaluable insights into organizing tasks and projects to optimize productivity and learn to seize the right opportunities at the right moments. Join us for an enlightening session where we’ll explore practical strategies to align your time and resources for true productivity\, not mere busyness. Featuring expert guidance from Mark Day\, this event promises to equip you with essential tools to navigate the complexities of modern productivity with ease. \nLunch will be provided for those who attend.
URL:https://www.goeldorado.com/event/maximizing-productivity-unleashing-the-power-of-getting-things-done-with-mark-day-from-lanxess/
LOCATION:Mahony Family Library\, 300 Summit Ave\, El Dorado\, AR\, 71730\, United States
CATEGORIES:Business,Continuing Education,Education
ATTACH;FMTTYPE=image/png:https://www.goeldorado.com/wp-content/uploads/2024/05/Mark-Day.png
END:VEVENT
BEGIN:VEVENT
DTSTART;TZID=America/Chicago:20240521T173000
DTEND;TZID=America/Chicago:20240521T190000
DTSTAMP:20260424T033829
CREATED:20231211T221422Z
LAST-MODIFIED:20240814T202724Z
UID:10016602-1716312600-1716318000@www.goeldorado.com
SUMMARY:Business After Hours @ Cole's Jewelers
DESCRIPTION:
URL:https://www.goeldorado.com/event/business-after-hours/2024-05-21/
LOCATION:Cole’s Jewelers\, 710 N West Ave\, El Dorado\, AR\, 71730
CATEGORIES:Business,Chamber Of Commerce
ATTACH;FMTTYPE=image/png:https://www.goeldorado.com/wp-content/uploads/2023/12/BAH-Coles.png
END:VEVENT
END:VCALENDAR