BEGIN:VCALENDAR
VERSION:2.0
PRODID:-//El Dorado, Arkansas - ECPv6.15.20//NONSGML v1.0//EN
CALSCALE:GREGORIAN
METHOD:PUBLISH
X-WR-CALNAME:El Dorado, Arkansas
X-ORIGINAL-URL:https://www.goeldorado.com
X-WR-CALDESC:Events for El Dorado, Arkansas
REFRESH-INTERVAL;VALUE=DURATION:PT1H
X-Robots-Tag:noindex
X-PUBLISHED-TTL:PT1H
BEGIN:VTIMEZONE
TZID:America/Chicago
BEGIN:DAYLIGHT
TZOFFSETFROM:-0600
TZOFFSETTO:-0500
TZNAME:CDT
DTSTART:20220313T080000
END:DAYLIGHT
BEGIN:STANDARD
TZOFFSETFROM:-0500
TZOFFSETTO:-0600
TZNAME:CST
DTSTART:20221106T070000
END:STANDARD
BEGIN:DAYLIGHT
TZOFFSETFROM:-0600
TZOFFSETTO:-0500
TZNAME:CDT
DTSTART:20230312T080000
END:DAYLIGHT
BEGIN:STANDARD
TZOFFSETFROM:-0500
TZOFFSETTO:-0600
TZNAME:CST
DTSTART:20231105T070000
END:STANDARD
BEGIN:DAYLIGHT
TZOFFSETFROM:-0600
TZOFFSETTO:-0500
TZNAME:CDT
DTSTART:20240310T080000
END:DAYLIGHT
BEGIN:STANDARD
TZOFFSETFROM:-0500
TZOFFSETTO:-0600
TZNAME:CST
DTSTART:20241103T070000
END:STANDARD
END:VTIMEZONE
BEGIN:VEVENT
DTSTART;TZID=America/Chicago:20231025T120000
DTEND;TZID=America/Chicago:20231025T130000
DTSTAMP:20260419T203936
CREATED:20231016T131805Z
LAST-MODIFIED:20231018T162522Z
UID:10015786-1698235200-1698238800@www.goeldorado.com
SUMMARY:Kiwanis Meeting
DESCRIPTION:
URL:https://www.goeldorado.com/event/kiwanis-meeting-2-2/2023-10-25/
LOCATION:First Presbyterian Church\, 300 E. Main St\, El Dorado
CATEGORIES:Business,Clubs/Organizations
END:VEVENT
BEGIN:VEVENT
DTSTART;TZID=America/Chicago:20231028T100000
DTEND;TZID=America/Chicago:20231028T180000
DTSTAMP:20260419T203936
CREATED:20231027T134031Z
LAST-MODIFIED:20231027T134031Z
UID:10015804-1698487200-1698516000@www.goeldorado.com
SUMMARY:Boo on the Block Bash @ Oddities
DESCRIPTION:
URL:https://www.goeldorado.com/event/boo-on-the-block-bash-oddities/
LOCATION:Oddities Novelties & More\, 408 S Washington\, El Dorado\, Arkansas\, 71730
CATEGORIES:Arts & Culture,Business,Community,Family and Children,Holiday
ATTACH;FMTTYPE=image/jpeg:https://www.goeldorado.com/wp-content/uploads/2023/10/396676490_329156846532149_3029194994690328801_n.jpg
END:VEVENT
BEGIN:VEVENT
DTSTART;TZID=America/Chicago:20231028T130000
DTEND;TZID=America/Chicago:20231028T150000
DTSTAMP:20260419T203936
CREATED:20231027T134555Z
LAST-MODIFIED:20231027T134555Z
UID:10015806-1698498000-1698505200@www.goeldorado.com
SUMMARY:Kids & Pets Costume Contest in Downtown El Dorado
DESCRIPTION:
URL:https://www.goeldorado.com/event/kids-pets-costume-contest-in-downtown-el-dorado/
LOCATION:Union County Courthouse\, 101 N. Washington\, El Dorado\, AR\, 71730
CATEGORIES:Arts & Culture,Business,Community,Family and Children,Festivals & Celebrations,Holiday
ATTACH;FMTTYPE=image/jpeg:https://www.goeldorado.com/wp-content/uploads/2023/10/395630435_329157086532125_5893719816077654175_n.jpg
END:VEVENT
BEGIN:VEVENT
DTSTART;TZID=America/Chicago:20231028T160000
DTEND;TZID=America/Chicago:20231028T190000
DTSTAMP:20260419T203936
CREATED:20231027T134246Z
LAST-MODIFIED:20231027T134312Z
UID:10015805-1698508800-1698519600@www.goeldorado.com
SUMMARY:Meet & Grett Walter Jones (Power Ranger!!) @ Gabe's Cave
DESCRIPTION:
URL:https://www.goeldorado.com/event/meet-grett-walter-jones-power-ranger-gabes-cave/
LOCATION:Gabe’s Cave\, 2101 N College\, El Dorado\, AR\, 71730\, United States
CATEGORIES:Arts & Culture,Business,Community,Family and Children
ATTACH;FMTTYPE=image/jpeg:https://www.goeldorado.com/wp-content/uploads/2023/10/395726263_329156903198810_988998526418118987_n.jpg
END:VEVENT
BEGIN:VEVENT
DTSTART;TZID=America/Chicago:20231028T180000
DTEND;TZID=America/Chicago:20231028T233000
DTSTAMP:20260419T203936
CREATED:20231027T144346Z
LAST-MODIFIED:20231027T144346Z
UID:10015807-1698516000-1698535800@www.goeldorado.com
SUMMARY:Saints & Sinners Costume Party @ Marilyn's on the Square
DESCRIPTION:
URL:https://www.goeldorado.com/event/saints-sinners-costume-party-marilyns-on-the-square/
LOCATION:Marilyn’s on the Square\, 119 N Jefferson\, El Dorado\, AR\, 71730\, United States
CATEGORIES:Business,Holiday
ATTACH;FMTTYPE=image/jpeg:https://www.goeldorado.com/wp-content/uploads/2023/10/394355972_833697182093053_8113961975033178573_n.jpg
END:VEVENT
BEGIN:VEVENT
DTSTART;TZID=America/Chicago:20231101T120000
DTEND;TZID=America/Chicago:20231101T130000
DTSTAMP:20260419T203936
CREATED:20231016T131805Z
LAST-MODIFIED:20231018T162522Z
UID:10015787-1698840000-1698843600@www.goeldorado.com
SUMMARY:Kiwanis Meeting
DESCRIPTION:
URL:https://www.goeldorado.com/event/kiwanis-meeting-2-2/2023-11-01/
LOCATION:First Presbyterian Church\, 300 E. Main St\, El Dorado
CATEGORIES:Business,Clubs/Organizations
END:VEVENT
BEGIN:VEVENT
DTSTART;TZID=America/Chicago:20231102T110000
DTEND;TZID=America/Chicago:20231102T113000
DTSTAMP:20260419T203936
CREATED:20231031T173744Z
LAST-MODIFIED:20231031T173744Z
UID:10015821-1698922800-1698924600@www.goeldorado.com
SUMMARY:Ribbon Cutting: Ike's Scooter Rentals
DESCRIPTION:
URL:https://www.goeldorado.com/event/ribbon-cutting-ikes-scooter-rentals/
LOCATION:Ike’s Scooter Rental\, 108 N Washington
CATEGORIES:Business,Chamber Of Commerce,Community
ATTACH;FMTTYPE=image/png:https://www.goeldorado.com/wp-content/uploads/2023/10/Ikes-RC.png
END:VEVENT
BEGIN:VEVENT
DTSTART;TZID=America/Chicago:20231103T193000
DTEND;TZID=America/Chicago:20231103T213000
DTSTAMP:20260419T203936
CREATED:20231103T170804Z
LAST-MODIFIED:20231103T170804Z
UID:10015830-1699039800-1699047000@www.goeldorado.com
SUMMARY:Chris Loggins LIVE @ DP's Food Truck Park
DESCRIPTION:
URL:https://www.goeldorado.com/event/chris-loggins-live-dps-food-truck-park/
LOCATION:DP’s Food Truck Court\, 2117 N College Ave\, 2117 N College Ave\, El Dorado\, AR\, 71730\, United States
CATEGORIES:Business,Family and Children,Live Music
END:VEVENT
BEGIN:VEVENT
DTSTART;TZID=America/Chicago:20231107T170000
DTEND;TZID=America/Chicago:20231107T190000
DTSTAMP:20260419T203936
CREATED:20231025T080008Z
LAST-MODIFIED:20231031T210630Z
UID:10015814-1699376400-1699383600@www.goeldorado.com
SUMMARY:Public Meeting SWAPDD\, Inc.
DESCRIPTION:PUBLIC MEETING NOTICE\nSOUTHWEST ARKANSAS PLANNING AND DEVELOPMENT DISTRICT\, INC.\nNotice of Intent to Apply for United State Environmental Protection \nAgency Brownfields Cleanup Grant \nWHAT: Public Involvement Meeting to discuss SWAPDD\, Inc. application for a\nBrownfield Cleanup Grant to remove asbestos from the Warner Brown Hospital\nWest Wing. \nWHEN: Tuesday\, November 7th\, 2023 at 5:00 PM \nWHERE: Union County Courthouse\n101 N Washington Ave\, El Dorado\, AR \nNotice of Intent to submit an application for a United State Environmental Protection Agency\nBrownfields Cleanup Grant by Southwest Arkansas Planning & Development District Inc. (SWAPDD\, Inc.)\nPublic Notice is hereby given that SWAPDD\, Inc. Brownfields Program intends to apply for the EPA\nBrownfields Cleanup Grant funding for the asbestos abatement of the Warner Brown Hospital (West\nWing) prior to renovations. A public meeting will be held on November 7th regarding approval of a grant\napplication to the Environmental Protection Agency to obtain Brownfields funding for asbestos\nabatement at the Warner Brown Hospital (West Wing). The property is to be redeveloped to better\nserve the needs of the community. The Warner Brown Hospital (West Wing) was built by investors in\n1920. Union County purchased the property in August of 2022\, and SWAPDD\, Inc. under Warranty Deed\nand a Remediation Grant Agreement obtained ownership of the property for removal of asbestos.\nOwnership reverts back to Union County once the property is abated of asbestos. The plans are to\nrenovate the property for possible college dorm rooms\, rental property\, offices\, or other departments\nunder the Union County umbrella. The hospital was built in a time period where it was common practice\nto use building materials that contain asbestos. Prior to any renovations asbestos containing materials\nwill need to be properly removed. SWAPDD\, Inc. encourages Union County and El Dorado citizens\,\nbusiness owners\, and other interested stakeholders to attend the November 7th public meeting to be\nheld at the Union County Courthouse to provide feedback and comments about this project. Comments\non the application can be sent to jimmy.parker@arkansas.gov. A copy of the ABCA plan and grant\napplication are available at the Union County Courthouse\, 101 N Washington Ave\, El Dorado\, AR 71730 for\nmore information about the Public Hearing please contact: Jimmy Parker\, Brownfields Coordinator\, 870\n235-7521 or jimmy.parker@arkansas.gov.
URL:https://www.goeldorado.com/event/public-meeting-swapdd-inc/
LOCATION:Union County Courthouse\, 101 N. Washington\, El Dorado\, AR\, 71730
CATEGORIES:Business,Government
ATTACH;FMTTYPE=image/jpeg:https://www.goeldorado.com/wp-content/uploads/2023/10/Public-Notice-Brownfield-Cleanup-Grant-Warner-Brown-Hospital-3.jpg
END:VEVENT
BEGIN:VEVENT
DTSTART;TZID=America/Chicago:20231108T110000
DTEND;TZID=America/Chicago:20231108T113000
DTSTAMP:20260419T203936
CREATED:20231107T163634Z
LAST-MODIFIED:20231107T163634Z
UID:10015837-1699441200-1699443000@www.goeldorado.com
SUMMARY:Ribbon Cutting: South Ark College Gear Shop
DESCRIPTION:
URL:https://www.goeldorado.com/event/ribbon-cutting-south-ark-college-gear-shop/
LOCATION:El Dorado Conference Center\, 311 S West Ave\, El Dorado\, 71730\, United States
CATEGORIES:Business,Chamber Of Commerce
ATTACH;FMTTYPE=image/png:https://www.goeldorado.com/wp-content/uploads/2023/11/Gear-Shop-Nov-8.png
END:VEVENT
BEGIN:VEVENT
DTSTART;TZID=America/Chicago:20231108T120000
DTEND;TZID=America/Chicago:20231108T130000
DTSTAMP:20260419T203936
CREATED:20231016T131805Z
LAST-MODIFIED:20231018T162522Z
UID:10015788-1699444800-1699448400@www.goeldorado.com
SUMMARY:Kiwanis Meeting
DESCRIPTION:
URL:https://www.goeldorado.com/event/kiwanis-meeting-2-2/2023-11-08/
LOCATION:First Presbyterian Church\, 300 E. Main St\, El Dorado
CATEGORIES:Business,Clubs/Organizations
END:VEVENT
BEGIN:VEVENT
DTSTART;TZID=America/Chicago:20231109T110000
DTEND;TZID=America/Chicago:20231109T113000
DTSTAMP:20260419T203936
CREATED:20231107T163806Z
LAST-MODIFIED:20231107T164035Z
UID:10015838-1699527600-1699529400@www.goeldorado.com
SUMMARY:Ribbon Cutting: Superior Senior Care
DESCRIPTION:
URL:https://www.goeldorado.com/event/ribbon-cutting-superior-senior-care/
LOCATION:Superior Senior Care\, 520 E 5th\, El Dorado\, AR\, 71730
CATEGORIES:Business,Chamber Of Commerce
ATTACH;FMTTYPE=image/png:https://www.goeldorado.com/wp-content/uploads/2023/11/Thursday-November-9-2023.png
END:VEVENT
BEGIN:VEVENT
DTSTART;TZID=America/Chicago:20231110T110000
DTEND;TZID=America/Chicago:20231110T140000
DTSTAMP:20260419T203936
CREATED:20231102T175018Z
LAST-MODIFIED:20231102T175018Z
UID:10015822-1699614000-1699624800@www.goeldorado.com
SUMMARY:Food Truck Friday @ the Newton House
DESCRIPTION:
URL:https://www.goeldorado.com/event/food-truck-friday-the-newton-house-3/
LOCATION:The Newton House\, 510 N. Jackson Ave.\, El Dorado\, AR\, 71730
CATEGORIES:Business,Community,Family and Children
ATTACH;FMTTYPE=image/jpeg:https://www.goeldorado.com/wp-content/uploads/2023/11/Nov.-10-FTF-scaled.jpg
ORGANIZER;CN="South Arkansas Historical Preservation Society":MAILTO:info@soarkhistory.com
END:VEVENT
BEGIN:VEVENT
DTSTART;TZID=America/Chicago:20231114T090000
DTEND;TZID=America/Chicago:20231114T220000
DTSTAMP:20260419T203936
CREATED:20231109T220228Z
LAST-MODIFIED:20231115T153758Z
UID:10016573-1699952400-1699999200@www.goeldorado.com
SUMMARY:Coffee with Causes: Special Guest CADC Part 1: Transportation
DESCRIPTION:November 23
URL:https://www.goeldorado.com/event/coffee-with-causes-special-guest-cadc-part-1-transportation/
LOCATION:El Dorado-Union County Chamber of Commerce\, 111 W. Main Street\, El Dorado\, AR\, 71730
CATEGORIES:Business,Chamber Of Commerce,Community,Government
ATTACH;FMTTYPE=application/pdf:https://www.goeldorado.com/wp-content/uploads/2023/11/November-23-1.pdf
END:VEVENT
BEGIN:VEVENT
DTSTART;VALUE=DATE:20231115
DTEND;VALUE=DATE:20231117
DTSTAMP:20260419T203936
CREATED:20231026T215232Z
LAST-MODIFIED:20231030T185334Z
UID:10015811-1700006400-1700179199@www.goeldorado.com
SUMMARY:CDP Brangus Fall Production Sale
DESCRIPTION:CDP Brangus Fall Production Sale @ Draggin’ M Ranch\, El Dorado AR.  \n\nNovember 15:\n11:00am: Cattle available for viewing\n6:00pm: Registered Female Sale \n\n\n\n\n\nNovember 16:\n8:00am: Cattle available for viewing\n10:00am: Bull Sale Begins\n12:00pm: Lunch\n1:00pm: Commercial Female Sale Begins \n\n 
URL:https://www.goeldorado.com/event/cdp-brangus-cattle-show-draggin-m-ranch/
LOCATION:Draggin M Ranch\, 785 Hinson Rd\, El Dorado\, AR\, 71730
CATEGORIES:Business,Clubs/Organizations,Recreation & Sports
END:VEVENT
BEGIN:VEVENT
DTSTART;TZID=America/Chicago:20231115T120000
DTEND;TZID=America/Chicago:20231115T130000
DTSTAMP:20260419T203936
CREATED:20231016T131805Z
LAST-MODIFIED:20231018T162522Z
UID:10015789-1700049600-1700053200@www.goeldorado.com
SUMMARY:Kiwanis Meeting
DESCRIPTION:
URL:https://www.goeldorado.com/event/kiwanis-meeting-2-2/2023-11-15/
LOCATION:First Presbyterian Church\, 300 E. Main St\, El Dorado
CATEGORIES:Business,Clubs/Organizations
END:VEVENT
BEGIN:VEVENT
DTSTART;TZID=America/Chicago:20231115T130000
DTEND;TZID=America/Chicago:20231115T140000
DTSTAMP:20260419T203936
CREATED:20231107T220708Z
LAST-MODIFIED:20231108T160931Z
UID:10016299-1700053200-1700056800@www.goeldorado.com
SUMMARY:Union County 100 Families Alliance Meeting
DESCRIPTION:100 Families is a community-led initiative to help families move from crisis to career using existing community resources by engaging community partners in an alliance\, training agencies on a collaborative case management system\, and recruiting case managers to respond when a family is in crisis. \n 
URL:https://www.goeldorado.com/event/union-county-100-families-alliance-meeting/
LOCATION:Simmons Bank\, 100 W Grove St 2nd floor\, El Dorado\, AR\, 71730\, United States
CATEGORIES:Business,Community
ATTACH;FMTTYPE=image/png:https://www.goeldorado.com/wp-content/uploads/2023/11/Logo-1.png
END:VEVENT
BEGIN:VEVENT
DTSTART;TZID=America/Chicago:20231117T100000
DTEND;TZID=America/Chicago:20231117T120000
DTSTAMP:20260419T203936
CREATED:20231107T164330Z
LAST-MODIFIED:20231107T164330Z
UID:10015839-1700215200-1700222400@www.goeldorado.com
SUMMARY:Ribbon Cutting & Grand ReOpening: WalMart Supercenter
DESCRIPTION:The event will be from 10-12 and the Ribbon Cutting will take place at 11AM
URL:https://www.goeldorado.com/event/ribbon-cutting-grand-reopening-walmart-supercenter/
LOCATION:WalMart\, 2730 N West Ave\, El Dorado\, AR\, 71730
CATEGORIES:Business,Chamber Of Commerce,Family and Children
ATTACH;FMTTYPE=image/png:https://www.goeldorado.com/wp-content/uploads/2023/11/walmart.png
END:VEVENT
BEGIN:VEVENT
DTSTART;TZID=America/Chicago:20231118T140000
DTEND;TZID=America/Chicago:20231118T160000
DTSTAMP:20260419T203936
CREATED:20231102T175152Z
LAST-MODIFIED:20231102T175152Z
UID:10015823-1700316000-1700323200@www.goeldorado.com
SUMMARY:Original Thanksgiving Dinner @ Gallery of History Musuem
DESCRIPTION:
URL:https://www.goeldorado.com/event/original-thanksgiving-dinner-gallery-of-history-musuem/
LOCATION:Gallery of History Museum\, 415 E Faulkner\, El Dorado\, AR\, 71730
CATEGORIES:Arts & Culture,Business,Community,Family and Children,Holiday
ATTACH;FMTTYPE=image/jpeg:https://www.goeldorado.com/wp-content/uploads/2023/11/Thanksgiving-Dinner-1-6-scaled.jpg
ORGANIZER;CN="South Arkansas Historical Preservation Society":MAILTO:info@soarkhistory.com
END:VEVENT
BEGIN:VEVENT
DTSTART;TZID=America/Chicago:20231119T130000
DTEND;TZID=America/Chicago:20231119T160000
DTSTAMP:20260419T203936
CREATED:20231103T154247Z
LAST-MODIFIED:20231103T154512Z
UID:10015828-1700398800-1700409600@www.goeldorado.com
SUMMARY:Meet & Greet with Author Kat Robinson @ Gourmet 2 Geaux
DESCRIPTION:
URL:https://www.goeldorado.com/event/meet-greet-with-author-kat-robinson-gourmet-2-geaux/
LOCATION:Gourmet 2 Geaux\, 113 N Jefferson\, El Dorado\, AR\, 71730
CATEGORIES:Arts & Culture,Business,Community,Family and Children,Festivals & Celebrations,Holiday
ATTACH;FMTTYPE=image/jpeg:https://www.goeldorado.com/wp-content/uploads/2023/11/pie.jpg
END:VEVENT
BEGIN:VEVENT
DTSTART;TZID=America/Chicago:20231122T120000
DTEND;TZID=America/Chicago:20231122T130000
DTSTAMP:20260419T203936
CREATED:20231016T131805Z
LAST-MODIFIED:20231018T162522Z
UID:10015790-1700654400-1700658000@www.goeldorado.com
SUMMARY:Kiwanis Meeting
DESCRIPTION:
URL:https://www.goeldorado.com/event/kiwanis-meeting-2-2/2023-11-22/
LOCATION:First Presbyterian Church\, 300 E. Main St\, El Dorado
CATEGORIES:Business,Clubs/Organizations
END:VEVENT
BEGIN:VEVENT
DTSTART;TZID=America/Chicago:20231123T190000
DTEND;TZID=America/Chicago:20231123T230000
DTSTAMP:20260419T203936
CREATED:20231102T182414Z
LAST-MODIFIED:20231102T182434Z
UID:10015826-1700766000-1700780400@www.goeldorado.com
SUMMARY:Oh What Fun it is to...Have a Black Friday PJ Party in Downtown El Dorado
DESCRIPTION:
URL:https://www.goeldorado.com/event/oh-what-fun-it-is-to-have-a-black-friday-pj-party-in-downtown-el-dorado/
LOCATION:Downtown El Dorado\, 101 N. Washington\, El Dorado\, AR\, 71730
CATEGORIES:Business,Community,Family and Children,Festivals & Celebrations,Holiday
ATTACH;FMTTYPE=image/jpeg:https://www.goeldorado.com/wp-content/uploads/2023/11/Black-Friday-scaled.jpg
END:VEVENT
BEGIN:VEVENT
DTSTART;TZID=America/Chicago:20231129T120000
DTEND;TZID=America/Chicago:20231129T130000
DTSTAMP:20260419T203936
CREATED:20231016T131805Z
LAST-MODIFIED:20231018T162522Z
UID:10015791-1701259200-1701262800@www.goeldorado.com
SUMMARY:Kiwanis Meeting
DESCRIPTION:
URL:https://www.goeldorado.com/event/kiwanis-meeting-2-2/2023-11-29/
LOCATION:First Presbyterian Church\, 300 E. Main St\, El Dorado
CATEGORIES:Business,Clubs/Organizations
END:VEVENT
BEGIN:VEVENT
DTSTART;TZID=America/Chicago:20231202T140000
DTEND;TZID=America/Chicago:20231202T170000
DTSTAMP:20260419T203936
CREATED:20231109T222013Z
LAST-MODIFIED:20231109T222013Z
UID:10016574-1701525600-1701536400@www.goeldorado.com
SUMMARY:Oh what fun it is to...see Santa Clause in Downtown El Dorado
DESCRIPTION:
URL:https://www.goeldorado.com/event/oh-what-fun-it-is-to-see-santa-clause-in-downtown-el-dorado/
LOCATION:All About Flowers\, 106 E Elm\, El Dorado\, AR\, 71730\, United States
CATEGORIES:Business,Community,Family and Children,Festivals & Celebrations,Holiday
ATTACH;FMTTYPE=image/jpeg:https://www.goeldorado.com/wp-content/uploads/2023/11/400375190_661231859480793_8417837147684095786_n.jpg
END:VEVENT
BEGIN:VEVENT
DTSTART;TZID=America/Chicago:20231206T120000
DTEND;TZID=America/Chicago:20231206T130000
DTSTAMP:20260419T203936
CREATED:20231016T131805Z
LAST-MODIFIED:20231018T162522Z
UID:10015792-1701864000-1701867600@www.goeldorado.com
SUMMARY:Kiwanis Meeting
DESCRIPTION:
URL:https://www.goeldorado.com/event/kiwanis-meeting-2-2/2023-12-06/
LOCATION:First Presbyterian Church\, 300 E. Main St\, El Dorado
CATEGORIES:Business,Clubs/Organizations
END:VEVENT
BEGIN:VEVENT
DTSTART;TZID=America/Chicago:20231207T190000
DTEND;TZID=America/Chicago:20231207T210000
DTSTAMP:20260419T203936
CREATED:20230710T203924Z
LAST-MODIFIED:20230710T203924Z
UID:10014461-1701975600-1701982800@www.goeldorado.com
SUMMARY:El Dorado Christmas Parade
DESCRIPTION:Save the Date \nDetail Coming Soon
URL:https://www.goeldorado.com/event/el-dorado-christmas-parade/
LOCATION:El Dorado Ar
CATEGORIES:Arts & Culture,Business,Chamber Of Commerce,Community,Family and Children,Holiday
END:VEVENT
BEGIN:VEVENT
DTSTART;TZID=America/Chicago:20231212T120000
DTEND;TZID=America/Chicago:20231212T130000
DTSTAMP:20260419T203936
CREATED:20231129T203610Z
LAST-MODIFIED:20231129T204256Z
UID:10016591-1702382400-1702386000@www.goeldorado.com
SUMMARY:Focus on the Future Lunch Lecture Series
DESCRIPTION:
URL:https://www.goeldorado.com/event/focus-on-the-future-lunch-lecture-series/
LOCATION:Mahony Family Library\, 300 Summit Ave\, El Dorado\, AR\, 71730\, United States
CATEGORIES:Business,Chamber Of Commerce,Community
ATTACH;FMTTYPE=image/jpeg:https://www.goeldorado.com/wp-content/uploads/2023/11/The-Energy-Transition-Challenege.jpeg
END:VEVENT
BEGIN:VEVENT
DTSTART;TZID=America/Chicago:20231212T150000
DTEND;TZID=America/Chicago:20231212T170000
DTSTAMP:20260419T203936
CREATED:20231207T183544Z
LAST-MODIFIED:20231207T183759Z
UID:10016596-1702393200-1702400400@www.goeldorado.com
SUMMARY:Gather with the Grinch @ Kim Dupree State Farm
DESCRIPTION:
URL:https://www.goeldorado.com/event/gather-with-the-grinch-kim-dupree-state-farm/
LOCATION:Kim Dupree State Farm\, 101 E 5th\, El Dorado\, AR\, 71730\, United States
CATEGORIES:Business,Community,Family and Children
ATTACH;FMTTYPE=image/jpeg:https://www.goeldorado.com/wp-content/uploads/2023/12/405311854_330921803164138_6863425892703873212_n.jpg
END:VEVENT
BEGIN:VEVENT
DTSTART;TZID=America/Chicago:20231213T120000
DTEND;TZID=America/Chicago:20231213T130000
DTSTAMP:20260419T203936
CREATED:20231016T131805Z
LAST-MODIFIED:20231018T162522Z
UID:10015793-1702468800-1702472400@www.goeldorado.com
SUMMARY:Kiwanis Meeting
DESCRIPTION:
URL:https://www.goeldorado.com/event/kiwanis-meeting-2-2/2023-12-13/
LOCATION:First Presbyterian Church\, 300 E. Main St\, El Dorado
CATEGORIES:Business,Clubs/Organizations
END:VEVENT
BEGIN:VEVENT
DTSTART;TZID=America/Chicago:20231216T170000
DTEND;TZID=America/Chicago:20231216T190000
DTSTAMP:20260419T203936
CREATED:20231102T175331Z
LAST-MODIFIED:20231102T175331Z
UID:10015824-1702746000-1702753200@www.goeldorado.com
SUMMARY:Open House with Santa @ the Gallery of History
DESCRIPTION:
URL:https://www.goeldorado.com/event/open-house-with-santa-the-gallery-of-history/
LOCATION:Gallery of History Museum\, 415 E Faulkner\, El Dorado\, AR\, 71730
CATEGORIES:Arts & Culture,Business,Family and Children,Holiday
ATTACH;FMTTYPE=image/png:https://www.goeldorado.com/wp-content/uploads/2023/11/Meet-Santa-2023.png
ORGANIZER;CN="South Arkansas Historical Preservation Society":MAILTO:info@soarkhistory.com
END:VEVENT
END:VCALENDAR