BEGIN:VCALENDAR
VERSION:2.0
PRODID:-//El Dorado, Arkansas - ECPv6.15.20//NONSGML v1.0//EN
CALSCALE:GREGORIAN
METHOD:PUBLISH
X-ORIGINAL-URL:https://www.goeldorado.com
X-WR-CALDESC:Events for El Dorado, Arkansas
REFRESH-INTERVAL;VALUE=DURATION:PT1H
X-Robots-Tag:noindex
X-PUBLISHED-TTL:PT1H
BEGIN:VTIMEZONE
TZID:America/Chicago
BEGIN:DAYLIGHT
TZOFFSETFROM:-0600
TZOFFSETTO:-0500
TZNAME:CDT
DTSTART:20220313T080000
END:DAYLIGHT
BEGIN:STANDARD
TZOFFSETFROM:-0500
TZOFFSETTO:-0600
TZNAME:CST
DTSTART:20221106T070000
END:STANDARD
BEGIN:DAYLIGHT
TZOFFSETFROM:-0600
TZOFFSETTO:-0500
TZNAME:CDT
DTSTART:20230312T080000
END:DAYLIGHT
BEGIN:STANDARD
TZOFFSETFROM:-0500
TZOFFSETTO:-0600
TZNAME:CST
DTSTART:20231105T070000
END:STANDARD
BEGIN:DAYLIGHT
TZOFFSETFROM:-0600
TZOFFSETTO:-0500
TZNAME:CDT
DTSTART:20240310T080000
END:DAYLIGHT
BEGIN:STANDARD
TZOFFSETFROM:-0500
TZOFFSETTO:-0600
TZNAME:CST
DTSTART:20241103T070000
END:STANDARD
END:VTIMEZONE
BEGIN:VEVENT
DTSTART;VALUE=DATE:20230201
DTEND;VALUE=DATE:20230309
DTSTAMP:20260422T140415
CREATED:20230210T202753Z
LAST-MODIFIED:20230210T202753Z
UID:10012591-1675209600-1678319999@www.goeldorado.com
SUMMARY:ULEAD Registration Open
DESCRIPTION:Leadership Union County is a ten-month program with a focus on identifying and developing the future leaders of our community. Through a series of retreats\, sessions and activities\, class members build close relationships as they learn about issues that affect our local community\, including economic development\, government\, education\, healthcare\, crime and quality of life. Each full-day session features various interactive simulations and activities aimed at showing class members how they can make a difference. \nClass 12 will begin in March 2023. We would like to thank our sponsors – LANXESS & MURPHY USA! \nIf you have any questions regarding this leadership development program\,\nplease contact the Chamber at (870) 863-6113 ext. 3 or email kaitlyn@goeldorado.com. \nDOWNLOAD ULEAD CLASS 12 APPLICATION HERE!
URL:https://www.goeldorado.com/event/ulead-registration-open/
LOCATION:El Dorado-Union County Chamber of Commerce\, 111 W. Main Street\, El Dorado\, AR\, 71730
CATEGORIES:Business,Chamber Of Commerce,Clubs/Organizations,Community,Continuing Education
ATTACH;FMTTYPE=image/jpeg:https://www.goeldorado.com/wp-content/uploads/2023/02/ULEAD-Class-12-Flyer-scaled.jpg
END:VEVENT
END:VCALENDAR