BEGIN:VCALENDAR
VERSION:2.0
PRODID:-//El Dorado, Arkansas - ECPv6.15.20//NONSGML v1.0//EN
CALSCALE:GREGORIAN
METHOD:PUBLISH
X-WR-CALNAME:El Dorado, Arkansas
X-ORIGINAL-URL:https://www.goeldorado.com
X-WR-CALDESC:Events for El Dorado, Arkansas
REFRESH-INTERVAL;VALUE=DURATION:PT1H
X-Robots-Tag:noindex
X-PUBLISHED-TTL:PT1H
BEGIN:VTIMEZONE
TZID:America/Chicago
BEGIN:DAYLIGHT
TZOFFSETFROM:-0600
TZOFFSETTO:-0500
TZNAME:CDT
DTSTART:20250309T080000
END:DAYLIGHT
BEGIN:STANDARD
TZOFFSETFROM:-0500
TZOFFSETTO:-0600
TZNAME:CST
DTSTART:20251102T070000
END:STANDARD
BEGIN:DAYLIGHT
TZOFFSETFROM:-0600
TZOFFSETTO:-0500
TZNAME:CDT
DTSTART:20260308T080000
END:DAYLIGHT
BEGIN:STANDARD
TZOFFSETFROM:-0500
TZOFFSETTO:-0600
TZNAME:CST
DTSTART:20261101T070000
END:STANDARD
BEGIN:DAYLIGHT
TZOFFSETFROM:-0600
TZOFFSETTO:-0500
TZNAME:CDT
DTSTART:20270314T080000
END:DAYLIGHT
BEGIN:STANDARD
TZOFFSETFROM:-0500
TZOFFSETTO:-0600
TZNAME:CST
DTSTART:20271107T070000
END:STANDARD
END:VTIMEZONE
BEGIN:VEVENT
DTSTART;TZID=America/Chicago:20260202T090000
DTEND;TZID=America/Chicago:20260227T170000
DTSTAMP:20260420T051704
CREATED:20251211T171911Z
LAST-MODIFIED:20251212T165528Z
UID:10028745-1770022800-1772211600@www.goeldorado.com
SUMMARY:SAAC: Viewfinder Competition
DESCRIPTION:The South Arkansas Arts Center will welcome celebrated documentary and architectural photographer Philip Gould\, of Lafayette\, Louisiana\, as the judge for this year’s “Viewfinder” photography competition. Sponsored by The El Dorado Insider and The Diamond Agency\, the exhibition will be on display in SAAC’s Price and Merkle Galleries February 2–February 27\, 2026\, with an entry deadline of January 27. \nSubmissions are due Tuesday\, January 27\, and the exhibition will be open to the public from Monday\, February 2 through Friday\, February 27. A public reception and awards announcement will take place on Thursday\, February 12\, from 5:30 to 7:00pm.
URL:https://www.goeldorado.com/event/saac-viewfinder-competition/
LOCATION:South Arkansas Arts Center
CATEGORIES:Arts & Culture,Community
ATTACH;FMTTYPE=image/jpeg:https://www.goeldorado.com/wp-content/uploads/2025/12/philip-portrait.jpg
END:VEVENT
BEGIN:VEVENT
DTSTART;TZID=America/Chicago:20260224T110000
DTEND;TZID=America/Chicago:20260224T120000
DTSTAMP:20260420T051704
CREATED:20260217T150707Z
LAST-MODIFIED:20260217T160211Z
UID:10029310-1771930800-1771934400@www.goeldorado.com
SUMMARY:Toddler Tales-Cherries @ Barton Library
DESCRIPTION:Join us for a morning of stories\, giggles\, and hands-on fun made just for little ones! This free program is designed for children ages 0-5 and their grown-ups.
URL:https://www.goeldorado.com/event/toddler-tales-cherries-barton-library/
LOCATION:Barton Library\, 200 E 5th\, El Dorado\, AR\, 71730\, United States
CATEGORIES:Community,Family and Children
END:VEVENT
END:VCALENDAR