BEGIN:VCALENDAR
VERSION:2.0
PRODID:-//El Dorado, Arkansas - ECPv6.15.20//NONSGML v1.0//EN
CALSCALE:GREGORIAN
METHOD:PUBLISH
X-ORIGINAL-URL:https://www.goeldorado.com
X-WR-CALDESC:Events for El Dorado, Arkansas
REFRESH-INTERVAL;VALUE=DURATION:PT1H
X-Robots-Tag:noindex
X-PUBLISHED-TTL:PT1H
BEGIN:VTIMEZONE
TZID:America/Chicago
BEGIN:DAYLIGHT
TZOFFSETFROM:-0600
TZOFFSETTO:-0500
TZNAME:CDT
DTSTART:20250309T080000
END:DAYLIGHT
BEGIN:STANDARD
TZOFFSETFROM:-0500
TZOFFSETTO:-0600
TZNAME:CST
DTSTART:20251102T070000
END:STANDARD
BEGIN:DAYLIGHT
TZOFFSETFROM:-0600
TZOFFSETTO:-0500
TZNAME:CDT
DTSTART:20260308T080000
END:DAYLIGHT
BEGIN:STANDARD
TZOFFSETFROM:-0500
TZOFFSETTO:-0600
TZNAME:CST
DTSTART:20261101T070000
END:STANDARD
BEGIN:DAYLIGHT
TZOFFSETFROM:-0600
TZOFFSETTO:-0500
TZNAME:CDT
DTSTART:20270314T080000
END:DAYLIGHT
BEGIN:STANDARD
TZOFFSETFROM:-0500
TZOFFSETTO:-0600
TZNAME:CST
DTSTART:20271107T070000
END:STANDARD
END:VTIMEZONE
BEGIN:VEVENT
DTSTART;TZID=America/Chicago:20260310T173000
DTEND;TZID=America/Chicago:20260310T193000
DTSTAMP:20260424T115445
CREATED:20260219T142808Z
LAST-MODIFIED:20260219T151205Z
UID:10029316-1773163800-1773171000@www.goeldorado.com
SUMMARY:In a Pickle: Pickling Basics
DESCRIPTION:Curious about pickling but not sure where to start? Join Faye Brown of Yes\, I Can for a hands-on introduction to the art of pickling. \nIn this beginner-friendly class\, participants will learn the basics of safe\, simple pickling methods\, explore flavor combinations\, and gain the confidence to preserve seasonal produce at home. You’ll leave with practical tips\, tried-and-true techniques\, and a jar of something delicious!
URL:https://www.goeldorado.com/event/in-a-pickle-pickling-basics/
LOCATION:South Arkansas College East Campus\, 3696 E Main st\, El Dorado\, AR\, 71730
CATEGORIES:Arts & Culture,Community,Continuing Education,Education,Family and Children
ATTACH;FMTTYPE=image/png:https://www.goeldorado.com/wp-content/uploads/2026/02/Social-1.png
END:VEVENT
BEGIN:VEVENT
DTSTART;TZID=America/Chicago:20260316T173000
DTEND;TZID=America/Chicago:20260316T193000
DTSTAMP:20260424T115445
CREATED:20260219T143114Z
LAST-MODIFIED:20260219T151258Z
UID:10029317-1773682200-1773689400@www.goeldorado.com
SUMMARY:Spring Forward into Organization
DESCRIPTION:Ready for a fresh start this season? Join Anna Sellers of Sellers & Co. for a motivating and practical workshop designed to help you reset\, refocus\, and create systems that actually work. \nIn this hands-on session\, Anna will share approachable strategies for organizing your time\, tasks\, and spaces in a way that feels sustainable — not overwhelming. Participants will leave with a stylish to-do list notebook and the tools they need to bring clarity and structure into everyday life. \nWhether you’re managing a busy household\, a demanding schedule\, or simply looking to streamline your routine\, this workshop will help you step into spring feeling confident and in control.
URL:https://www.goeldorado.com/event/spring-forward-into-organization/
LOCATION:Mahony Family Library\, 300 Summit Ave\, El Dorado\, AR\, 71730\, United States
CATEGORIES:Arts & Culture,Community,Continuing Education,Education
ATTACH;FMTTYPE=image/png:https://www.goeldorado.com/wp-content/uploads/2026/02/Social.png
END:VEVENT
BEGIN:VEVENT
DTSTART;TZID=America/Chicago:20260317T120000
DTEND;TZID=America/Chicago:20260317T130000
DTSTAMP:20260424T115445
CREATED:20260219T143830Z
LAST-MODIFIED:20260219T151408Z
UID:10029319-1773748800-1773752400@www.goeldorado.com
SUMMARY:Cyber Hygiene for Everyday Life
DESCRIPTION:Staying safe online does not have to be complicated. Join us for a lunch lecture covering everyday cyber basics like passwords\, phishing\, scams\, and social media safety. \nLed by Scott Anderson\, Instructor of Cybersecurity at Ouachita Baptist University\, and his cybersecurity students\, this session is designed to be practical\, relaxed\, and useful for real life. \nLunch provided for those who register.
URL:https://www.goeldorado.com/event/cyber-hygiene-for-everyday-life/
LOCATION:Mahony Family Library\, 300 Summit Ave\, El Dorado\, AR\, 71730\, United States
CATEGORIES:Community,Continuing Education,Education,Family and Children
ATTACH;FMTTYPE=image/png:https://www.goeldorado.com/wp-content/uploads/2026/02/Cyber-Hygiene-for-Everyday-Life.png
END:VEVENT
END:VCALENDAR