BEGIN:VCALENDAR
VERSION:2.0
PRODID:-//El Dorado, Arkansas - ECPv6.15.20//NONSGML v1.0//EN
CALSCALE:GREGORIAN
METHOD:PUBLISH
X-WR-CALNAME:El Dorado, Arkansas
X-ORIGINAL-URL:https://www.goeldorado.com
X-WR-CALDESC:Events for El Dorado, Arkansas
REFRESH-INTERVAL;VALUE=DURATION:PT1H
X-Robots-Tag:noindex
X-PUBLISHED-TTL:PT1H
BEGIN:VTIMEZONE
TZID:America/Chicago
BEGIN:DAYLIGHT
TZOFFSETFROM:-0600
TZOFFSETTO:-0500
TZNAME:CDT
DTSTART:20230312T080000
END:DAYLIGHT
BEGIN:STANDARD
TZOFFSETFROM:-0500
TZOFFSETTO:-0600
TZNAME:CST
DTSTART:20231105T070000
END:STANDARD
BEGIN:DAYLIGHT
TZOFFSETFROM:-0600
TZOFFSETTO:-0500
TZNAME:CDT
DTSTART:20240310T080000
END:DAYLIGHT
BEGIN:STANDARD
TZOFFSETFROM:-0500
TZOFFSETTO:-0600
TZNAME:CST
DTSTART:20241103T070000
END:STANDARD
BEGIN:DAYLIGHT
TZOFFSETFROM:-0600
TZOFFSETTO:-0500
TZNAME:CDT
DTSTART:20250309T080000
END:DAYLIGHT
BEGIN:STANDARD
TZOFFSETFROM:-0500
TZOFFSETTO:-0600
TZNAME:CST
DTSTART:20251102T070000
END:STANDARD
END:VTIMEZONE
BEGIN:VEVENT
DTSTART;TZID=America/Chicago:20241106T120000
DTEND;TZID=America/Chicago:20241106T130000
DTSTAMP:20260425T083331
CREATED:20240627T132603Z
LAST-MODIFIED:20240712T184019Z
UID:10020255-1730894400-1730898000@www.goeldorado.com
SUMMARY:SouthArk Connections Session #6- Veterans-Centered Outreach & Curriculum
DESCRIPTION:This specialized session focuses on helping veterans and their families navigate online resources for accessing benefits\, finding jobs\, and furthering their education. Participants will learn about online portals for veterans’ benefits\, job search techniques\, and career development tools. The session includes a presentation by a college financial aid expert on educational opportunities for veterans.
URL:https://www.goeldorado.com/event/southark-connections-session-6-veterans-centered-outreach-curriculum/
LOCATION:Mahony Family Library\, 300 Summit Ave\, El Dorado\, AR\, 71730\, United States
CATEGORIES:Community,Continuing Education,Education
ATTACH;FMTTYPE=image/png:https://www.goeldorado.com/wp-content/uploads/2024/06/Session-6-Flyer.png
END:VEVENT
END:VCALENDAR