BEGIN:VCALENDAR
VERSION:2.0
PRODID:-//El Dorado, Arkansas - ECPv6.15.20//NONSGML v1.0//EN
CALSCALE:GREGORIAN
METHOD:PUBLISH
X-ORIGINAL-URL:https://www.goeldorado.com
X-WR-CALDESC:Events for El Dorado, Arkansas
REFRESH-INTERVAL;VALUE=DURATION:PT1H
X-Robots-Tag:noindex
X-PUBLISHED-TTL:PT1H
BEGIN:VTIMEZONE
TZID:America/Chicago
BEGIN:DAYLIGHT
TZOFFSETFROM:-0600
TZOFFSETTO:-0500
TZNAME:CDT
DTSTART:20250309T080000
END:DAYLIGHT
BEGIN:STANDARD
TZOFFSETFROM:-0500
TZOFFSETTO:-0600
TZNAME:CST
DTSTART:20251102T070000
END:STANDARD
BEGIN:DAYLIGHT
TZOFFSETFROM:-0600
TZOFFSETTO:-0500
TZNAME:CDT
DTSTART:20260308T080000
END:DAYLIGHT
BEGIN:STANDARD
TZOFFSETFROM:-0500
TZOFFSETTO:-0600
TZNAME:CST
DTSTART:20261101T070000
END:STANDARD
BEGIN:DAYLIGHT
TZOFFSETFROM:-0600
TZOFFSETTO:-0500
TZNAME:CDT
DTSTART:20270314T080000
END:DAYLIGHT
BEGIN:STANDARD
TZOFFSETFROM:-0500
TZOFFSETTO:-0600
TZNAME:CST
DTSTART:20271107T070000
END:STANDARD
END:VTIMEZONE
BEGIN:VEVENT
DTSTART;TZID=America/Chicago:20260202T103000
DTEND;TZID=America/Chicago:20260202T113000
DTSTAMP:20260421T122407
CREATED:20260113T181821Z
LAST-MODIFIED:20260113T181821Z
UID:10028787-1770028200-1770031800@www.goeldorado.com
SUMMARY:Story Time @ The 1988
DESCRIPTION:
URL:https://www.goeldorado.com/event/story-time-the-1988/2026-02-02/
LOCATION:The 1988\, 117 N Jefferson Ave\, El Dorado\, AR\, 71730
CATEGORIES:Community,Family and Children
ATTACH;FMTTYPE=image/jpeg:https://www.goeldorado.com/wp-content/uploads/2026/01/614782650_122231872340263441_1434280767695528225_n.jpg
END:VEVENT
BEGIN:VEVENT
DTSTART;TZID=America/Chicago:20260204T173000
DTEND;TZID=America/Chicago:20260204T213000
DTSTAMP:20260421T122407
CREATED:20251110T224629Z
LAST-MODIFIED:20251113T222141Z
UID:10028630-1770226200-1770240600@www.goeldorado.com
SUMMARY:South Arkansas College basketball vs U of A Cossatot
DESCRIPTION:SouthArk men’s and women’s basketball teams will play NJCAA Region 2 opponent\, University of Arkansas–Cossatot.
URL:https://www.goeldorado.com/event/south-arkansas-college-basketball-vs-u-of-a-cossatot/
LOCATION:South Arkansas College Gym\, 311 S West Ave\, El Dorado\, AR\, 71730\, United States
CATEGORIES:Community,Family and Children,Recreation & Sports
END:VEVENT
BEGIN:VEVENT
DTSTART;TZID=America/Chicago:20260207T150000
DTEND;TZID=America/Chicago:20260207T170000
DTSTAMP:20260421T122407
CREATED:20251110T230321Z
LAST-MODIFIED:20251113T221717Z
UID:10028624-1770476400-1770483600@www.goeldorado.com
SUMMARY:South Arkansas College Men's Basketball vs ASU Newport
DESCRIPTION:
URL:https://www.goeldorado.com/event/south-arkansas-college-mens-basketball-vs-asu-newport/
LOCATION:South Arkansas College Gym\, 311 S West Ave\, El Dorado\, AR\, 71730\, United States
CATEGORIES:Community,Family and Children,Recreation & Sports
END:VEVENT
BEGIN:VEVENT
DTSTART;TZID=America/Chicago:20260207T190000
DTEND;TZID=America/Chicago:20260207T220000
DTSTAMP:20260421T122407
CREATED:20250529T194157Z
LAST-MODIFIED:20260113T175632Z
UID:10026144-1770490800-1770501600@www.goeldorado.com
SUMMARY:South Arkansas Symphony Candlelight & Crescendos: A Valentine's Prelude
DESCRIPTION:
URL:https://www.goeldorado.com/event/south-arkansas-symphony-candlelight-crescendos-a-valentines-prelude/
LOCATION:El Dorado Municipal Auditorium\, El Dorado\, AR\, 71730\, United States
CATEGORIES:Arts & Culture,Community,Family and Children,Holiday,Live Music
ATTACH;FMTTYPE=image/png:https://www.goeldorado.com/wp-content/uploads/2025/05/Flyer.png
END:VEVENT
BEGIN:VEVENT
DTSTART;TZID=America/Chicago:20260209T103000
DTEND;TZID=America/Chicago:20260209T113000
DTSTAMP:20260421T122407
CREATED:20260113T181821Z
LAST-MODIFIED:20260113T181821Z
UID:10028788-1770633000-1770636600@www.goeldorado.com
SUMMARY:Story Time @ The 1988
DESCRIPTION:
URL:https://www.goeldorado.com/event/story-time-the-1988/2026-02-09/
LOCATION:The 1988\, 117 N Jefferson Ave\, El Dorado\, AR\, 71730
CATEGORIES:Community,Family and Children
ATTACH;FMTTYPE=image/jpeg:https://www.goeldorado.com/wp-content/uploads/2026/01/614782650_122231872340263441_1434280767695528225_n.jpg
END:VEVENT
BEGIN:VEVENT
DTSTART;TZID=America/Chicago:20260211T173000
DTEND;TZID=America/Chicago:20260211T213000
DTSTAMP:20260421T122407
CREATED:20251110T224907Z
LAST-MODIFIED:20260205T152345Z
UID:10028631-1770831000-1770845400@www.goeldorado.com
SUMMARY:South Arkansas College Basketball vs North Arkansas College
DESCRIPTION:The SouthArk Stars will take on NJCAA Region 2 opponent\, North Arkansas College from Harrison\, AR.
URL:https://www.goeldorado.com/event/south-arkansas-college-basketball-vs-north-arkansas-college/
LOCATION:South Arkansas College Gym\, 311 S West Ave\, El Dorado\, AR\, 71730\, United States
CATEGORIES:Community,Family and Children,Recreation & Sports
ATTACH;FMTTYPE=image/png:https://www.goeldorado.com/wp-content/uploads/2025/11/8af02fd5-4de5-4714-8757-f8fc4c79e9ca.png
END:VEVENT
BEGIN:VEVENT
DTSTART;TZID=America/Chicago:20260214T130000
DTEND;TZID=America/Chicago:20260214T170000
DTSTAMP:20260421T122407
CREATED:20251110T225157Z
LAST-MODIFIED:20260205T152616Z
UID:10028632-1771074000-1771088400@www.goeldorado.com
SUMMARY:South Arkansas College Basketball vs ASU Midsouth
DESCRIPTION:The men’s and women’s SouthArk basketball teams will face NJCAA Region 2 opponent\, Arkansas State University Midsouth.
URL:https://www.goeldorado.com/event/south-arkansas-college-basketball-vs-asu-midsouth/
LOCATION:South Arkansas College Gym\, 311 S West Ave\, El Dorado\, AR\, 71730\, United States
CATEGORIES:Community,Family and Children,Recreation & Sports
ATTACH;FMTTYPE=image/png:https://www.goeldorado.com/wp-content/uploads/2025/11/2-14-26.png
END:VEVENT
BEGIN:VEVENT
DTSTART;TZID=America/Chicago:20260216T103000
DTEND;TZID=America/Chicago:20260216T113000
DTSTAMP:20260421T122407
CREATED:20260113T181821Z
LAST-MODIFIED:20260113T181821Z
UID:10028789-1771237800-1771241400@www.goeldorado.com
SUMMARY:Story Time @ The 1988
DESCRIPTION:
URL:https://www.goeldorado.com/event/story-time-the-1988/2026-02-16/
LOCATION:The 1988\, 117 N Jefferson Ave\, El Dorado\, AR\, 71730
CATEGORIES:Community,Family and Children
ATTACH;FMTTYPE=image/jpeg:https://www.goeldorado.com/wp-content/uploads/2026/01/614782650_122231872340263441_1434280767695528225_n.jpg
END:VEVENT
BEGIN:VEVENT
DTSTART;TZID=America/Chicago:20260221T130000
DTEND;TZID=America/Chicago:20260221T170000
DTSTAMP:20260421T122407
CREATED:20251110T225432Z
LAST-MODIFIED:20260205T152539Z
UID:10028633-1771678800-1771693200@www.goeldorado.com
SUMMARY:South Arkansas College Basketball vs SAU Tech
DESCRIPTION:Let’s pack the SouthArk gym to support the men’s and women’s basketball teams as they play neighboring\, SAU Tech!
URL:https://www.goeldorado.com/event/south-arkansas-college-basketball-vs-sau-tech/
LOCATION:South Arkansas College Gym\, 311 S West Ave\, El Dorado\, AR\, 71730\, United States
CATEGORIES:Community,Family and Children,Recreation & Sports
ATTACH;FMTTYPE=image/png:https://www.goeldorado.com/wp-content/uploads/2025/11/2-21-26.png
END:VEVENT
BEGIN:VEVENT
DTSTART;TZID=America/Chicago:20260223T103000
DTEND;TZID=America/Chicago:20260223T113000
DTSTAMP:20260421T122407
CREATED:20260113T181821Z
LAST-MODIFIED:20260113T181821Z
UID:10028790-1771842600-1771846200@www.goeldorado.com
SUMMARY:Story Time @ The 1988
DESCRIPTION:
URL:https://www.goeldorado.com/event/story-time-the-1988/2026-02-23/
LOCATION:The 1988\, 117 N Jefferson Ave\, El Dorado\, AR\, 71730
CATEGORIES:Community,Family and Children
ATTACH;FMTTYPE=image/jpeg:https://www.goeldorado.com/wp-content/uploads/2026/01/614782650_122231872340263441_1434280767695528225_n.jpg
END:VEVENT
BEGIN:VEVENT
DTSTART;TZID=America/Chicago:20260224T110000
DTEND;TZID=America/Chicago:20260224T120000
DTSTAMP:20260421T122407
CREATED:20260217T150707Z
LAST-MODIFIED:20260217T160211Z
UID:10029310-1771930800-1771934400@www.goeldorado.com
SUMMARY:Toddler Tales-Cherries @ Barton Library
DESCRIPTION:Join us for a morning of stories\, giggles\, and hands-on fun made just for little ones! This free program is designed for children ages 0-5 and their grown-ups.
URL:https://www.goeldorado.com/event/toddler-tales-cherries-barton-library/
LOCATION:Barton Library\, 200 E 5th\, El Dorado\, AR\, 71730\, United States
CATEGORIES:Community,Family and Children
END:VEVENT
BEGIN:VEVENT
DTSTART;TZID=America/Chicago:20260227T170000
DTEND;TZID=America/Chicago:20260227T200000
DTSTAMP:20260421T122407
CREATED:20260106T223837Z
LAST-MODIFIED:20260106T223837Z
UID:10028768-1772211600-1772222400@www.goeldorado.com
SUMMARY:Meet and Greet with Jason Faunt @ Gabe's Cave
DESCRIPTION:Jason Patrick Faunt is an American actor known for his roles as Wesley Collins and his descendant Alex in Power Rangers Time Force. He also played Leon S. Kennedy in Resident Evil 6 and Trunks in the Dragon Ball fan film Son of Trunks.
URL:https://www.goeldorado.com/event/meet-and-greet-with-jason-faunt-gabes-cave/
LOCATION:Gabe’s Cave\, 2101 N College\, El Dorado\, AR\, 71730\, United States
CATEGORIES:Arts & Culture,Community,Family and Children
ATTACH;FMTTYPE=image/jpeg:https://www.goeldorado.com/wp-content/uploads/2026/01/jason-faunt.jpg
END:VEVENT
END:VCALENDAR