BEGIN:VCALENDAR
VERSION:2.0
PRODID:-//El Dorado, Arkansas - ECPv6.15.20//NONSGML v1.0//EN
CALSCALE:GREGORIAN
METHOD:PUBLISH
X-ORIGINAL-URL:https://www.goeldorado.com
X-WR-CALDESC:Events for El Dorado, Arkansas
REFRESH-INTERVAL;VALUE=DURATION:PT1H
X-Robots-Tag:noindex
X-PUBLISHED-TTL:PT1H
BEGIN:VTIMEZONE
TZID:America/Chicago
BEGIN:DAYLIGHT
TZOFFSETFROM:-0600
TZOFFSETTO:-0500
TZNAME:CDT
DTSTART:20250309T080000
END:DAYLIGHT
BEGIN:STANDARD
TZOFFSETFROM:-0500
TZOFFSETTO:-0600
TZNAME:CST
DTSTART:20251102T070000
END:STANDARD
BEGIN:DAYLIGHT
TZOFFSETFROM:-0600
TZOFFSETTO:-0500
TZNAME:CDT
DTSTART:20260308T080000
END:DAYLIGHT
BEGIN:STANDARD
TZOFFSETFROM:-0500
TZOFFSETTO:-0600
TZNAME:CST
DTSTART:20261101T070000
END:STANDARD
BEGIN:DAYLIGHT
TZOFFSETFROM:-0600
TZOFFSETTO:-0500
TZNAME:CDT
DTSTART:20270314T080000
END:DAYLIGHT
BEGIN:STANDARD
TZOFFSETFROM:-0500
TZOFFSETTO:-0600
TZNAME:CST
DTSTART:20271107T070000
END:STANDARD
END:VTIMEZONE
BEGIN:VEVENT
DTSTART;TZID=America/Chicago:20260108T180000
DTEND;TZID=America/Chicago:20260108T200000
DTSTAMP:20260425T053408
CREATED:20260105T164327Z
LAST-MODIFIED:20260105T164327Z
UID:10028760-1767895200-1767902400@www.goeldorado.com
SUMMARY:Centenary College Choir Concert
DESCRIPTION:Centenary College Choir Concert \n\n\nJoin us for a special evening of music as we welcome the Centenary College Choir to First United Methodist Church of El Dorado on Thursday\, January 8 at 6 p.m. in the sanctuary!\nFounded in 1941\, the Centenary College Choir is the college’s primary touring ensemble and musical ambassador. Made up of 55 to 65 singers\, the choir performs a wide-ranging repertoire that includes classical works and more casual favorites\, offering something for everyone to enjoy.\nThis concert is part of the choir’s winter tour and promises a meaningful and uplifting night of music. Invite friends and family and come enjoy this wonderful performance. All are welcome!\nFacebook Event: https://www.facebook.com/events/2011022619680386\nChurch Website: https://www.eldoradofirstchurch.com/\nChurch Address: 201 S Hill Ave\, El Dorado\, AR\, United States\, Arkansas 71730\nChurch Phone Number: 870-862-1341
URL:https://www.goeldorado.com/event/centenary-college-choir-concert/
LOCATION:First United Methodist Church\, 201 S Hill\, El Dorado\, AR\, 71730
CATEGORIES:Arts & Culture,Community,Family and Children,Live Music
ATTACH;FMTTYPE=image/jpeg:https://www.goeldorado.com/wp-content/uploads/2026/01/Centenary-College-Choir-Concert.jpg
END:VEVENT
END:VCALENDAR