BEGIN:VCALENDAR
VERSION:2.0
PRODID:-//El Dorado, Arkansas - ECPv6.15.20//NONSGML v1.0//EN
CALSCALE:GREGORIAN
METHOD:PUBLISH
X-WR-CALNAME:El Dorado, Arkansas
X-ORIGINAL-URL:https://www.goeldorado.com
X-WR-CALDESC:Events for El Dorado, Arkansas
REFRESH-INTERVAL;VALUE=DURATION:PT1H
X-Robots-Tag:noindex
X-PUBLISHED-TTL:PT1H
BEGIN:VTIMEZONE
TZID:America/Chicago
BEGIN:DAYLIGHT
TZOFFSETFROM:-0600
TZOFFSETTO:-0500
TZNAME:CDT
DTSTART:20250309T080000
END:DAYLIGHT
BEGIN:STANDARD
TZOFFSETFROM:-0500
TZOFFSETTO:-0600
TZNAME:CST
DTSTART:20251102T070000
END:STANDARD
BEGIN:DAYLIGHT
TZOFFSETFROM:-0600
TZOFFSETTO:-0500
TZNAME:CDT
DTSTART:20260308T080000
END:DAYLIGHT
BEGIN:STANDARD
TZOFFSETFROM:-0500
TZOFFSETTO:-0600
TZNAME:CST
DTSTART:20261101T070000
END:STANDARD
BEGIN:DAYLIGHT
TZOFFSETFROM:-0600
TZOFFSETTO:-0500
TZNAME:CDT
DTSTART:20270314T080000
END:DAYLIGHT
BEGIN:STANDARD
TZOFFSETFROM:-0500
TZOFFSETTO:-0600
TZNAME:CST
DTSTART:20271107T070000
END:STANDARD
END:VTIMEZONE
BEGIN:VEVENT
DTSTART;VALUE=DATE:20260401
DTEND;VALUE=DATE:20260501
DTSTAMP:20260421T164503
CREATED:20260219T143512Z
LAST-MODIFIED:20260219T151335Z
UID:10029318-1775001600-1777593599@www.goeldorado.com
SUMMARY:SouthArk Arts in April
DESCRIPTION:South Arkansas College is proud to present this year’s Arts in April series — a month-long celebration of creativity\, connection\, and community. \nFrom hands-on pottery\, watercolor\, and floral workshops to engaging lunch lectures in poetry and art history\, this year’s lineup offers something for every creative spirit. Whether you’re looking to learn a new skill\, try something different\, or simply spend time creating alongside others\, Arts in April is designed to be welcoming\, accessible\, and inspiring. \nMany workshops feature limited seating\, so we encourage early registration.
URL:https://www.goeldorado.com/event/southark-arts-in-april-2/
LOCATION:South Arkansas College\, 330 S West Ave\, El Dorado\, AR\, 71730
CATEGORIES:Arts & Culture,Community,Continuing Education,Education,Family and Children
ATTACH;FMTTYPE=image/png:https://www.goeldorado.com/wp-content/uploads/2026/02/ARTS-IN-APRIL-2026-CALENDAR-1.png
END:VEVENT
BEGIN:VEVENT
DTSTART;VALUE=DATE:20260425
DTEND;VALUE=DATE:20260426
DTSTAMP:20260421T164503
CREATED:20260220T170725Z
LAST-MODIFIED:20260302T163729Z
UID:10029341-1777075200-1777161599@www.goeldorado.com
SUMMARY:S.A.C.C.'s 4th Annual Pickleball Tournament Fundraiser
DESCRIPTION:South Arkansas Children’s Coalition will be hosting its 4th annual pickleball tournament on April 25th at Mellor Park in El Dorado! From beginners to advanced players\, everyone is encouraged to participate!
URL:https://www.goeldorado.com/event/s-a-c-c-s-4th-annual-pickleball-tournament-fundraiser/
LOCATION:Mellor Park\, Euclid & 4th st\, El Dorado\, AR\, 71730
CATEGORIES:Community,Family and Children,Recreation & Sports
ATTACH;FMTTYPE=image/jpeg:https://www.goeldorado.com/wp-content/uploads/2026/02/Green-And-White-Illustrative-Merchandise-Mockup-Instagram-Post.jpg
END:VEVENT
BEGIN:VEVENT
DTSTART;TZID=America/Chicago:20260425T080000
DTEND;TZID=America/Chicago:20260425T113000
DTSTAMP:20260421T164503
CREATED:20260316T162419Z
LAST-MODIFIED:20260319T173020Z
UID:10029459-1777104000-1777116600@www.goeldorado.com
SUMMARY:Dirt Friends Garden Group Annual Plant Sale
DESCRIPTION:Annual Plant Sale.  All plants are for our South Arkansas planting zone.
URL:https://www.goeldorado.com/event/dirt-friends-garden-group-annual-plant-sale-2/
LOCATION:MAD Amphitheater\, 101 E Locust\, El Dorado\, AR\, 71730\, United States
CATEGORIES:Arts & Culture,Clubs/Organizations,Community,Family and Children,Recreation & Sports
ATTACH;FMTTYPE=image/jpeg:https://www.goeldorado.com/wp-content/uploads/2026/03/2026-Plant-Sale-FLyer-jpg-low-scaled.jpg
END:VEVENT
BEGIN:VEVENT
DTSTART;TZID=America/Chicago:20260425T080000
DTEND;TZID=America/Chicago:20260425T120000
DTSTAMP:20260421T164503
CREATED:20260306T143249Z
LAST-MODIFIED:20260306T145507Z
UID:10029367-1777104000-1777118400@www.goeldorado.com
SUMMARY:Farmers Market on the Square
DESCRIPTION:Main Street El Dorado will host a Farmers Market in Downtown El Dorado every Saturday from April 11 -July 18. Vendor\, Farmers\, Music\, and Education! 8am-12am \n  \nFor more information or to register as a vendor: \nFarmer’s Market Application | MainStreet El Dorado
URL:https://www.goeldorado.com/event/farmers-market-on-the-square/2026-04-25/
LOCATION:Downtown El Dorado\, 101 N. Washington\, El Dorado\, AR\, 71730
CATEGORIES:Arts & Culture,Clubs/Organizations,Community,Education,Family and Children,Festivals & Celebrations,Live Music
ATTACH;FMTTYPE=image/jpeg:https://www.goeldorado.com/wp-content/uploads/2026/03/640157151_1237273001871814_3401409208845860125_n.jpg
END:VEVENT
BEGIN:VEVENT
DTSTART;TZID=America/Chicago:20260425T090000
DTEND;TZID=America/Chicago:20260425T140000
DTSTAMP:20260421T164503
CREATED:20260323T152123Z
LAST-MODIFIED:20260325T193940Z
UID:10029480-1777107600-1777125600@www.goeldorado.com
SUMMARY:Shutter& Sound - The Jazz Photography of Bob Willoughby
DESCRIPTION:Shutter and Sound: The Jazz Photography of Bob Willoughby\, an exhibition organized by Mid America Arts Alliance and hosted by the South Arkansas Historical Preservation Society.\n\nOn view from April 7 through May 23\, this exhibition highlights the work of Bob Willoughby\, a photographer widely known for his candid images of Hollywood actors. Before his time on film sets\, Willoughby documented the world of jazz\, capturing musicians and audiences in moments of raw energy and emotion. Working in low light and crowded spaces\, his photographs convey a sense of intimacy and movement\, bringing viewers into the heart of the performance.\n\nThe exhibition is open Tuesday through Friday from 9:00am to 4:00pm and Saturday from 10:00am to 4:00pm at 412 E. Faulkner in El Dorado\, Arkansas. Admission is $5.\nFor more information\, call (870) 862 9890 or email info@soarkhistory.com.\n\nTo learn more about M-AAA grants\, programs\, exhibitions\, and fellowships\, visit www.maaa.org”
URL:https://www.goeldorado.com/event/shutter-sound-the-jazz-photography-of-bob-willoughby/2026-04-25/
LOCATION:Gallery of History Museum\, 415 E Faulkner\, El Dorado\, AR\, 71730
CATEGORIES:Arts & Culture,Community,Family and Children
ATTACH;FMTTYPE=image/png:https://www.goeldorado.com/wp-content/uploads/2026/03/Jazz-Exhibit-Small.png
ORGANIZER;CN="South Arkansas Historical Preservation Society":MAILTO:info@soarkhistory.com
END:VEVENT
END:VCALENDAR