BEGIN:VCALENDAR
VERSION:2.0
PRODID:-//El Dorado, Arkansas - ECPv6.15.20//NONSGML v1.0//EN
CALSCALE:GREGORIAN
METHOD:PUBLISH
X-ORIGINAL-URL:https://www.goeldorado.com
X-WR-CALDESC:Events for El Dorado, Arkansas
REFRESH-INTERVAL;VALUE=DURATION:PT1H
X-Robots-Tag:noindex
X-PUBLISHED-TTL:PT1H
BEGIN:VTIMEZONE
TZID:America/Chicago
BEGIN:DAYLIGHT
TZOFFSETFROM:-0600
TZOFFSETTO:-0500
TZNAME:CDT
DTSTART:20250309T080000
END:DAYLIGHT
BEGIN:STANDARD
TZOFFSETFROM:-0500
TZOFFSETTO:-0600
TZNAME:CST
DTSTART:20251102T070000
END:STANDARD
BEGIN:DAYLIGHT
TZOFFSETFROM:-0600
TZOFFSETTO:-0500
TZNAME:CDT
DTSTART:20260308T080000
END:DAYLIGHT
BEGIN:STANDARD
TZOFFSETFROM:-0500
TZOFFSETTO:-0600
TZNAME:CST
DTSTART:20261101T070000
END:STANDARD
BEGIN:DAYLIGHT
TZOFFSETFROM:-0600
TZOFFSETTO:-0500
TZNAME:CDT
DTSTART:20270314T080000
END:DAYLIGHT
BEGIN:STANDARD
TZOFFSETFROM:-0500
TZOFFSETTO:-0600
TZNAME:CST
DTSTART:20271107T070000
END:STANDARD
END:VTIMEZONE
BEGIN:VEVENT
DTSTART;TZID=America/Chicago:20260204T173000
DTEND;TZID=America/Chicago:20260204T213000
DTSTAMP:20260421T201830
CREATED:20251110T224629Z
LAST-MODIFIED:20251113T222141Z
UID:10028630-1770226200-1770240600@www.goeldorado.com
SUMMARY:South Arkansas College basketball vs U of A Cossatot
DESCRIPTION:SouthArk men’s and women’s basketball teams will play NJCAA Region 2 opponent\, University of Arkansas–Cossatot.
URL:https://www.goeldorado.com/event/south-arkansas-college-basketball-vs-u-of-a-cossatot/
LOCATION:South Arkansas College Gym\, 311 S West Ave\, El Dorado\, AR\, 71730\, United States
CATEGORIES:Community,Family and Children,Recreation & Sports
END:VEVENT
BEGIN:VEVENT
DTSTART;TZID=America/Chicago:20260207T150000
DTEND;TZID=America/Chicago:20260207T170000
DTSTAMP:20260421T201830
CREATED:20251110T230321Z
LAST-MODIFIED:20251113T221717Z
UID:10028624-1770476400-1770483600@www.goeldorado.com
SUMMARY:South Arkansas College Men's Basketball vs ASU Newport
DESCRIPTION:
URL:https://www.goeldorado.com/event/south-arkansas-college-mens-basketball-vs-asu-newport/
LOCATION:South Arkansas College Gym\, 311 S West Ave\, El Dorado\, AR\, 71730\, United States
CATEGORIES:Community,Family and Children,Recreation & Sports
END:VEVENT
BEGIN:VEVENT
DTSTART;TZID=America/Chicago:20260207T190000
DTEND;TZID=America/Chicago:20260207T220000
DTSTAMP:20260421T201830
CREATED:20250529T194157Z
LAST-MODIFIED:20260113T175632Z
UID:10026144-1770490800-1770501600@www.goeldorado.com
SUMMARY:South Arkansas Symphony Candlelight & Crescendos: A Valentine's Prelude
DESCRIPTION:
URL:https://www.goeldorado.com/event/south-arkansas-symphony-candlelight-crescendos-a-valentines-prelude/
LOCATION:El Dorado Municipal Auditorium\, El Dorado\, AR\, 71730\, United States
CATEGORIES:Arts & Culture,Community,Family and Children,Holiday,Live Music
ATTACH;FMTTYPE=image/png:https://www.goeldorado.com/wp-content/uploads/2025/05/Flyer.png
END:VEVENT
BEGIN:VEVENT
DTSTART;TZID=America/Chicago:20260209T103000
DTEND;TZID=America/Chicago:20260209T113000
DTSTAMP:20260421T201830
CREATED:20260113T181821Z
LAST-MODIFIED:20260113T181821Z
UID:10028788-1770633000-1770636600@www.goeldorado.com
SUMMARY:Story Time @ The 1988
DESCRIPTION:
URL:https://www.goeldorado.com/event/story-time-the-1988/2026-02-09/
LOCATION:The 1988\, 117 N Jefferson Ave\, El Dorado\, AR\, 71730
CATEGORIES:Community,Family and Children
ATTACH;FMTTYPE=image/jpeg:https://www.goeldorado.com/wp-content/uploads/2026/01/614782650_122231872340263441_1434280767695528225_n.jpg
END:VEVENT
BEGIN:VEVENT
DTSTART;TZID=America/Chicago:20260211T173000
DTEND;TZID=America/Chicago:20260211T213000
DTSTAMP:20260421T201830
CREATED:20251110T224907Z
LAST-MODIFIED:20260205T152345Z
UID:10028631-1770831000-1770845400@www.goeldorado.com
SUMMARY:South Arkansas College Basketball vs North Arkansas College
DESCRIPTION:The SouthArk Stars will take on NJCAA Region 2 opponent\, North Arkansas College from Harrison\, AR.
URL:https://www.goeldorado.com/event/south-arkansas-college-basketball-vs-north-arkansas-college/
LOCATION:South Arkansas College Gym\, 311 S West Ave\, El Dorado\, AR\, 71730\, United States
CATEGORIES:Community,Family and Children,Recreation & Sports
ATTACH;FMTTYPE=image/png:https://www.goeldorado.com/wp-content/uploads/2025/11/8af02fd5-4de5-4714-8757-f8fc4c79e9ca.png
END:VEVENT
BEGIN:VEVENT
DTSTART;TZID=America/Chicago:20260214T130000
DTEND;TZID=America/Chicago:20260214T170000
DTSTAMP:20260421T201830
CREATED:20251110T225157Z
LAST-MODIFIED:20260205T152616Z
UID:10028632-1771074000-1771088400@www.goeldorado.com
SUMMARY:South Arkansas College Basketball vs ASU Midsouth
DESCRIPTION:The men’s and women’s SouthArk basketball teams will face NJCAA Region 2 opponent\, Arkansas State University Midsouth.
URL:https://www.goeldorado.com/event/south-arkansas-college-basketball-vs-asu-midsouth/
LOCATION:South Arkansas College Gym\, 311 S West Ave\, El Dorado\, AR\, 71730\, United States
CATEGORIES:Community,Family and Children,Recreation & Sports
ATTACH;FMTTYPE=image/png:https://www.goeldorado.com/wp-content/uploads/2025/11/2-14-26.png
END:VEVENT
BEGIN:VEVENT
DTSTART;TZID=America/Chicago:20260216T103000
DTEND;TZID=America/Chicago:20260216T113000
DTSTAMP:20260421T201830
CREATED:20260113T181821Z
LAST-MODIFIED:20260113T181821Z
UID:10028789-1771237800-1771241400@www.goeldorado.com
SUMMARY:Story Time @ The 1988
DESCRIPTION:
URL:https://www.goeldorado.com/event/story-time-the-1988/2026-02-16/
LOCATION:The 1988\, 117 N Jefferson Ave\, El Dorado\, AR\, 71730
CATEGORIES:Community,Family and Children
ATTACH;FMTTYPE=image/jpeg:https://www.goeldorado.com/wp-content/uploads/2026/01/614782650_122231872340263441_1434280767695528225_n.jpg
END:VEVENT
BEGIN:VEVENT
DTSTART;TZID=America/Chicago:20260221T130000
DTEND;TZID=America/Chicago:20260221T170000
DTSTAMP:20260421T201830
CREATED:20251110T225432Z
LAST-MODIFIED:20260205T152539Z
UID:10028633-1771678800-1771693200@www.goeldorado.com
SUMMARY:South Arkansas College Basketball vs SAU Tech
DESCRIPTION:Let’s pack the SouthArk gym to support the men’s and women’s basketball teams as they play neighboring\, SAU Tech!
URL:https://www.goeldorado.com/event/south-arkansas-college-basketball-vs-sau-tech/
LOCATION:South Arkansas College Gym\, 311 S West Ave\, El Dorado\, AR\, 71730\, United States
CATEGORIES:Community,Family and Children,Recreation & Sports
ATTACH;FMTTYPE=image/png:https://www.goeldorado.com/wp-content/uploads/2025/11/2-21-26.png
END:VEVENT
BEGIN:VEVENT
DTSTART;TZID=America/Chicago:20260223T103000
DTEND;TZID=America/Chicago:20260223T113000
DTSTAMP:20260421T201830
CREATED:20260113T181821Z
LAST-MODIFIED:20260113T181821Z
UID:10028790-1771842600-1771846200@www.goeldorado.com
SUMMARY:Story Time @ The 1988
DESCRIPTION:
URL:https://www.goeldorado.com/event/story-time-the-1988/2026-02-23/
LOCATION:The 1988\, 117 N Jefferson Ave\, El Dorado\, AR\, 71730
CATEGORIES:Community,Family and Children
ATTACH;FMTTYPE=image/jpeg:https://www.goeldorado.com/wp-content/uploads/2026/01/614782650_122231872340263441_1434280767695528225_n.jpg
END:VEVENT
BEGIN:VEVENT
DTSTART;TZID=America/Chicago:20260224T110000
DTEND;TZID=America/Chicago:20260224T120000
DTSTAMP:20260421T201830
CREATED:20260217T150707Z
LAST-MODIFIED:20260217T160211Z
UID:10029310-1771930800-1771934400@www.goeldorado.com
SUMMARY:Toddler Tales-Cherries @ Barton Library
DESCRIPTION:Join us for a morning of stories\, giggles\, and hands-on fun made just for little ones! This free program is designed for children ages 0-5 and their grown-ups.
URL:https://www.goeldorado.com/event/toddler-tales-cherries-barton-library/
LOCATION:Barton Library\, 200 E 5th\, El Dorado\, AR\, 71730\, United States
CATEGORIES:Community,Family and Children
END:VEVENT
BEGIN:VEVENT
DTSTART;TZID=America/Chicago:20260227T170000
DTEND;TZID=America/Chicago:20260227T200000
DTSTAMP:20260421T201830
CREATED:20260106T223837Z
LAST-MODIFIED:20260106T223837Z
UID:10028768-1772211600-1772222400@www.goeldorado.com
SUMMARY:Meet and Greet with Jason Faunt @ Gabe's Cave
DESCRIPTION:Jason Patrick Faunt is an American actor known for his roles as Wesley Collins and his descendant Alex in Power Rangers Time Force. He also played Leon S. Kennedy in Resident Evil 6 and Trunks in the Dragon Ball fan film Son of Trunks.
URL:https://www.goeldorado.com/event/meet-and-greet-with-jason-faunt-gabes-cave/
LOCATION:Gabe’s Cave\, 2101 N College\, El Dorado\, AR\, 71730\, United States
CATEGORIES:Arts & Culture,Community,Family and Children
ATTACH;FMTTYPE=image/jpeg:https://www.goeldorado.com/wp-content/uploads/2026/01/jason-faunt.jpg
END:VEVENT
BEGIN:VEVENT
DTSTART;TZID=America/Chicago:20260302T103000
DTEND;TZID=America/Chicago:20260302T113000
DTSTAMP:20260421T201830
CREATED:20260113T181821Z
LAST-MODIFIED:20260113T181821Z
UID:10028791-1772447400-1772451000@www.goeldorado.com
SUMMARY:Story Time @ The 1988
DESCRIPTION:
URL:https://www.goeldorado.com/event/story-time-the-1988/2026-03-02/
LOCATION:The 1988\, 117 N Jefferson Ave\, El Dorado\, AR\, 71730
CATEGORIES:Community,Family and Children
ATTACH;FMTTYPE=image/jpeg:https://www.goeldorado.com/wp-content/uploads/2026/01/614782650_122231872340263441_1434280767695528225_n.jpg
END:VEVENT
BEGIN:VEVENT
DTSTART;TZID=America/Chicago:20260303T110000
DTEND;TZID=America/Chicago:20260303T120000
DTSTAMP:20260421T201830
CREATED:20260224T144840Z
LAST-MODIFIED:20260302T164041Z
UID:10029342-1772535600-1772539200@www.goeldorado.com
SUMMARY:Toddler Tales - Lady Bugs @ Barton Library
DESCRIPTION:Join us for a morning of stories\, giggles\, and hands-on fun made just for little ones! This free program is designed for children ages 0-5 and their grown-ups.
URL:https://www.goeldorado.com/event/toddler-tales-lady-bugs-barton-library/
LOCATION:Barton Library\, 200 E 5th\, El Dorado\, AR\, 71730\, United States
CATEGORIES:Community,Family and Children
ATTACH;FMTTYPE=image/png:https://www.goeldorado.com/wp-content/uploads/2026/02/03-03-Toddler-Tales-Flyer.png
ORGANIZER;CN="Barton Library":MAILTO:eldorado@ucpls.org
END:VEVENT
BEGIN:VEVENT
DTSTART;TZID=America/Chicago:20260305T180000
DTEND;TZID=America/Chicago:20260305T200000
DTSTAMP:20260421T201830
CREATED:20260220T154733Z
LAST-MODIFIED:20260220T154733Z
UID:10029331-1772733600-1772740800@www.goeldorado.com
SUMMARY:This is our Place: Eras at the Elm (A Swiftie Night)
DESCRIPTION:This Is Our Place: Eras at the Elm March 6\, 2026 | 6:00 PMWild Elm Mercantile | 104 E Elm – El Dorado\nLong story short… we’re hosting a Swiftie night at the Elm!\nJoin us for an all-eras evening inspired by the music\, the memories\, and the magic that spans every album.\n Eras-casual dress encouraged Themed drinks Swiftie trivia Giveaways Friendship bracelet making Hidden Easter eggs throughout the space\nWhether you’re headed to the tribute show the next day or just love a good lyric and a good drink\, this night is for you.\n This is a ticketed event.Tickets go on sale February 17th.\nIt was rare. We were there.
URL:https://www.goeldorado.com/event/this-is-our-place-eras-at-the-elm-a-swiftie-night/
LOCATION:Wild Elm Mercantile\, 104 E Elm\, El Dorado\, AR\, 71730
CATEGORIES:Community,Family and Children
ATTACH;FMTTYPE=image/jpeg:https://www.goeldorado.com/wp-content/uploads/2026/02/633656399_845041541889517_2399724022276677855_n.jpg
END:VEVENT
BEGIN:VEVENT
DTSTART;TZID=America/Chicago:20260307T100000
DTEND;TZID=America/Chicago:20260307T120000
DTSTAMP:20260421T201830
CREATED:20260220T153908Z
LAST-MODIFIED:20260220T153908Z
UID:10029327-1772877600-1772884800@www.goeldorado.com
SUMMARY:Book Signing with Jordan Tribble @ the 1988
DESCRIPTION:SAVE THE DATE Author and Arkansas native Jordan Tribble will be in shop on Saturday\, March 7! She will be sharing her novel The Rules of Midnight\, signing books and meeting customer! We are thrilled to welcome her in
URL:https://www.goeldorado.com/event/book-signing-with-jordan-tribble-the-1988/
LOCATION:The 1988\, 117 N Jefferson Ave\, El Dorado\, AR\, 71730
CATEGORIES:Arts & Culture,Community,Family and Children
ATTACH;FMTTYPE=image/jpeg:https://www.goeldorado.com/wp-content/uploads/2026/02/622605125_122234126720263441_860407857035047297_n.jpg
END:VEVENT
BEGIN:VEVENT
DTSTART;TZID=America/Chicago:20260309T103000
DTEND;TZID=America/Chicago:20260309T113000
DTSTAMP:20260421T201830
CREATED:20260113T181821Z
LAST-MODIFIED:20260113T181821Z
UID:10028792-1773052200-1773055800@www.goeldorado.com
SUMMARY:Story Time @ The 1988
DESCRIPTION:
URL:https://www.goeldorado.com/event/story-time-the-1988/2026-03-09/
LOCATION:The 1988\, 117 N Jefferson Ave\, El Dorado\, AR\, 71730
CATEGORIES:Community,Family and Children
ATTACH;FMTTYPE=image/jpeg:https://www.goeldorado.com/wp-content/uploads/2026/01/614782650_122231872340263441_1434280767695528225_n.jpg
END:VEVENT
BEGIN:VEVENT
DTSTART;TZID=America/Chicago:20260310T110000
DTEND;TZID=America/Chicago:20260310T120000
DTSTAMP:20260421T201830
CREATED:20260224T145931Z
LAST-MODIFIED:20260302T164111Z
UID:10029343-1773140400-1773144000@www.goeldorado.com
SUMMARY:Toddler Tales - Bees @ Barton Library
DESCRIPTION:Join us for a morning of stories\, giggles\, and hands-on fun made just for little ones! This free program is designed for children ages 0-5 and their grown-ups.
URL:https://www.goeldorado.com/event/toddler-tales-bees-barton-library/
LOCATION:Barton Library\, 200 E 5th\, El Dorado\, AR\, 71730\, United States
CATEGORIES:Community,Family and Children
ATTACH;FMTTYPE=image/png:https://www.goeldorado.com/wp-content/uploads/2026/02/03-10-Toddler-Tales-Flyer-1.png
ORGANIZER;CN="Barton Library":MAILTO:eldorado@ucpls.org
END:VEVENT
BEGIN:VEVENT
DTSTART;TZID=America/Chicago:20260310T173000
DTEND;TZID=America/Chicago:20260310T193000
DTSTAMP:20260421T201830
CREATED:20260219T142808Z
LAST-MODIFIED:20260219T151205Z
UID:10029316-1773163800-1773171000@www.goeldorado.com
SUMMARY:In a Pickle: Pickling Basics
DESCRIPTION:Curious about pickling but not sure where to start? Join Faye Brown of Yes\, I Can for a hands-on introduction to the art of pickling. \nIn this beginner-friendly class\, participants will learn the basics of safe\, simple pickling methods\, explore flavor combinations\, and gain the confidence to preserve seasonal produce at home. You’ll leave with practical tips\, tried-and-true techniques\, and a jar of something delicious!
URL:https://www.goeldorado.com/event/in-a-pickle-pickling-basics/
LOCATION:South Arkansas College East Campus\, 3696 E Main st\, El Dorado\, AR\, 71730
CATEGORIES:Arts & Culture,Community,Continuing Education,Education,Family and Children
ATTACH;FMTTYPE=image/png:https://www.goeldorado.com/wp-content/uploads/2026/02/Social-1.png
END:VEVENT
BEGIN:VEVENT
DTSTART;TZID=America/Chicago:20260313T070000
DTEND;TZID=America/Chicago:20260313T090000
DTSTAMP:20260421T201830
CREATED:20260306T142211Z
LAST-MODIFIED:20260306T142211Z
UID:10029364-1773385200-1773392400@www.goeldorado.com
SUMMARY:Biscuit Breakfast
DESCRIPTION:Swing by the circle drive in front of the Gallery of History at 412 E. Faulkner for pick-up orders of Biscuits! Choose from a plain or sausage biscuit. AND each one will come with a complimentary portion of Mayhaw Jelly!\nProceeds go toward funding the 34th Annual Mayhaw Festival on May 2\, 2026.\nCall ahead for pre-orders at (870) 862-9890
URL:https://www.goeldorado.com/event/biscuit-breakfast/
LOCATION:Gallery of History Museum\, 415 E Faulkner\, El Dorado\, AR\, 71730
CATEGORIES:Community,Family and Children
ATTACH;FMTTYPE=image/jpeg:https://www.goeldorado.com/wp-content/uploads/2026/03/641336822_1425853652671455_6508398141739113659_n.jpg
ORGANIZER;CN="South Arkansas Historical Preservation Society":MAILTO:info@soarkhistory.com
END:VEVENT
BEGIN:VEVENT
DTSTART;TZID=America/Chicago:20260314T100000
DTEND;TZID=America/Chicago:20260314T120000
DTSTAMP:20260421T201830
CREATED:20260220T154030Z
LAST-MODIFIED:20260220T154030Z
UID:10029328-1773482400-1773489600@www.goeldorado.com
SUMMARY:Book Signing with Byron Winn @ The 1988
DESCRIPTION:One of the coolest things about owning a bookstore is sharing authors with you! Please join us on Saturday\, March 14 for a signing with Byron Winn\, author of The Director’s Rose (adult book) and Friendly the Fire Dog (kid book).\nThis event is free to attend and books will be available for purchase
URL:https://www.goeldorado.com/event/book-signing-with-byron-winn-the-1988/
LOCATION:The 1988\, 117 N Jefferson Ave\, El Dorado\, AR\, 71730
CATEGORIES:Arts & Culture,Community,Family and Children
ATTACH;FMTTYPE=image/jpeg:https://www.goeldorado.com/wp-content/uploads/2026/02/635116637_122236493084263441_4928151426572578089_n.jpg
END:VEVENT
BEGIN:VEVENT
DTSTART;TZID=America/Chicago:20260314T110000
DTEND;TZID=America/Chicago:20260314T150000
DTSTAMP:20260421T201830
CREATED:20260113T171747Z
LAST-MODIFIED:20260113T174024Z
UID:10028774-1773486000-1773500400@www.goeldorado.com
SUMMARY:Shamrockin' On The Square!
DESCRIPTION:🍀 Find Your Place Downtown El Dorado! 🍀 \nShamrockin’ on the Square\nGet ready to go green and celebrate big at Shamrockin’ on the Square in Downtown El Dorado! 🎉 \n🕚 11:00 AM – 3:00 PMJoin us for an action-packed afternoon filled with: \n\n\n🎶 Awesome live music \n\n\n🍔 Great food \n\n\n🎯 Fun contests & friendly competition \n\n\nEvent Highlights:✊✋✌️ Rock\, Paper\, Scissors Tournament• $5 entry• Winner takes ALL! \n🐾 UCAPS Patty Paw Parade• Bring your festive furry friends and show off that Irish flair! \n💚💛 Green & Gold Challenge• Compete for a chance to win $200! \n📅 March 14\, 2026📍 Downtown El Dorado – On the Square \n✨ Your place for a great time this March is Downtown El Dorado.Don’t miss the luck\, the laughs\, and the legendary fun! 🍀
URL:https://www.goeldorado.com/event/shamrockin-on-the-square-4/
LOCATION:Downtown El Dorado\, 101 N. Washington\, El Dorado\, AR\, 71730
CATEGORIES:Community,Family and Children,Festivals & Celebrations,Live Music
ATTACH;FMTTYPE=image/png:https://www.goeldorado.com/wp-content/uploads/2026/01/Shamrockin-Cover-2.png
END:VEVENT
BEGIN:VEVENT
DTSTART;TZID=America/Chicago:20260314T140000
DTEND;TZID=America/Chicago:20260314T150000
DTSTAMP:20260421T201830
CREATED:20260224T204416Z
LAST-MODIFIED:20260302T164141Z
UID:10029344-1773496800-1773500400@www.goeldorado.com
SUMMARY:Children's Story Time @ Barton Library
DESCRIPTION:Children of all ages are invited to participate in Saint Patrick’s Day themed stories\, crafts\, and snacks with the El Dorado Service League!
URL:https://www.goeldorado.com/event/childrens-story-time-barton-library-2/
LOCATION:Barton Library\, 200 E 5th\, El Dorado\, AR\, 71730\, United States
CATEGORIES:Community,Family and Children,Holiday
ATTACH;FMTTYPE=image/png:https://www.goeldorado.com/wp-content/uploads/2026/02/03-14-Story-Time-Flyer.png
ORGANIZER;CN="Barton Library":MAILTO:eldorado@ucpls.org
END:VEVENT
BEGIN:VEVENT
DTSTART;TZID=America/Chicago:20260316T103000
DTEND;TZID=America/Chicago:20260316T113000
DTSTAMP:20260421T201830
CREATED:20260113T181821Z
LAST-MODIFIED:20260113T181821Z
UID:10028793-1773657000-1773660600@www.goeldorado.com
SUMMARY:Story Time @ The 1988
DESCRIPTION:
URL:https://www.goeldorado.com/event/story-time-the-1988/2026-03-16/
LOCATION:The 1988\, 117 N Jefferson Ave\, El Dorado\, AR\, 71730
CATEGORIES:Community,Family and Children
ATTACH;FMTTYPE=image/jpeg:https://www.goeldorado.com/wp-content/uploads/2026/01/614782650_122231872340263441_1434280767695528225_n.jpg
END:VEVENT
BEGIN:VEVENT
DTSTART;TZID=America/Chicago:20260317T110000
DTEND;TZID=America/Chicago:20260317T120000
DTSTAMP:20260421T201830
CREATED:20260226T141610Z
LAST-MODIFIED:20260302T165055Z
UID:10029345-1773745200-1773748800@www.goeldorado.com
SUMMARY:Toddler Tales - St. Patrick's Day @ Barton Library
DESCRIPTION:Join us for a morning of stories\, giggles\, and hands-on fun made just for little ones! This free program is designed for children ages 0-5 and their grown-ups.
URL:https://www.goeldorado.com/event/toddler-tales-st-patricks-day-barton-library/
LOCATION:Barton Library\, 200 E 5th\, El Dorado\, AR\, 71730\, United States
CATEGORIES:Community,Family and Children,Holiday
ATTACH;FMTTYPE=image/png:https://www.goeldorado.com/wp-content/uploads/2026/02/03-17-Toddler-Tales-Flyer.png
ORGANIZER;CN="Barton Library":MAILTO:eldorado@ucpls.org
END:VEVENT
BEGIN:VEVENT
DTSTART;TZID=America/Chicago:20260317T120000
DTEND;TZID=America/Chicago:20260317T130000
DTSTAMP:20260421T201830
CREATED:20260219T143830Z
LAST-MODIFIED:20260219T151408Z
UID:10029319-1773748800-1773752400@www.goeldorado.com
SUMMARY:Cyber Hygiene for Everyday Life
DESCRIPTION:Staying safe online does not have to be complicated. Join us for a lunch lecture covering everyday cyber basics like passwords\, phishing\, scams\, and social media safety. \nLed by Scott Anderson\, Instructor of Cybersecurity at Ouachita Baptist University\, and his cybersecurity students\, this session is designed to be practical\, relaxed\, and useful for real life. \nLunch provided for those who register.
URL:https://www.goeldorado.com/event/cyber-hygiene-for-everyday-life/
LOCATION:Mahony Family Library\, 300 Summit Ave\, El Dorado\, AR\, 71730\, United States
CATEGORIES:Community,Continuing Education,Education,Family and Children
ATTACH;FMTTYPE=image/png:https://www.goeldorado.com/wp-content/uploads/2026/02/Cyber-Hygiene-for-Everyday-Life.png
END:VEVENT
BEGIN:VEVENT
DTSTART;TZID=America/Chicago:20260317T120000
DTEND;TZID=America/Chicago:20260317T133000
DTSTAMP:20260421T201830
CREATED:20251120T182601Z
LAST-MODIFIED:20251125T192538Z
UID:10028714-1773748800-1773754200@www.goeldorado.com
SUMMARY:2026 Heart of the Eagle Luncheon honoring Robert Reynolds
DESCRIPTION:Join Scouting America at the El Dorado Conference Center for an elegant\, catered luncheon for the iconic Robert Reynolds on St Patrick’s Day (March 17\, 2026).  All proceeds go to supporting the Cub Scouts and Troops of Natural State Council and the DeSoto District. \n  \nThe DeSoto District encompasses Ashley\, Bradley\, Calhoun\, Chicot\, Cleveland\, Columbia\, Dallas\, Desha\, Drew\, Ouachita\, and Union counties. We are diligently growing this youth program in small rural communities such as Strong\, Hampton\, and Junction City.
URL:https://www.goeldorado.com/event/2026-heart-of-the-eagle-luncheon-honoring-robert-reynolds/
LOCATION:El Dorado Conference Center\, 311 S West Ave\, El Dorado\, 71730\, United States
CATEGORIES:Business,Clubs/Organizations,Community,Family and Children,Festivals & Celebrations
ATTACH;FMTTYPE=image/png:https://www.goeldorado.com/wp-content/uploads/2025/11/image-2.png
END:VEVENT
BEGIN:VEVENT
DTSTART;TZID=America/Chicago:20260318T100000
DTEND;TZID=America/Chicago:20260318T110000
DTSTAMP:20260421T201830
CREATED:20260226T164135Z
LAST-MODIFIED:20260302T173213Z
UID:10029353-1773828000-1773831600@www.goeldorado.com
SUMMARY:Tinkering for Tots @ AMNR
DESCRIPTION:Our littlest museum visitors can participate in a hands-on\, interactive tinkering activity designed with our preschool visitors in mind.
URL:https://www.goeldorado.com/event/tinkering-for-tots-amnr/
LOCATION:Arkansas Museum of Natural Resources\, 4087 Smackover Hwy\, Smackover\, AR\, 71730\, United States
CATEGORIES:Family and Children
END:VEVENT
BEGIN:VEVENT
DTSTART;TZID=America/Chicago:20260320T070000
DTEND;TZID=America/Chicago:20260320T170000
DTSTAMP:20260421T201830
CREATED:20260310T200446Z
LAST-MODIFIED:20260310T204724Z
UID:10029439-1773990000-1774026000@www.goeldorado.com
SUMMARY:Four Points Coffee Co. Presents: Annual Downtown Egg Hunt
DESCRIPTION:Join us downtown during Four Points’ annual egg hunt. Beginning Friday\, March 20th Four Points will hide 1-2 eggs per day through Friday\, April the 3rd. Each egg will be hidden in a downtown location with hints posted on Four Points’ Facebook page. Each egg will contain a voucher for a prize from fellow downtown businesses. Vouchers will be need to be verified at Four Points and then can be taken to the business that is offering the prize. \nPrizes will be from:\n\nFour Points Coffee\nThe 1988\nWild Elm Mercantile\nAll About Flowers\nand more
URL:https://www.goeldorado.com/event/four-points-coffee-co-presents-annual-downtown-egg-hunt/2026-03-20/
LOCATION:Downtown El Dorado\, 101 N. Washington\, El Dorado\, AR\, 71730
CATEGORIES:Community,Family and Children,Holiday
ATTACH;FMTTYPE=image/png:https://www.goeldorado.com/wp-content/uploads/2026/03/Four-Points-Coffee-Co.-1140-x-641-px.png
END:VEVENT
BEGIN:VEVENT
DTSTART;TZID=America/Chicago:20260321T070000
DTEND;TZID=America/Chicago:20260321T170000
DTSTAMP:20260421T201830
CREATED:20260310T200446Z
LAST-MODIFIED:20260310T204724Z
UID:10029440-1774076400-1774112400@www.goeldorado.com
SUMMARY:Four Points Coffee Co. Presents: Annual Downtown Egg Hunt
DESCRIPTION:Join us downtown during Four Points’ annual egg hunt. Beginning Friday\, March 20th Four Points will hide 1-2 eggs per day through Friday\, April the 3rd. Each egg will be hidden in a downtown location with hints posted on Four Points’ Facebook page. Each egg will contain a voucher for a prize from fellow downtown businesses. Vouchers will be need to be verified at Four Points and then can be taken to the business that is offering the prize. \nPrizes will be from:\n\nFour Points Coffee\nThe 1988\nWild Elm Mercantile\nAll About Flowers\nand more
URL:https://www.goeldorado.com/event/four-points-coffee-co-presents-annual-downtown-egg-hunt/2026-03-21/
LOCATION:Downtown El Dorado\, 101 N. Washington\, El Dorado\, AR\, 71730
CATEGORIES:Community,Family and Children,Holiday
ATTACH;FMTTYPE=image/png:https://www.goeldorado.com/wp-content/uploads/2026/03/Four-Points-Coffee-Co.-1140-x-641-px.png
END:VEVENT
BEGIN:VEVENT
DTSTART;TZID=America/Chicago:20260322T070000
DTEND;TZID=America/Chicago:20260322T170000
DTSTAMP:20260421T201830
CREATED:20260310T200446Z
LAST-MODIFIED:20260310T204724Z
UID:10029441-1774162800-1774198800@www.goeldorado.com
SUMMARY:Four Points Coffee Co. Presents: Annual Downtown Egg Hunt
DESCRIPTION:Join us downtown during Four Points’ annual egg hunt. Beginning Friday\, March 20th Four Points will hide 1-2 eggs per day through Friday\, April the 3rd. Each egg will be hidden in a downtown location with hints posted on Four Points’ Facebook page. Each egg will contain a voucher for a prize from fellow downtown businesses. Vouchers will be need to be verified at Four Points and then can be taken to the business that is offering the prize. \nPrizes will be from:\n\nFour Points Coffee\nThe 1988\nWild Elm Mercantile\nAll About Flowers\nand more
URL:https://www.goeldorado.com/event/four-points-coffee-co-presents-annual-downtown-egg-hunt/2026-03-22/
LOCATION:Downtown El Dorado\, 101 N. Washington\, El Dorado\, AR\, 71730
CATEGORIES:Community,Family and Children,Holiday
ATTACH;FMTTYPE=image/png:https://www.goeldorado.com/wp-content/uploads/2026/03/Four-Points-Coffee-Co.-1140-x-641-px.png
END:VEVENT
END:VCALENDAR