BEGIN:VCALENDAR
VERSION:2.0
PRODID:-//El Dorado, Arkansas - ECPv6.15.20//NONSGML v1.0//EN
CALSCALE:GREGORIAN
METHOD:PUBLISH
X-WR-CALNAME:El Dorado, Arkansas
X-ORIGINAL-URL:https://www.goeldorado.com
X-WR-CALDESC:Events for El Dorado, Arkansas
REFRESH-INTERVAL;VALUE=DURATION:PT1H
X-Robots-Tag:noindex
X-PUBLISHED-TTL:PT1H
BEGIN:VTIMEZONE
TZID:America/Chicago
BEGIN:DAYLIGHT
TZOFFSETFROM:-0600
TZOFFSETTO:-0500
TZNAME:CDT
DTSTART:20220313T080000
END:DAYLIGHT
BEGIN:STANDARD
TZOFFSETFROM:-0500
TZOFFSETTO:-0600
TZNAME:CST
DTSTART:20221106T070000
END:STANDARD
BEGIN:DAYLIGHT
TZOFFSETFROM:-0600
TZOFFSETTO:-0500
TZNAME:CDT
DTSTART:20230312T080000
END:DAYLIGHT
BEGIN:STANDARD
TZOFFSETFROM:-0500
TZOFFSETTO:-0600
TZNAME:CST
DTSTART:20231105T070000
END:STANDARD
BEGIN:DAYLIGHT
TZOFFSETFROM:-0600
TZOFFSETTO:-0500
TZNAME:CDT
DTSTART:20240310T080000
END:DAYLIGHT
BEGIN:STANDARD
TZOFFSETFROM:-0500
TZOFFSETTO:-0600
TZNAME:CST
DTSTART:20241103T070000
END:STANDARD
END:VTIMEZONE
BEGIN:VEVENT
DTSTART;VALUE=DATE:20230626
DTEND;VALUE=DATE:20230701
DTSTAMP:20260420T051011
CREATED:20230522T195429Z
LAST-MODIFIED:20230522T195430Z
UID:10013313-1687737600-1688169599@www.goeldorado.com
SUMMARY:Ballet Sr Camp @ SAAC
DESCRIPTION:Entering grade 4-12 \n  \nJune 19-22 \nInstructors Stephanie Lowrey and Cami Lowrey \nEntering grades 8-12 and up: 9am-5pm (9-11 Male Ballroom only Dancers) \nEntering grades 4-7 12:30-4:30 \nPerformance Friday @ 6pm \nregistration: 870-862-5474 \nwww.saac-arts.org
URL:https://www.goeldorado.com/event/ballet-sr-camp-saac-2/
LOCATION:South Arkansas Arts Center
CATEGORIES:Arts & Culture,Family and Children
END:VEVENT
BEGIN:VEVENT
DTSTART;TZID=America/Chicago:20230627T100000
DTEND;TZID=America/Chicago:20230627T120000
DTSTAMP:20260420T051011
CREATED:20230517T211412Z
LAST-MODIFIED:20230517T211446Z
UID:10014237-1687860000-1687867200@www.goeldorado.com
SUMMARY:The Bad Guys: Summer Movie Series @ Stars Theaters
DESCRIPTION:FREE SUMMER MOVIE LINE UP IS IN!\nAdmission is free at 10am on Tuesday and Thursday for June and July!\nGroups and daycares are encouraged to attended this weather safe\, FREE summer activity!!
URL:https://www.goeldorado.com/event/bad-guys-summer-movie-series-stars-theaters/
LOCATION:Stars Theaters\, 2620 W Hillsboro\, El Dorado\, AR\, 71730\, United States
CATEGORIES:Community,Family and Children
ATTACH;FMTTYPE=image/jpeg:https://www.goeldorado.com/wp-content/uploads/2023/05/345638830_744735997134060_9025268044068200198_n.jpg
END:VEVENT
BEGIN:VEVENT
DTSTART;TZID=America/Chicago:20230627T140000
DTEND;TZID=America/Chicago:20230627T150000
DTSTAMP:20260420T051011
CREATED:20230516T145528Z
LAST-MODIFIED:20230516T145528Z
UID:10014208-1687874400-1687878000@www.goeldorado.com
SUMMARY:Delta Dental @ Barton Library
DESCRIPTION:Join us for Barton Public Library’s 2023 Summer Reading Program sponsored by Kiwanis Club of El Dorado\, Arkansas! Learn how to care for your teeth\, gums\, and more with fun\, educational activities brought to you by Delta Dental of Arkansas
URL:https://www.goeldorado.com/event/delta-dental-barton-library/
LOCATION:Barton Library\, 200 E 5th\, El Dorado\, AR\, 71730\, United States
CATEGORIES:Community,Family and Children
ATTACH;FMTTYPE=image/jpeg:https://www.goeldorado.com/wp-content/uploads/2023/05/347107958_589247636334266_6523566205847259201_n.jpg
ORGANIZER;CN="Barton Library":MAILTO:eldorado@ucpls.org
END:VEVENT
BEGIN:VEVENT
DTSTART;TZID=America/Chicago:20230628T140000
DTEND;TZID=America/Chicago:20230628T150000
DTSTAMP:20260420T051011
CREATED:20230516T145639Z
LAST-MODIFIED:20230516T145714Z
UID:10014209-1687960800-1687964400@www.goeldorado.com
SUMMARY:Magic Mr Nick @ Barton Library
DESCRIPTION:Join us for Barton Public Library’s 2023 Summer Reading Program sponsored by Kiwanis Club of El Dorado\, Arkansas! Magic Mr. Nick presents an interactive comedy magic show designed for kids and families. \n 
URL:https://www.goeldorado.com/event/magic-mr-nick-barton-library/
LOCATION:Barton Library\, 200 E 5th\, El Dorado\, AR\, 71730\, United States
CATEGORIES:Community,Family and Children
ATTACH;FMTTYPE=image/jpeg:https://www.goeldorado.com/wp-content/uploads/2023/05/346891101_3384756595171398_9222325261964622249_n.jpg
ORGANIZER;CN="Barton Library":MAILTO:eldorado@ucpls.org
END:VEVENT
BEGIN:VEVENT
DTSTART;TZID=America/Chicago:20230629T100000
DTEND;TZID=America/Chicago:20230629T110000
DTSTAMP:20260420T051011
CREATED:20230421T154755Z
LAST-MODIFIED:20230421T173110Z
UID:10013393-1688032800-1688036400@www.goeldorado.com
SUMMARY:SUMMER FUN @ THE MUSEUM
DESCRIPTION:STRAW ROCKETS \nmeeting place: Museum lobby \nSummer STEM at the Museum and Straw Rockets. You are invited to join us for this fun activity. This activity is a clever way to make science fun for kids of all ages. There is not charge for this program\, but please call the museum at (870) 725.2877 to reserve your spot. Space many be limited.
URL:https://www.goeldorado.com/event/summer-fun-the-museum/
LOCATION:Arkansas Museum of Natural Resources\, 4087 Smackover Hwy\, Smackover\, AR\, 71730\, United States
CATEGORIES:Community,Family and Children,Recreation & Sports
END:VEVENT
BEGIN:VEVENT
DTSTART;TZID=America/Chicago:20230629T100000
DTEND;TZID=America/Chicago:20230629T120000
DTSTAMP:20260420T051011
CREATED:20230517T211545Z
LAST-MODIFIED:20230517T211545Z
UID:10014238-1688032800-1688040000@www.goeldorado.com
SUMMARY:The Bad Guys: Summer Movie Series @ Stars Theaters
DESCRIPTION:FREE SUMMER MOVIE LINE UP IS IN!\nAdmission is free at 10am on Tuesday and Thursday for June and July!\nGroups and daycares are encouraged to attended this weather safe\, FREE summer activity!!
URL:https://www.goeldorado.com/event/the-bad-guys-summer-movie-series-stars-theaters/
LOCATION:Stars Theaters\, 2620 W Hillsboro\, El Dorado\, AR\, 71730\, United States
CATEGORIES:Community,Family and Children
ATTACH;FMTTYPE=image/jpeg:https://www.goeldorado.com/wp-content/uploads/2023/05/345638830_744735997134060_9025268044068200198_n.jpg
END:VEVENT
BEGIN:VEVENT
DTSTART;TZID=America/Chicago:20230629T140000
DTEND;TZID=America/Chicago:20230629T150000
DTSTAMP:20260420T051011
CREATED:20230516T145816Z
LAST-MODIFIED:20230516T145816Z
UID:10014210-1688047200-1688050800@www.goeldorado.com
SUMMARY:El Dorado Fire Dept @ Barton Library
DESCRIPTION:Join us for Barton Public Library’s 2023 Summer Reading Program sponsored by Kiwanis Club of El Dorado\, Arkansas! Learn about fire safety and enjoy a story time with the El Dorado Fire Department.
URL:https://www.goeldorado.com/event/el-dorado-fire-dept-barton-library/
LOCATION:Barton Library\, 200 E 5th\, El Dorado\, AR\, 71730\, United States
CATEGORIES:Community,Family and Children
ATTACH;FMTTYPE=image/jpeg:https://www.goeldorado.com/wp-content/uploads/2023/05/347080805_196567029873217_810323613012652555_n.jpg
ORGANIZER;CN="Barton Library":MAILTO:eldorado@ucpls.org
END:VEVENT
BEGIN:VEVENT
DTSTART;VALUE=DATE:20230701
DTEND;VALUE=DATE:20230802
DTSTAMP:20260420T051011
CREATED:20230516T144438Z
LAST-MODIFIED:20230516T144445Z
UID:10014204-1688169600-1690934399@www.goeldorado.com
SUMMARY:The First World War Exhibits @ Mahony Family Library
DESCRIPTION:
URL:https://www.goeldorado.com/event/the-first-world-war-exhibits-mahony-family-library/
LOCATION:Mahony Family Library\, 300 Summit Ave\, El Dorado\, AR\, 71730\, United States
CATEGORIES:Arts & Culture,Community,Education,Family and Children
ATTACH;FMTTYPE=image/png:https://www.goeldorado.com/wp-content/uploads/2023/05/First-World-War-Exhibit-Flyer.png
END:VEVENT
BEGIN:VEVENT
DTSTART;TZID=America/Chicago:20230701T080000
DTEND;TZID=America/Chicago:20230701T110000
DTSTAMP:20260420T051011
CREATED:20230629T142415Z
LAST-MODIFIED:20230629T142416Z
UID:10014344-1688198400-1688209200@www.goeldorado.com
SUMMARY:Farmers Market at MAD
DESCRIPTION:Shop local vendors at the MAD Amphitheater!
URL:https://www.goeldorado.com/event/farmers-market-at-mad-3-2/
LOCATION:AR
CATEGORIES:Arts & Culture,Community,Family and Children
ATTACH;FMTTYPE=image/jpeg:https://www.goeldorado.com/wp-content/uploads/2023/04/356234641_1894300757614555_7759044208940762031_n.jpg
END:VEVENT
BEGIN:VEVENT
DTSTART;TZID=America/Chicago:20230703T100000
DTEND;TZID=America/Chicago:20230728T020000
DTSTAMP:20260420T051011
CREATED:20230614T025756Z
LAST-MODIFIED:20230614T133416Z
UID:10014331-1688378400-1690509600@www.goeldorado.com
SUMMARY:Spanish Summer Camp
DESCRIPTION:4 week Spanish course where you can learn writing\, reading\, and holding a conversation in Spanish. All ages and all levels of Spanish are welcome. \nkids 5-10 @ 10:00am \nPeople 11+ @ 1:00 pm
URL:https://www.goeldorado.com/event/spanish-summer-camp/
LOCATION:AR
CATEGORIES:Arts & Culture,Community,Family and Children
ATTACH;FMTTYPE=image/jpeg:https://www.goeldorado.com/wp-content/uploads/2023/06/92c91ca4-00d5-4687-8766-7b34aa845f31.jpg
END:VEVENT
BEGIN:VEVENT
DTSTART;TZID=America/Chicago:20230703T203000
DTEND;TZID=America/Chicago:20230703T223000
DTSTAMP:20260420T051011
CREATED:20230501T151839Z
LAST-MODIFIED:20230501T151839Z
UID:10014157-1688416200-1688423400@www.goeldorado.com
SUMMARY:MAD Movie Monday showing: SuperPets
DESCRIPTION:
URL:https://www.goeldorado.com/event/mad-movie-monday-showing-superpets/
LOCATION:Murphy Arts District\, 101 E. Locust Street\, El Dorado\, AR\, 71730\, United States
CATEGORIES:Community,Family and Children
ATTACH;FMTTYPE=image/jpeg:https://www.goeldorado.com/wp-content/uploads/2023/05/344290992_2099580820238582_7582785097948463621_n.jpg
END:VEVENT
BEGIN:VEVENT
DTSTART;TZID=America/Chicago:20230704T100000
DTEND;TZID=America/Chicago:20230704T120000
DTSTAMP:20260420T051011
CREATED:20230517T211701Z
LAST-MODIFIED:20230517T211701Z
UID:10014239-1688464800-1688472000@www.goeldorado.com
SUMMARY:Sonic the Hedgehog 2: Summer Movie Series @ Starts Theaters
DESCRIPTION:  \n  \nFREE SUMMER MOVIE LINE UP IS IN!\nAdmission is free at 10am on Tuesday and Thursday for June and July!\nGroups and daycares are encouraged to attended this weather safe\, FREE summer activity!!
URL:https://www.goeldorado.com/event/sonic-the-hedgehog-2-summer-movie-series-starts-theaters/
LOCATION:Stars Theaters\, 2620 W Hillsboro\, El Dorado\, AR\, 71730\, United States
CATEGORIES:Community,Family and Children
ATTACH;FMTTYPE=image/jpeg:https://www.goeldorado.com/wp-content/uploads/2023/05/345643836_144081638560036_9110452529529655502_n.jpg
END:VEVENT
BEGIN:VEVENT
DTSTART;TZID=America/Chicago:20230705T140000
DTEND;TZID=America/Chicago:20230705T150000
DTSTAMP:20260420T051011
CREATED:20230516T145926Z
LAST-MODIFIED:20230516T145926Z
UID:10014211-1688565600-1688569200@www.goeldorado.com
SUMMARY:Arkansas Museum of Natural Resources @ Barton Library
DESCRIPTION:Join us for Barton Public Library’s 2023 Summer Reading Program sponsored by Kiwanis Club of El Dorado\, Arkansas! Enjoy a story time with Kim Smith’s “Boxitects” and build a tiny box town
URL:https://www.goeldorado.com/event/arkansas-museum-of-natural-resources-barton-library/
LOCATION:Barton Library\, 200 E 5th\, El Dorado\, AR\, 71730\, United States
CATEGORIES:Community,Family and Children
ATTACH;FMTTYPE=image/jpeg:https://www.goeldorado.com/wp-content/uploads/2023/05/347232990_1298186904385895_7719447834775437256_n.jpg
ORGANIZER;CN="Barton Library":MAILTO:eldorado@ucpls.org
END:VEVENT
BEGIN:VEVENT
DTSTART;TZID=America/Chicago:20230706T100000
DTEND;TZID=America/Chicago:20230706T120000
DTSTAMP:20260420T051011
CREATED:20230517T211749Z
LAST-MODIFIED:20230517T211817Z
UID:10014240-1688637600-1688644800@www.goeldorado.com
SUMMARY:Sonic the Hedgehog 2: Summer Movie Series @ Starts Theaters
DESCRIPTION:FREE SUMMER MOVIE LINE UP IS IN!\nAdmission is free at 10am on Tuesday and Thursday for June and July!\nGroups and daycares are encouraged to attended this weather safe\, FREE summer activity!!
URL:https://www.goeldorado.com/event/sonic-the-hedgehog-2-summer-movie-series-starts-theaters-2/
LOCATION:Stars Theaters\, 2620 W Hillsboro\, El Dorado\, AR\, 71730\, United States
CATEGORIES:Community,Family and Children
ATTACH;FMTTYPE=image/jpeg:https://www.goeldorado.com/wp-content/uploads/2023/05/345643836_144081638560036_9110452529529655502_n.jpg
END:VEVENT
BEGIN:VEVENT
DTSTART;TZID=America/Chicago:20230706T140000
DTEND;TZID=America/Chicago:20230706T150000
DTSTAMP:20260420T051011
CREATED:20230516T150049Z
LAST-MODIFIED:20230516T150049Z
UID:10014212-1688652000-1688655600@www.goeldorado.com
SUMMARY:Little Rock Zoo @ Barton Library
DESCRIPTION:Join us for Barton Public Library’s 2023 Summer Reading Program sponsored by Kiwanis Club of El Dorado\, Arkansas! Have fun learning about and getting up close to different animals from the Little Rock Zoo
URL:https://www.goeldorado.com/event/little-rock-zoo-barton-library/
LOCATION:Barton Library\, 200 E 5th\, El Dorado\, AR\, 71730\, United States
CATEGORIES:Community,Family and Children
ATTACH;FMTTYPE=image/jpeg:https://www.goeldorado.com/wp-content/uploads/2023/05/347083557_1382115152366408_3302443016498389777_n.jpg
ORGANIZER;CN="Barton Library":MAILTO:eldorado@ucpls.org
END:VEVENT
BEGIN:VEVENT
DTSTART;VALUE=DATE:20230708
DTEND;VALUE=DATE:20230709
DTSTAMP:20260420T051011
CREATED:20230130T194844Z
LAST-MODIFIED:20230629T133041Z
UID:10012014-1688774400-1688860799@www.goeldorado.com
SUMMARY:Grill Wars/Showdown at Sunset
DESCRIPTION:Check out Saturday’s schedule for Grill Wars: Triple Steak Cook-Off next weekend!! Come out on the 8th for live music from local favorites The Kyle Thompson Band & Boomer Hill Band and a sneak peek of South Arkansas Arts Center Newsies! El Dorado’s live reenactment\, Showdown at Sunset\, will end the day – you don’t want to miss out!\nFor more information or to view the full schedule\, head over to our website! www.mainstreeteldorado.org/grill-warssummer-concert
URL:https://www.goeldorado.com/event/grill-wars-showdown-at-sunset/
LOCATION:Downtown El Dorado\, 101 N. Washington\, El Dorado\, AR\, 71730
CATEGORIES:Community,Family and Children,Festivals & Celebrations,Live Music
ATTACH;FMTTYPE=image/jpeg:https://www.goeldorado.com/wp-content/uploads/2023/01/356091878_594564556142665_1106327261128827114_n.jpg
END:VEVENT
BEGIN:VEVENT
DTSTART;TZID=America/Chicago:20230708T080000
DTEND;TZID=America/Chicago:20230708T110000
DTSTAMP:20260420T051011
CREATED:20230414T212537Z
LAST-MODIFIED:20230626T140535Z
UID:10014345-1688803200-1688814000@www.goeldorado.com
SUMMARY:Farmers Market at MAD
DESCRIPTION:Shop local vendors at the MAD Amphitheater!
URL:https://www.goeldorado.com/event/farmers-market-at-mad-3/2023-07-08/
LOCATION:AR
CATEGORIES:Arts & Culture,Community,Family and Children
ATTACH;FMTTYPE=image/jpeg:https://www.goeldorado.com/wp-content/uploads/2023/04/famersmarketevent.jpg
END:VEVENT
BEGIN:VEVENT
DTSTART;TZID=America/Chicago:20230708T140000
DTEND;TZID=America/Chicago:20230708T150000
DTSTAMP:20260420T051011
CREATED:20230516T150205Z
LAST-MODIFIED:20230516T150205Z
UID:10014213-1688824800-1688828400@www.goeldorado.com
SUMMARY:South Arkansas Historical Preservation Society @ Barton Library
DESCRIPTION:Join us for Barton Public Library’s 2023 Summer Reading Program sponsored by Kiwanis Club of El Dorado\, Arkansas! Collection Curator\, Darrin Riley\, will talk about the Michael Fitzgerald collection.
URL:https://www.goeldorado.com/event/south-arkansas-historical-preservation-society-barton-library/
LOCATION:Barton Library\, 200 E 5th\, El Dorado\, AR\, 71730\, United States
CATEGORIES:Community,Family and Children
ATTACH;FMTTYPE=image/jpeg:https://www.goeldorado.com/wp-content/uploads/2023/05/347083557_1382115152366408_3302443016498389777_n.jpg
ORGANIZER;CN="Barton Library":MAILTO:eldorado@ucpls.org
END:VEVENT
BEGIN:VEVENT
DTSTART;TZID=America/Chicago:20230708T200000
DTEND;TZID=America/Chicago:20230708T220000
DTSTAMP:20260420T051011
CREATED:20230629T142654Z
LAST-MODIFIED:20230629T142654Z
UID:10014433-1688846400-1688853600@www.goeldorado.com
SUMMARY:Comedy Night Featuring Zeb Balentine & Paul Hodge
DESCRIPTION:Come enjoy a family-friendly comedy show from comedians Paul Hodge and Zeb Balentine
URL:https://www.goeldorado.com/event/comedy-night-featuring-zeb-balentine-paul-hodge/
LOCATION:PJ’s Coffee Shop El Dorado\, 106 W Main\, El Dorado\, AR\, 71730\, United States
CATEGORIES:Community,Family and Children
ATTACH;FMTTYPE=image/jpeg:https://www.goeldorado.com/wp-content/uploads/2023/06/354448376_10159710273243299_6187016274493118766_n.jpg
END:VEVENT
BEGIN:VEVENT
DTSTART;VALUE=DATE:20230710
DTEND;VALUE=DATE:20230715
DTSTAMP:20260420T051011
CREATED:20230522T200045Z
LAST-MODIFIED:20230522T200046Z
UID:10013318-1688947200-1689379199@www.goeldorado.com
SUMMARY:Computer Art Camp @ SAAC
DESCRIPTION:Entering Grades 4-12 \nJuly 10-14 1pm-4pm \nInstructor M Means \nREGISTRATION: 870-862-5474 \nwww.saac-arts.org
URL:https://www.goeldorado.com/event/computer-art-camp-saac-2/
LOCATION:South Arkansas Arts Center
CATEGORIES:Arts & Culture,Family and Children
END:VEVENT
BEGIN:VEVENT
DTSTART;TZID=America/Chicago:20230710T090000
DTEND;TZID=America/Chicago:20230714T123000
DTSTAMP:20260420T051011
CREATED:20230607T181443Z
LAST-MODIFIED:20230607T182246Z
UID:10014286-1688979600-1689337800@www.goeldorado.com
SUMMARY:ACT Prep Camp w/ The Eagle Foundation
DESCRIPTION:Five days of instruction and practice leading up to the official ACT on July 15th.  Students who invest in this course go into the ACT with increased knowledge\, skills\, and confidence!
URL:https://www.goeldorado.com/event/act-prep-camp-w-the-eagle-foundation/
LOCATION:the Eagle Foundation\, 870-312-6174\, El Dorado\, AR\, 71730\, United States
CATEGORIES:Community,Education,Family and Children
END:VEVENT
BEGIN:VEVENT
DTSTART;TZID=America/Chicago:20230710T203000
DTEND;TZID=America/Chicago:20230710T223000
DTSTAMP:20260420T051011
CREATED:20230501T151933Z
LAST-MODIFIED:20230501T151933Z
UID:10014158-1689021000-1689028200@www.goeldorado.com
SUMMARY:MAD Movie Monday showing: Encanto
DESCRIPTION:
URL:https://www.goeldorado.com/event/mad-movie-monday-showing-encanto/
LOCATION:Murphy Arts District\, 101 E. Locust Street\, El Dorado\, AR\, 71730\, United States
CATEGORIES:Community,Family and Children
ATTACH;FMTTYPE=image/jpeg:https://www.goeldorado.com/wp-content/uploads/2023/05/344290992_2099580820238582_7582785097948463621_n.jpg
END:VEVENT
BEGIN:VEVENT
DTSTART;TZID=America/Chicago:20230711T100000
DTEND;TZID=America/Chicago:20230711T120000
DTSTAMP:20260420T051011
CREATED:20230517T212053Z
LAST-MODIFIED:20230517T212053Z
UID:10014241-1689069600-1689076800@www.goeldorado.com
SUMMARY:DC League of Super Pets: Summer Movie Series @ Stars Theaters
DESCRIPTION:  \nFREE SUMMER MOVIE LINE UP IS IN!\nAdmission is free at 10am on Tuesday and Thursday for June and July!\nGroups and daycares are encouraged to attended this weather safe\, FREE summer activity!!
URL:https://www.goeldorado.com/event/dc-league-of-super-pets-summer-movie-series-stars-theaters/
LOCATION:Stars Theaters\, 2620 W Hillsboro\, El Dorado\, AR\, 71730\, United States
CATEGORIES:Community,Family and Children
ATTACH;FMTTYPE=image/jpeg:https://www.goeldorado.com/wp-content/uploads/2023/05/345621661_765029535276199_6730562694790301670_n.jpg
END:VEVENT
BEGIN:VEVENT
DTSTART;TZID=America/Chicago:20230711T140000
DTEND;TZID=America/Chicago:20230711T150000
DTSTAMP:20260420T051011
CREATED:20230516T151744Z
LAST-MODIFIED:20230601T133841Z
UID:10014214-1689084000-1689087600@www.goeldorado.com
SUMMARY:Bright Star Touring Theatre @ Barton Library
DESCRIPTION:Join us for Barton Public Library’s 2023 Summer Reading Program sponsored by Kiwanis Club of El Dorado\, Arkansas! Bright Star Touring Theatre will perform a series of fun and informative vignettes exploring the good and bad parts of social media and online culture
URL:https://www.goeldorado.com/event/bright-star-touring-theatre-barton-library/
LOCATION:Barton Library\, 200 E 5th\, El Dorado\, AR\, 71730\, United States
CATEGORIES:Community,Family and Children
ATTACH;FMTTYPE=image/jpeg:https://www.goeldorado.com/wp-content/uploads/2023/05/346852921_953185255884623_4559504030812739189_n.jpg
ORGANIZER;CN="Barton Library":MAILTO:eldorado@ucpls.org
END:VEVENT
BEGIN:VEVENT
DTSTART;TZID=America/Chicago:20230712T130000
DTEND;TZID=America/Chicago:20230712T140000
DTSTAMP:20260420T051011
CREATED:20230629T140356Z
LAST-MODIFIED:20230629T141802Z
UID:10014432-1689166800-1689170400@www.goeldorado.com
SUMMARY:El Dorado in Color with Nichole McAdams @ Mahony Family Library
DESCRIPTION:  \n  \nJoin El Dorado’s own Nicole McAdams for an exciting coloring-book event for kids\, focused on local scenes from El Dorado from Nicole’s recently published coloring book!\nThis event is an activity of the SIXTH ANNUAL South Arkansas Literary Festival!
URL:https://www.goeldorado.com/event/el-dorado-in-color-with-nichole-mcadams-mahony-family-library/
LOCATION:Mahony Family Library\, 300 Summit Ave\, El Dorado\, AR\, 71730\, United States
CATEGORIES:Arts & Culture,Clubs/Organizations,Community,Family and Children
ATTACH;FMTTYPE=image/jpeg:https://www.goeldorado.com/wp-content/uploads/2023/06/356802040_546794940994468_8775488188501004756_n.jpg
END:VEVENT
BEGIN:VEVENT
DTSTART;TZID=America/Chicago:20230713T080000
DTEND;TZID=America/Chicago:20230713T170000
DTSTAMP:20260420T051011
CREATED:20230517T212250Z
LAST-MODIFIED:20230517T212250Z
UID:10014242-1689235200-1689267600@www.goeldorado.com
SUMMARY:DC League of Super Pets: Summer Movie Series @ Stars Theaters
DESCRIPTION:  \nFREE SUMMER MOVIE LINE UP IS IN!\nAdmission is free at 10am on Tuesday and Thursday for June and July!\nGroups and daycares are encouraged to attended this weather safe\, FREE summer activity!!
URL:https://www.goeldorado.com/event/dc-league-of-super-pets-summer-movie-series-stars-theaters-2/
LOCATION:Stars Theaters\, 2620 W Hillsboro\, El Dorado\, AR\, 71730\, United States
CATEGORIES:Community,Family and Children
ATTACH;FMTTYPE=image/jpeg:https://www.goeldorado.com/wp-content/uploads/2023/05/345621661_765029535276199_6730562694790301670_n.jpg
END:VEVENT
BEGIN:VEVENT
DTSTART;TZID=America/Chicago:20230713T100000
DTEND;TZID=America/Chicago:20230713T110000
DTSTAMP:20260420T051011
CREATED:20230706T143107Z
LAST-MODIFIED:20230706T143107Z
UID:10014454-1689242400-1689246000@www.goeldorado.com
SUMMARY:Spin Art Workshop @ Arkansas Museum of Natural Resources
DESCRIPTION:
URL:https://www.goeldorado.com/event/spin-art-workshop-arkansas-museum-of-natural-resources/
LOCATION:Arkansas Museum of Natural Resources\, 4087 Smackover Hwy\, Smackover\, AR\, 71730\, United States
CATEGORIES:Education,Family and Children
ATTACH;FMTTYPE=image/jpeg:https://www.goeldorado.com/wp-content/uploads/2023/07/357514566_738077608326930_568474034559928612_n.jpg
END:VEVENT
BEGIN:VEVENT
DTSTART;TZID=America/Chicago:20230713T140000
DTEND;TZID=America/Chicago:20230713T150000
DTSTAMP:20260420T051011
CREATED:20230516T151911Z
LAST-MODIFIED:20230516T151911Z
UID:10014215-1689256800-1689260400@www.goeldorado.com
SUMMARY:Block-R Barnyard @ Barton Library
DESCRIPTION:Join us for Barton Public Library’s 2023 Summer Reading Program sponsored by Kiwanis Club of El Dorado\, Arkansas! Get to know the animals of Block-R Barnyard with a petting zoo
URL:https://www.goeldorado.com/event/block-r-barnyard-barton-library/
LOCATION:Barton Library\, 200 E 5th\, El Dorado\, AR\, 71730\, United States
CATEGORIES:Community,Family and Children
ATTACH;FMTTYPE=image/jpeg:https://www.goeldorado.com/wp-content/uploads/2023/05/347292708_665003275465546_1266741700050870858_n.jpg
ORGANIZER;CN="Barton Library":MAILTO:eldorado@ucpls.org
END:VEVENT
BEGIN:VEVENT
DTSTART;TZID=America/Chicago:20230715T080000
DTEND;TZID=America/Chicago:20230715T110000
DTSTAMP:20260420T051011
CREATED:20230414T212537Z
LAST-MODIFIED:20230626T140535Z
UID:10014346-1689408000-1689418800@www.goeldorado.com
SUMMARY:Farmers Market at MAD
DESCRIPTION:Shop local vendors at the MAD Amphitheater!
URL:https://www.goeldorado.com/event/farmers-market-at-mad-3/2023-07-15/
LOCATION:AR
CATEGORIES:Arts & Culture,Community,Family and Children
ATTACH;FMTTYPE=image/jpeg:https://www.goeldorado.com/wp-content/uploads/2023/04/famersmarketevent.jpg
END:VEVENT
BEGIN:VEVENT
DTSTART;TZID=America/Chicago:20230715T090000
DTEND;TZID=America/Chicago:20230715T120000
DTSTAMP:20260420T051011
CREATED:20230502T200703Z
LAST-MODIFIED:20230706T182345Z
UID:10014173-1689411600-1689422400@www.goeldorado.com
SUMMARY:The South Arkansas Literary Festival @ South Arkansas College
DESCRIPTION:The 6th ANNUAL South Arkansas Literary Festival will take place on Saturday\, July 15\, 2023 at the Mahony Family Library!
URL:https://www.goeldorado.com/event/the-south-arkansas-literary-festival-south-arkansas-college/
LOCATION:Mahony Family Library\, 300 Summit Ave\, El Dorado\, AR\, 71730\, United States
CATEGORIES:Arts & Culture,Community,Family and Children,Schools
ATTACH;FMTTYPE=image/png:https://www.goeldorado.com/wp-content/uploads/2023/05/Literary-Festival-2023-Flyer.png
END:VEVENT
END:VCALENDAR