BEGIN:VCALENDAR
VERSION:2.0
PRODID:-//El Dorado, Arkansas - ECPv6.15.20//NONSGML v1.0//EN
CALSCALE:GREGORIAN
METHOD:PUBLISH
X-WR-CALNAME:El Dorado, Arkansas
X-ORIGINAL-URL:https://www.goeldorado.com
X-WR-CALDESC:Events for El Dorado, Arkansas
REFRESH-INTERVAL;VALUE=DURATION:PT1H
X-Robots-Tag:noindex
X-PUBLISHED-TTL:PT1H
BEGIN:VTIMEZONE
TZID:America/Chicago
BEGIN:DAYLIGHT
TZOFFSETFROM:-0600
TZOFFSETTO:-0500
TZNAME:CDT
DTSTART:20250309T080000
END:DAYLIGHT
BEGIN:STANDARD
TZOFFSETFROM:-0500
TZOFFSETTO:-0600
TZNAME:CST
DTSTART:20251102T070000
END:STANDARD
BEGIN:DAYLIGHT
TZOFFSETFROM:-0600
TZOFFSETTO:-0500
TZNAME:CDT
DTSTART:20260308T080000
END:DAYLIGHT
BEGIN:STANDARD
TZOFFSETFROM:-0500
TZOFFSETTO:-0600
TZNAME:CST
DTSTART:20261101T070000
END:STANDARD
BEGIN:DAYLIGHT
TZOFFSETFROM:-0600
TZOFFSETTO:-0500
TZNAME:CDT
DTSTART:20270314T080000
END:DAYLIGHT
BEGIN:STANDARD
TZOFFSETFROM:-0500
TZOFFSETTO:-0600
TZNAME:CST
DTSTART:20271107T070000
END:STANDARD
END:VTIMEZONE
BEGIN:VEVENT
DTSTART;TZID=America/Chicago:20260319T190000
DTEND;TZID=America/Chicago:20260319T210000
DTSTAMP:20260419T081847
CREATED:20260210T165802Z
LAST-MODIFIED:20260210T205413Z
UID:10028890-1773946800-1773954000@www.goeldorado.com
SUMMARY:Caden Wilson at MAD House 101
DESCRIPTION:
URL:https://www.goeldorado.com/event/caden-wilson-at-mad-house-101/
LOCATION:MAD House 101 Restuarant and Bar\, 101 E Locust\, El Dorado\, AR\, 71730\, United States
CATEGORIES:Live Music
ATTACH;FMTTYPE=image/jpeg:https://www.goeldorado.com/wp-content/uploads/2026/02/cadenwilson-5.jpg
END:VEVENT
BEGIN:VEVENT
DTSTART;TZID=America/Chicago:20260321T210000
DTEND;TZID=America/Chicago:20260321T233000
DTSTAMP:20260419T081847
CREATED:20260316T135501Z
LAST-MODIFIED:20260316T135501Z
UID:10029456-1774126800-1774135800@www.goeldorado.com
SUMMARY:J. Holiday @ Icon Lounge
DESCRIPTION:  \n\nGet your tickets to see J.Holiday on Saturday\, March 21\, 2026. Be sure to get your ALL BLACK attire together now! For tickets\, click the below link. For VIP\, tables\, and sections please call or text (870)-626-1412.\n\n\nDigital tickets available on Eventbrite\, click here for ticket:  A Night with J. Holiday – (All Black Attire Recommended) Tickets\, Saturday\, Mar 21 at 9 pm to Sunday\, Mar 22 at 1:30 am | Eventbrite
URL:https://www.goeldorado.com/event/j-holiday-icon-lounge/
LOCATION:Icon Lounge\, 104 E Cedar\, El Dorado\, AR\, 71730
CATEGORIES:Clubs/Organizations,Live Music
ATTACH;FMTTYPE=image/png:https://www.goeldorado.com/wp-content/uploads/2026/03/Screenshot-38.png
END:VEVENT
BEGIN:VEVENT
DTSTART;TZID=America/Chicago:20260329T190000
DTEND;TZID=America/Chicago:20260329T210000
DTSTAMP:20260419T081847
CREATED:20260220T154451Z
LAST-MODIFIED:20260220T154451Z
UID:10029330-1774810800-1774818000@www.goeldorado.com
SUMMARY:David Phelps LIVE @ Immanuel Baptist Church
DESCRIPTION:David Phelps is credited among today’s most spectacular voices. His seemingly endless vocal range\, which extends more than three octaves\, coupled with his gift for communicating a song\, has brought the house down in the world’s most prestigious venues. David has received numerous Dove Awards\, Grammy Awards\, and multiple platinum-selling recording projects.
URL:https://www.goeldorado.com/event/david-phelps-live-immanuel-baptist-church/
LOCATION:Immanuel Baptist Church\, 3209 W Hillsboro\, El Dorado\, AR\, 71730
CATEGORIES:Community,Family and Children,Live Music
ATTACH;FMTTYPE=image/jpeg:https://www.goeldorado.com/wp-content/uploads/2026/02/616321233_1422818299191691_7994442345226065776_n.jpg
END:VEVENT
BEGIN:VEVENT
DTSTART;TZID=America/Chicago:20260329T190000
DTEND;TZID=America/Chicago:20260329T220000
DTSTAMP:20260419T081847
CREATED:20260312T142245Z
LAST-MODIFIED:20260312T142245Z
UID:10029454-1774810800-1774821600@www.goeldorado.com
SUMMARY:David Phelps - The Speak of Love Tour
DESCRIPTION:David Phelps is credited among today’s most spectacular voices. His seemingly endless vocal range\, which extends more than three octaves\, coupled with his gift for communicating a song\, has brought the house down in the world’s most prestigious venues. David has received numerous Dove Awards\, Grammy Awards\, and multiple platinum-selling recording projects.
URL:https://www.goeldorado.com/event/david-phelps-the-speak-of-love-tour/
LOCATION:Immanuel Baptist Church\, 3209 W Hillsboro\, El Dorado\, AR\, 71730
CATEGORIES:Family and Children,Festivals & Celebrations,Live Music
ATTACH;FMTTYPE=image/jpeg:https://www.goeldorado.com/wp-content/uploads/2026/03/David-Phelps.jpg
END:VEVENT
BEGIN:VEVENT
DTSTART;TZID=America/Chicago:20260402T190000
DTEND;TZID=America/Chicago:20260402T210000
DTSTAMP:20260419T081847
CREATED:20260220T154218Z
LAST-MODIFIED:20260220T154218Z
UID:10029329-1775156400-1775163600@www.goeldorado.com
SUMMARY:Cliff & Susan @ Mad House 101
DESCRIPTION:Join us April 2 at MAD House for an unforgettable night with Cliff & Susan — no cover charge. This award-winning married duo from Little Rock delivers a full-band sound with piano\, fiddle\, guitar\, and powerhouse harmonies. High-energy\, interactive\, and request-driven\, they play hits across Country\, Rock\, Pop\, Blues\, and more for all generations.
URL:https://www.goeldorado.com/event/cliff-susan-mad-house-101/
LOCATION:MAD House 101 Restuarant and Bar\, 101 E Locust\, El Dorado\, AR\, 71730\, United States
CATEGORIES:Community,Live Music
ATTACH;FMTTYPE=image/jpeg:https://www.goeldorado.com/wp-content/uploads/2026/02/617025268_903673065367691_8735130660378860767_n.jpg
END:VEVENT
BEGIN:VEVENT
DTSTART;TZID=America/Chicago:20260404T210000
DTEND;TZID=America/Chicago:20260404T230000
DTSTAMP:20260419T081847
CREATED:20260326T162357Z
LAST-MODIFIED:20260326T162405Z
UID:10029520-1775336400-1775343600@www.goeldorado.com
SUMMARY:RnB night @ Icon Lounge
DESCRIPTION:
URL:https://www.goeldorado.com/event/rnb-night-icon-lounge/
LOCATION:Icon Lounge\, 104 E Cedar\, El Dorado\, AR\, 71730
CATEGORIES:Community,Live Music
ATTACH;FMTTYPE=image/jpeg:https://www.goeldorado.com/wp-content/uploads/2026/03/95935898a4d97a64ac52983ccd14a6bd.jpeg
END:VEVENT
BEGIN:VEVENT
DTSTART;TZID=America/Chicago:20260410T190000
DTEND;TZID=America/Chicago:20260410T210000
DTSTAMP:20260419T081847
CREATED:20260113T181316Z
LAST-MODIFIED:20260113T181316Z
UID:10028783-1775847600-1775854800@www.goeldorado.com
SUMMARY:Jimmy Lewis & 8 Second Ride
DESCRIPTION:
URL:https://www.goeldorado.com/event/jimmy-lewis-8-second-ride-2/
LOCATION:MAD House 101 Restuarant and Bar\, 101 E Locust\, El Dorado\, AR\, 71730\, United States
CATEGORIES:Live Music
ATTACH;FMTTYPE=image/jpeg:https://www.goeldorado.com/wp-content/uploads/2026/01/588762287_866972039037794_94618302804566211_n.jpg
END:VEVENT
BEGIN:VEVENT
DTSTART;TZID=America/Chicago:20260411T080000
DTEND;TZID=America/Chicago:20260411T120000
DTSTAMP:20260419T081847
CREATED:20260306T143249Z
LAST-MODIFIED:20260306T145507Z
UID:10029365-1775894400-1775908800@www.goeldorado.com
SUMMARY:Farmers Market on the Square
DESCRIPTION:Main Street El Dorado will host a Farmers Market in Downtown El Dorado every Saturday from April 11 -July 18. Vendor\, Farmers\, Music\, and Education! 8am-12am \n  \nFor more information or to register as a vendor: \nFarmer’s Market Application | MainStreet El Dorado
URL:https://www.goeldorado.com/event/farmers-market-on-the-square/2026-04-11/
LOCATION:Downtown El Dorado\, 101 N. Washington\, El Dorado\, AR\, 71730
CATEGORIES:Arts & Culture,Clubs/Organizations,Community,Education,Family and Children,Festivals & Celebrations,Live Music
ATTACH;FMTTYPE=image/jpeg:https://www.goeldorado.com/wp-content/uploads/2026/03/640157151_1237273001871814_3401409208845860125_n.jpg
END:VEVENT
BEGIN:VEVENT
DTSTART;TZID=America/Chicago:20260411T140000
DTEND;TZID=America/Chicago:20260411T153000
DTSTAMP:20260419T081847
CREATED:20251204T215812Z
LAST-MODIFIED:20260408T171147Z
UID:10028733-1775916000-1775921400@www.goeldorado.com
SUMMARY:Be Like Blippi Tour
DESCRIPTION:  \n\n\nGet ready to dance\, sing\, and have a blast with the energetic Be Like Blippi Tour\, April 11th at the First Financial Music Hall! \n\n\n\n\nGet ready to see the world more curiously\, because Blippi is coming to El Dorado in the all-new Be Like Blippi Tour! \nJoin Blippi and Meekah live on stage for a one-of-a-kind interactive adventure that inspires kids to move like\, play like\, and explore just like Blippi! \nThis brand-new show is packed with high-energy music and surprises\, featuring fan-favorite songs like “The Excavator Song\,” “Monster Truck\,” “Dino Dance\,” and “Curious Like Me.” With Blippi’s signature mix of play\, learning\, and exploration\, families can get curious together while singing\, laughing\, and dancing along during this unforgettable adventure full of fun and discovery. \nThe Be Like Blippi Tour invites you to break out your orange Blippi glasses and ignite that spark of curiosity that lives inside every single one of us and share in an unforgettable experience that encourages kids to… Be Like Blippi! \nTickets: Round Room Presents Be Like Blippi Tour Tickets\, Saturday\, Apr 11 from 2 pm to 3:30 pm | Eventbrite
URL:https://www.goeldorado.com/event/be-like-blippi-tour/
LOCATION:First Financial Music hall\, 101 E Locust\, El Dorado\, AR\, 71730\, United States
CATEGORIES:Arts & Culture,Education,Family and Children,Live Music
ATTACH;FMTTYPE=image/jpeg:https://www.goeldorado.com/wp-content/uploads/2025/12/BlippiSquare.jpg
END:VEVENT
BEGIN:VEVENT
DTSTART;TZID=America/Chicago:20260411T190000
DTEND;TZID=America/Chicago:20260411T220000
DTSTAMP:20260419T081847
CREATED:20250529T194320Z
LAST-MODIFIED:20260302T164419Z
UID:10026145-1775934000-1775944800@www.goeldorado.com
SUMMARY:South Arkansas Symphony Orchestra\, Jeans n' Classics presents: The Evening of Pink Floyd
DESCRIPTION:Box Office Open: \nSouth Arkansas Symphony | Buy Tickets\, Packages or make a Donation on TicketstotheCity.com
URL:https://www.goeldorado.com/event/south-arkansas-symphony-orchestra-jeans-n-classics-presents-the-evening-of-pink-floyd/
LOCATION:El Dorado Municipal Auditorium\, El Dorado\, AR\, 71730\, United States
CATEGORIES:Arts & Culture,Community,Family and Children,Live Music
ATTACH;FMTTYPE=image/png:https://www.goeldorado.com/wp-content/uploads/2025/05/Pink-Floyd-Social-Media.png
END:VEVENT
BEGIN:VEVENT
DTSTART;TZID=America/Chicago:20260411T210000
DTEND;TZID=America/Chicago:20260411T220000
DTSTAMP:20260419T081847
CREATED:20260326T162131Z
LAST-MODIFIED:20260408T171725Z
UID:10029519-1775941200-1775944800@www.goeldorado.com
SUMMARY:Comedy Jam @ Icon Lounge
DESCRIPTION:Get ready to sing\, laugh\, and dance at the Comedy Jam!\n\n\nThis is going to be a special night! We are bringing two of our greats home for 1 night only! We want everyone to come out to the Comedy Jam to support LB Crew and Ejspeaks. You can buy tickets using the below link and for tables\, booths\, and sections call or text 870-626-1412. We have limited tickets available and every ticket sold will come with a seat.\nTickets Here: Comedy Jam-LB Crew & EJ Speaks Tickets\, Saturday\, Apr 11 at 9 pm to Sunday\, Apr 12 at 1:30 am | Eventbrite
URL:https://www.goeldorado.com/event/comedy-jam-icon-lounge/
LOCATION:Icon Lounge\, 104 E Cedar\, El Dorado\, AR\, 71730
CATEGORIES:Community,Live Music
ATTACH;FMTTYPE=image/jpeg:https://www.goeldorado.com/wp-content/uploads/2026/03/654182d3fa98ba68f282d98e1c14e7c8.jpeg
END:VEVENT
BEGIN:VEVENT
DTSTART;TZID=America/Chicago:20260418T080000
DTEND;TZID=America/Chicago:20260418T120000
DTSTAMP:20260419T081847
CREATED:20260306T143249Z
LAST-MODIFIED:20260306T145507Z
UID:10029366-1776499200-1776513600@www.goeldorado.com
SUMMARY:Farmers Market on the Square
DESCRIPTION:Main Street El Dorado will host a Farmers Market in Downtown El Dorado every Saturday from April 11 -July 18. Vendor\, Farmers\, Music\, and Education! 8am-12am \n  \nFor more information or to register as a vendor: \nFarmer’s Market Application | MainStreet El Dorado
URL:https://www.goeldorado.com/event/farmers-market-on-the-square/2026-04-18/
LOCATION:Downtown El Dorado\, 101 N. Washington\, El Dorado\, AR\, 71730
CATEGORIES:Arts & Culture,Clubs/Organizations,Community,Education,Family and Children,Festivals & Celebrations,Live Music
ATTACH;FMTTYPE=image/jpeg:https://www.goeldorado.com/wp-content/uploads/2026/03/640157151_1237273001871814_3401409208845860125_n.jpg
END:VEVENT
BEGIN:VEVENT
DTSTART;TZID=America/Chicago:20260418T193000
DTEND;TZID=America/Chicago:20260418T213000
DTSTAMP:20260419T081847
CREATED:20260210T170542Z
LAST-MODIFIED:20260210T205504Z
UID:10028891-1776540600-1776547800@www.goeldorado.com
SUMMARY:Ted Nugent @ First Financial Music Hall
DESCRIPTION:
URL:https://www.goeldorado.com/event/ted-nugent-first-financial-music-hall/
LOCATION:First Financial Music hall\, 101 E Locust\, El Dorado\, AR\, 71730\, United States
CATEGORIES:Live Music
ATTACH;FMTTYPE=image/jpeg:https://www.goeldorado.com/wp-content/uploads/2026/02/TedNugentAnnounce-2_15173859989368170980.jpg
END:VEVENT
BEGIN:VEVENT
DTSTART;TZID=America/Chicago:20260425T080000
DTEND;TZID=America/Chicago:20260425T120000
DTSTAMP:20260419T081847
CREATED:20260306T143249Z
LAST-MODIFIED:20260306T145507Z
UID:10029367-1777104000-1777118400@www.goeldorado.com
SUMMARY:Farmers Market on the Square
DESCRIPTION:Main Street El Dorado will host a Farmers Market in Downtown El Dorado every Saturday from April 11 -July 18. Vendor\, Farmers\, Music\, and Education! 8am-12am \n  \nFor more information or to register as a vendor: \nFarmer’s Market Application | MainStreet El Dorado
URL:https://www.goeldorado.com/event/farmers-market-on-the-square/2026-04-25/
LOCATION:Downtown El Dorado\, 101 N. Washington\, El Dorado\, AR\, 71730
CATEGORIES:Arts & Culture,Clubs/Organizations,Community,Education,Family and Children,Festivals & Celebrations,Live Music
ATTACH;FMTTYPE=image/jpeg:https://www.goeldorado.com/wp-content/uploads/2026/03/640157151_1237273001871814_3401409208845860125_n.jpg
END:VEVENT
BEGIN:VEVENT
DTSTART;TZID=America/Chicago:20260502T080000
DTEND;TZID=America/Chicago:20260502T120000
DTSTAMP:20260419T081847
CREATED:20260306T143249Z
LAST-MODIFIED:20260306T145507Z
UID:10029368-1777708800-1777723200@www.goeldorado.com
SUMMARY:Farmers Market on the Square
DESCRIPTION:Main Street El Dorado will host a Farmers Market in Downtown El Dorado every Saturday from April 11 -July 18. Vendor\, Farmers\, Music\, and Education! 8am-12am \n  \nFor more information or to register as a vendor: \nFarmer’s Market Application | MainStreet El Dorado
URL:https://www.goeldorado.com/event/farmers-market-on-the-square/2026-05-02/
LOCATION:Downtown El Dorado\, 101 N. Washington\, El Dorado\, AR\, 71730
CATEGORIES:Arts & Culture,Clubs/Organizations,Community,Education,Family and Children,Festivals & Celebrations,Live Music
ATTACH;FMTTYPE=image/jpeg:https://www.goeldorado.com/wp-content/uploads/2026/03/640157151_1237273001871814_3401409208845860125_n.jpg
END:VEVENT
BEGIN:VEVENT
DTSTART;TZID=America/Chicago:20260502T080000
DTEND;TZID=America/Chicago:20260502T160000
DTSTAMP:20260419T081847
CREATED:20260113T160237Z
LAST-MODIFIED:20260113T174506Z
UID:10028777-1777708800-1777737600@www.goeldorado.com
SUMMARY:34th Annual South Arkansas Mayhaw Festival
DESCRIPTION:Join us on May 2nd for the 34th Annual South Arkansas Mayhaw Festival featuring 100+ vendors\, tours of our newly renovated Newton House\, music\, and\, of course\, celebrating the Mayhaw Berry!
URL:https://www.goeldorado.com/event/34th-annual-south-arkansas-mayhaw-festival/
LOCATION:The Newton House\, 510 N. Jackson Ave.\, El Dorado\, AR\, 71730
CATEGORIES:Arts & Culture,Clubs/Organizations,Education,Family and Children,Festivals & Celebrations,Live Music
ATTACH;FMTTYPE=image/png:https://www.goeldorado.com/wp-content/uploads/2026/01/1.png
ORGANIZER;CN="South Arkansas Historical Preservation Society":MAILTO:info@soarkhistory.com
END:VEVENT
BEGIN:VEVENT
DTSTART;TZID=America/Chicago:20260502T210000
DTEND;TZID=America/Chicago:20260502T233000
DTSTAMP:20260419T081847
CREATED:20260326T154324Z
LAST-MODIFIED:20260326T154324Z
UID:10029517-1777755600-1777764600@www.goeldorado.com
SUMMARY:Men of Purpose Southern Soul Benefit Concert
DESCRIPTION:
URL:https://www.goeldorado.com/event/men-of-purpose-southern-soul-benefit-concert/
LOCATION:Icon Lounge\, 104 E Cedar\, El Dorado\, AR\, 71730
CATEGORIES:Community,Live Music
ATTACH;FMTTYPE=image/jpeg:https://www.goeldorado.com/wp-content/uploads/2026/03/IMG_1128.jpeg
END:VEVENT
BEGIN:VEVENT
DTSTART;VALUE=DATE:20260503
DTEND;VALUE=DATE:20260504
DTSTAMP:20260419T081847
CREATED:20250529T194610Z
LAST-MODIFIED:20250529T194610Z
UID:10026146-1777766400-1777852799@www.goeldorado.com
SUMMARY:South Arkansas Symphony: Mayhaw Melodies
DESCRIPTION:
URL:https://www.goeldorado.com/event/south-arkansas-symphony-mayhaw-melodies/
LOCATION:The Newton House\, 510 N. Jackson Ave.\, El Dorado\, AR\, 71730
CATEGORIES:Arts & Culture,Community,Family and Children,Festivals & Celebrations,Live Music
ATTACH;FMTTYPE=image/jpeg:https://www.goeldorado.com/wp-content/uploads/2025/05/saso.jpg
END:VEVENT
BEGIN:VEVENT
DTSTART;TZID=America/Chicago:20260509T080000
DTEND;TZID=America/Chicago:20260509T120000
DTSTAMP:20260419T081847
CREATED:20260306T143249Z
LAST-MODIFIED:20260306T145507Z
UID:10029369-1778313600-1778328000@www.goeldorado.com
SUMMARY:Farmers Market on the Square
DESCRIPTION:Main Street El Dorado will host a Farmers Market in Downtown El Dorado every Saturday from April 11 -July 18. Vendor\, Farmers\, Music\, and Education! 8am-12am \n  \nFor more information or to register as a vendor: \nFarmer’s Market Application | MainStreet El Dorado
URL:https://www.goeldorado.com/event/farmers-market-on-the-square/2026-05-09/
LOCATION:Downtown El Dorado\, 101 N. Washington\, El Dorado\, AR\, 71730
CATEGORIES:Arts & Culture,Clubs/Organizations,Community,Education,Family and Children,Festivals & Celebrations,Live Music
ATTACH;FMTTYPE=image/jpeg:https://www.goeldorado.com/wp-content/uploads/2026/03/640157151_1237273001871814_3401409208845860125_n.jpg
END:VEVENT
BEGIN:VEVENT
DTSTART;TZID=America/Chicago:20260516T080000
DTEND;TZID=America/Chicago:20260516T120000
DTSTAMP:20260419T081847
CREATED:20260306T143249Z
LAST-MODIFIED:20260306T145507Z
UID:10029370-1778918400-1778932800@www.goeldorado.com
SUMMARY:Farmers Market on the Square
DESCRIPTION:Main Street El Dorado will host a Farmers Market in Downtown El Dorado every Saturday from April 11 -July 18. Vendor\, Farmers\, Music\, and Education! 8am-12am \n  \nFor more information or to register as a vendor: \nFarmer’s Market Application | MainStreet El Dorado
URL:https://www.goeldorado.com/event/farmers-market-on-the-square/2026-05-16/
LOCATION:Downtown El Dorado\, 101 N. Washington\, El Dorado\, AR\, 71730
CATEGORIES:Arts & Culture,Clubs/Organizations,Community,Education,Family and Children,Festivals & Celebrations,Live Music
ATTACH;FMTTYPE=image/jpeg:https://www.goeldorado.com/wp-content/uploads/2026/03/640157151_1237273001871814_3401409208845860125_n.jpg
END:VEVENT
BEGIN:VEVENT
DTSTART;TZID=America/Chicago:20260523T080000
DTEND;TZID=America/Chicago:20260523T120000
DTSTAMP:20260419T081847
CREATED:20260306T143249Z
LAST-MODIFIED:20260306T145507Z
UID:10029371-1779523200-1779537600@www.goeldorado.com
SUMMARY:Farmers Market on the Square
DESCRIPTION:Main Street El Dorado will host a Farmers Market in Downtown El Dorado every Saturday from April 11 -July 18. Vendor\, Farmers\, Music\, and Education! 8am-12am \n  \nFor more information or to register as a vendor: \nFarmer’s Market Application | MainStreet El Dorado
URL:https://www.goeldorado.com/event/farmers-market-on-the-square/2026-05-23/
LOCATION:Downtown El Dorado\, 101 N. Washington\, El Dorado\, AR\, 71730
CATEGORIES:Arts & Culture,Clubs/Organizations,Community,Education,Family and Children,Festivals & Celebrations,Live Music
ATTACH;FMTTYPE=image/jpeg:https://www.goeldorado.com/wp-content/uploads/2026/03/640157151_1237273001871814_3401409208845860125_n.jpg
END:VEVENT
BEGIN:VEVENT
DTSTART;TZID=America/Chicago:20260530T080000
DTEND;TZID=America/Chicago:20260530T120000
DTSTAMP:20260419T081847
CREATED:20260306T143249Z
LAST-MODIFIED:20260306T145507Z
UID:10029372-1780128000-1780142400@www.goeldorado.com
SUMMARY:Farmers Market on the Square
DESCRIPTION:Main Street El Dorado will host a Farmers Market in Downtown El Dorado every Saturday from April 11 -July 18. Vendor\, Farmers\, Music\, and Education! 8am-12am \n  \nFor more information or to register as a vendor: \nFarmer’s Market Application | MainStreet El Dorado
URL:https://www.goeldorado.com/event/farmers-market-on-the-square/2026-05-30/
LOCATION:Downtown El Dorado\, 101 N. Washington\, El Dorado\, AR\, 71730
CATEGORIES:Arts & Culture,Clubs/Organizations,Community,Education,Family and Children,Festivals & Celebrations,Live Music
ATTACH;FMTTYPE=image/jpeg:https://www.goeldorado.com/wp-content/uploads/2026/03/640157151_1237273001871814_3401409208845860125_n.jpg
END:VEVENT
BEGIN:VEVENT
DTSTART;TZID=America/Chicago:20260606T080000
DTEND;TZID=America/Chicago:20260606T120000
DTSTAMP:20260419T081847
CREATED:20260306T143249Z
LAST-MODIFIED:20260306T145507Z
UID:10029373-1780732800-1780747200@www.goeldorado.com
SUMMARY:Farmers Market on the Square
DESCRIPTION:Main Street El Dorado will host a Farmers Market in Downtown El Dorado every Saturday from April 11 -July 18. Vendor\, Farmers\, Music\, and Education! 8am-12am \n  \nFor more information or to register as a vendor: \nFarmer’s Market Application | MainStreet El Dorado
URL:https://www.goeldorado.com/event/farmers-market-on-the-square/2026-06-06/
LOCATION:Downtown El Dorado\, 101 N. Washington\, El Dorado\, AR\, 71730
CATEGORIES:Arts & Culture,Clubs/Organizations,Community,Education,Family and Children,Festivals & Celebrations,Live Music
ATTACH;FMTTYPE=image/jpeg:https://www.goeldorado.com/wp-content/uploads/2026/03/640157151_1237273001871814_3401409208845860125_n.jpg
END:VEVENT
BEGIN:VEVENT
DTSTART;TZID=America/Chicago:20260613T080000
DTEND;TZID=America/Chicago:20260613T120000
DTSTAMP:20260419T081847
CREATED:20260306T143249Z
LAST-MODIFIED:20260306T145507Z
UID:10029374-1781337600-1781352000@www.goeldorado.com
SUMMARY:Farmers Market on the Square
DESCRIPTION:Main Street El Dorado will host a Farmers Market in Downtown El Dorado every Saturday from April 11 -July 18. Vendor\, Farmers\, Music\, and Education! 8am-12am \n  \nFor more information or to register as a vendor: \nFarmer’s Market Application | MainStreet El Dorado
URL:https://www.goeldorado.com/event/farmers-market-on-the-square/2026-06-13/
LOCATION:Downtown El Dorado\, 101 N. Washington\, El Dorado\, AR\, 71730
CATEGORIES:Arts & Culture,Clubs/Organizations,Community,Education,Family and Children,Festivals & Celebrations,Live Music
ATTACH;FMTTYPE=image/jpeg:https://www.goeldorado.com/wp-content/uploads/2026/03/640157151_1237273001871814_3401409208845860125_n.jpg
END:VEVENT
BEGIN:VEVENT
DTSTART;TZID=America/Chicago:20260620T080000
DTEND;TZID=America/Chicago:20260620T120000
DTSTAMP:20260419T081847
CREATED:20260306T143249Z
LAST-MODIFIED:20260306T145507Z
UID:10029375-1781942400-1781956800@www.goeldorado.com
SUMMARY:Farmers Market on the Square
DESCRIPTION:Main Street El Dorado will host a Farmers Market in Downtown El Dorado every Saturday from April 11 -July 18. Vendor\, Farmers\, Music\, and Education! 8am-12am \n  \nFor more information or to register as a vendor: \nFarmer’s Market Application | MainStreet El Dorado
URL:https://www.goeldorado.com/event/farmers-market-on-the-square/2026-06-20/
LOCATION:Downtown El Dorado\, 101 N. Washington\, El Dorado\, AR\, 71730
CATEGORIES:Arts & Culture,Clubs/Organizations,Community,Education,Family and Children,Festivals & Celebrations,Live Music
ATTACH;FMTTYPE=image/jpeg:https://www.goeldorado.com/wp-content/uploads/2026/03/640157151_1237273001871814_3401409208845860125_n.jpg
END:VEVENT
BEGIN:VEVENT
DTSTART;TZID=America/Chicago:20260627T080000
DTEND;TZID=America/Chicago:20260627T120000
DTSTAMP:20260419T081847
CREATED:20260306T143249Z
LAST-MODIFIED:20260306T145507Z
UID:10029376-1782547200-1782561600@www.goeldorado.com
SUMMARY:Farmers Market on the Square
DESCRIPTION:Main Street El Dorado will host a Farmers Market in Downtown El Dorado every Saturday from April 11 -July 18. Vendor\, Farmers\, Music\, and Education! 8am-12am \n  \nFor more information or to register as a vendor: \nFarmer’s Market Application | MainStreet El Dorado
URL:https://www.goeldorado.com/event/farmers-market-on-the-square/2026-06-27/
LOCATION:Downtown El Dorado\, 101 N. Washington\, El Dorado\, AR\, 71730
CATEGORIES:Arts & Culture,Clubs/Organizations,Community,Education,Family and Children,Festivals & Celebrations,Live Music
ATTACH;FMTTYPE=image/jpeg:https://www.goeldorado.com/wp-content/uploads/2026/03/640157151_1237273001871814_3401409208845860125_n.jpg
END:VEVENT
BEGIN:VEVENT
DTSTART;TZID=America/Chicago:20260704T080000
DTEND;TZID=America/Chicago:20260704T120000
DTSTAMP:20260419T081847
CREATED:20260306T143249Z
LAST-MODIFIED:20260306T145507Z
UID:10029377-1783152000-1783166400@www.goeldorado.com
SUMMARY:Farmers Market on the Square
DESCRIPTION:Main Street El Dorado will host a Farmers Market in Downtown El Dorado every Saturday from April 11 -July 18. Vendor\, Farmers\, Music\, and Education! 8am-12am \n  \nFor more information or to register as a vendor: \nFarmer’s Market Application | MainStreet El Dorado
URL:https://www.goeldorado.com/event/farmers-market-on-the-square/2026-07-04/
LOCATION:Downtown El Dorado\, 101 N. Washington\, El Dorado\, AR\, 71730
CATEGORIES:Arts & Culture,Clubs/Organizations,Community,Education,Family and Children,Festivals & Celebrations,Live Music
ATTACH;FMTTYPE=image/jpeg:https://www.goeldorado.com/wp-content/uploads/2026/03/640157151_1237273001871814_3401409208845860125_n.jpg
END:VEVENT
BEGIN:VEVENT
DTSTART;TZID=America/Chicago:20260711T080000
DTEND;TZID=America/Chicago:20260711T120000
DTSTAMP:20260419T081847
CREATED:20260306T143249Z
LAST-MODIFIED:20260306T145507Z
UID:10029378-1783756800-1783771200@www.goeldorado.com
SUMMARY:Farmers Market on the Square
DESCRIPTION:Main Street El Dorado will host a Farmers Market in Downtown El Dorado every Saturday from April 11 -July 18. Vendor\, Farmers\, Music\, and Education! 8am-12am \n  \nFor more information or to register as a vendor: \nFarmer’s Market Application | MainStreet El Dorado
URL:https://www.goeldorado.com/event/farmers-market-on-the-square/2026-07-11/
LOCATION:Downtown El Dorado\, 101 N. Washington\, El Dorado\, AR\, 71730
CATEGORIES:Arts & Culture,Clubs/Organizations,Community,Education,Family and Children,Festivals & Celebrations,Live Music
ATTACH;FMTTYPE=image/jpeg:https://www.goeldorado.com/wp-content/uploads/2026/03/640157151_1237273001871814_3401409208845860125_n.jpg
END:VEVENT
BEGIN:VEVENT
DTSTART;TZID=America/Chicago:20260718T080000
DTEND;TZID=America/Chicago:20260718T120000
DTSTAMP:20260419T081847
CREATED:20260306T143249Z
LAST-MODIFIED:20260306T145507Z
UID:10029379-1784361600-1784376000@www.goeldorado.com
SUMMARY:Farmers Market on the Square
DESCRIPTION:Main Street El Dorado will host a Farmers Market in Downtown El Dorado every Saturday from April 11 -July 18. Vendor\, Farmers\, Music\, and Education! 8am-12am \n  \nFor more information or to register as a vendor: \nFarmer’s Market Application | MainStreet El Dorado
URL:https://www.goeldorado.com/event/farmers-market-on-the-square/2026-07-18/
LOCATION:Downtown El Dorado\, 101 N. Washington\, El Dorado\, AR\, 71730
CATEGORIES:Arts & Culture,Clubs/Organizations,Community,Education,Family and Children,Festivals & Celebrations,Live Music
ATTACH;FMTTYPE=image/jpeg:https://www.goeldorado.com/wp-content/uploads/2026/03/640157151_1237273001871814_3401409208845860125_n.jpg
END:VEVENT
BEGIN:VEVENT
DTSTART;TZID=America/Chicago:20260822T200000
DTEND;TZID=America/Chicago:20260822T220000
DTSTAMP:20260419T081847
CREATED:20260210T163132Z
LAST-MODIFIED:20260210T205347Z
UID:10028889-1787428800-1787436000@www.goeldorado.com
SUMMARY:Dad Rock Night (2000s Rock Tribute) presented by Council Hill
DESCRIPTION:Break out the worn band tees and dust off your air-guitar chops—Dad Rock Night is rolling into town.\nPresented by Council Hill\, this high-energy 2000s rock tribute is a full-throttle throwback to the era when rock radio ruled\, CD binders lived in every car\, and every chorus was made to be screamed at the top of your lungs.\nFrom Creed and Nickelback to 3 Doors Down\, Audioslave\, Shinedown\, Matchbox Twenty\, Seether\, Puddle of Mudd\, Fuel\, Hoobastank\, and more—Dad Rock Night delivers all the anthems you still know every word to (even if you pretend you don’t). These are the songs that soundtracked road trips\, breakups\, bar nights\, and backyard beers—and they hit just as hard live.\nWhether you grew up with these tracks on the radio or just love unapologetic\, fist-pumping rock\, this is your night to sing loud\, laugh harder\, and relive the glory days—no apologies required.\nDad Rock Night isn’t ironic.\nIt’s nostalgic.\nIt’s loud.\nAnd it absolutely rips.
URL:https://www.goeldorado.com/event/dad-rock-night-2000s-rock-tribute-presented-by-council-hill/
LOCATION:Murphy Arts District\, 101 E. Locust Street\, El Dorado\, AR\, 71730\, United States
CATEGORIES:Live Music
ATTACH;FMTTYPE=image/png:https://www.goeldorado.com/wp-content/uploads/2026/02/8.22.1-EL-DORADO-AR-2.png
END:VEVENT
END:VCALENDAR