BEGIN:VCALENDAR
VERSION:2.0
PRODID:-//El Dorado, Arkansas - ECPv6.15.20//NONSGML v1.0//EN
CALSCALE:GREGORIAN
METHOD:PUBLISH
X-ORIGINAL-URL:https://www.goeldorado.com
X-WR-CALDESC:Events for El Dorado, Arkansas
REFRESH-INTERVAL;VALUE=DURATION:PT1H
X-Robots-Tag:noindex
X-PUBLISHED-TTL:PT1H
BEGIN:VTIMEZONE
TZID:America/Chicago
BEGIN:DAYLIGHT
TZOFFSETFROM:-0600
TZOFFSETTO:-0500
TZNAME:CDT
DTSTART:20250309T080000
END:DAYLIGHT
BEGIN:STANDARD
TZOFFSETFROM:-0500
TZOFFSETTO:-0600
TZNAME:CST
DTSTART:20251102T070000
END:STANDARD
BEGIN:DAYLIGHT
TZOFFSETFROM:-0600
TZOFFSETTO:-0500
TZNAME:CDT
DTSTART:20260308T080000
END:DAYLIGHT
BEGIN:STANDARD
TZOFFSETFROM:-0500
TZOFFSETTO:-0600
TZNAME:CST
DTSTART:20261101T070000
END:STANDARD
BEGIN:DAYLIGHT
TZOFFSETFROM:-0600
TZOFFSETTO:-0500
TZNAME:CDT
DTSTART:20270314T080000
END:DAYLIGHT
BEGIN:STANDARD
TZOFFSETFROM:-0500
TZOFFSETTO:-0600
TZNAME:CST
DTSTART:20271107T070000
END:STANDARD
BEGIN:DAYLIGHT
TZOFFSETFROM:-0600
TZOFFSETTO:-0500
TZNAME:CDT
DTSTART:20280312T080000
END:DAYLIGHT
BEGIN:STANDARD
TZOFFSETFROM:-0500
TZOFFSETTO:-0600
TZNAME:CST
DTSTART:20281105T070000
END:STANDARD
END:VTIMEZONE
BEGIN:VEVENT
DTSTART;TZID=America/Chicago:20260523T080000
DTEND;TZID=America/Chicago:20260523T120000
DTSTAMP:20260421T105206
CREATED:20260306T143249Z
LAST-MODIFIED:20260306T145507Z
UID:10029371-1779523200-1779537600@www.goeldorado.com
SUMMARY:Farmers Market on the Square
DESCRIPTION:Main Street El Dorado will host a Farmers Market in Downtown El Dorado every Saturday from April 11 -July 18. Vendor\, Farmers\, Music\, and Education! 8am-12am \n  \nFor more information or to register as a vendor: \nFarmer’s Market Application | MainStreet El Dorado
URL:https://www.goeldorado.com/event/farmers-market-on-the-square/2026-05-23/
LOCATION:Downtown El Dorado\, 101 N. Washington\, El Dorado\, AR\, 71730
CATEGORIES:Arts & Culture,Clubs/Organizations,Community,Education,Family and Children,Festivals & Celebrations,Live Music
ATTACH;FMTTYPE=image/jpeg:https://www.goeldorado.com/wp-content/uploads/2026/03/640157151_1237273001871814_3401409208845860125_n.jpg
END:VEVENT
BEGIN:VEVENT
DTSTART;TZID=America/Chicago:20260530T080000
DTEND;TZID=America/Chicago:20260530T120000
DTSTAMP:20260421T105206
CREATED:20260306T143249Z
LAST-MODIFIED:20260306T145507Z
UID:10029372-1780128000-1780142400@www.goeldorado.com
SUMMARY:Farmers Market on the Square
DESCRIPTION:Main Street El Dorado will host a Farmers Market in Downtown El Dorado every Saturday from April 11 -July 18. Vendor\, Farmers\, Music\, and Education! 8am-12am \n  \nFor more information or to register as a vendor: \nFarmer’s Market Application | MainStreet El Dorado
URL:https://www.goeldorado.com/event/farmers-market-on-the-square/2026-05-30/
LOCATION:Downtown El Dorado\, 101 N. Washington\, El Dorado\, AR\, 71730
CATEGORIES:Arts & Culture,Clubs/Organizations,Community,Education,Family and Children,Festivals & Celebrations,Live Music
ATTACH;FMTTYPE=image/jpeg:https://www.goeldorado.com/wp-content/uploads/2026/03/640157151_1237273001871814_3401409208845860125_n.jpg
END:VEVENT
BEGIN:VEVENT
DTSTART;TZID=America/Chicago:20260606T080000
DTEND;TZID=America/Chicago:20260606T120000
DTSTAMP:20260421T105206
CREATED:20260306T143249Z
LAST-MODIFIED:20260306T145507Z
UID:10029373-1780732800-1780747200@www.goeldorado.com
SUMMARY:Farmers Market on the Square
DESCRIPTION:Main Street El Dorado will host a Farmers Market in Downtown El Dorado every Saturday from April 11 -July 18. Vendor\, Farmers\, Music\, and Education! 8am-12am \n  \nFor more information or to register as a vendor: \nFarmer’s Market Application | MainStreet El Dorado
URL:https://www.goeldorado.com/event/farmers-market-on-the-square/2026-06-06/
LOCATION:Downtown El Dorado\, 101 N. Washington\, El Dorado\, AR\, 71730
CATEGORIES:Arts & Culture,Clubs/Organizations,Community,Education,Family and Children,Festivals & Celebrations,Live Music
ATTACH;FMTTYPE=image/jpeg:https://www.goeldorado.com/wp-content/uploads/2026/03/640157151_1237273001871814_3401409208845860125_n.jpg
END:VEVENT
BEGIN:VEVENT
DTSTART;TZID=America/Chicago:20260613T080000
DTEND;TZID=America/Chicago:20260613T120000
DTSTAMP:20260421T105206
CREATED:20260306T143249Z
LAST-MODIFIED:20260306T145507Z
UID:10029374-1781337600-1781352000@www.goeldorado.com
SUMMARY:Farmers Market on the Square
DESCRIPTION:Main Street El Dorado will host a Farmers Market in Downtown El Dorado every Saturday from April 11 -July 18. Vendor\, Farmers\, Music\, and Education! 8am-12am \n  \nFor more information or to register as a vendor: \nFarmer’s Market Application | MainStreet El Dorado
URL:https://www.goeldorado.com/event/farmers-market-on-the-square/2026-06-13/
LOCATION:Downtown El Dorado\, 101 N. Washington\, El Dorado\, AR\, 71730
CATEGORIES:Arts & Culture,Clubs/Organizations,Community,Education,Family and Children,Festivals & Celebrations,Live Music
ATTACH;FMTTYPE=image/jpeg:https://www.goeldorado.com/wp-content/uploads/2026/03/640157151_1237273001871814_3401409208845860125_n.jpg
END:VEVENT
BEGIN:VEVENT
DTSTART;TZID=America/Chicago:20260620T080000
DTEND;TZID=America/Chicago:20260620T120000
DTSTAMP:20260421T105206
CREATED:20260306T143249Z
LAST-MODIFIED:20260306T145507Z
UID:10029375-1781942400-1781956800@www.goeldorado.com
SUMMARY:Farmers Market on the Square
DESCRIPTION:Main Street El Dorado will host a Farmers Market in Downtown El Dorado every Saturday from April 11 -July 18. Vendor\, Farmers\, Music\, and Education! 8am-12am \n  \nFor more information or to register as a vendor: \nFarmer’s Market Application | MainStreet El Dorado
URL:https://www.goeldorado.com/event/farmers-market-on-the-square/2026-06-20/
LOCATION:Downtown El Dorado\, 101 N. Washington\, El Dorado\, AR\, 71730
CATEGORIES:Arts & Culture,Clubs/Organizations,Community,Education,Family and Children,Festivals & Celebrations,Live Music
ATTACH;FMTTYPE=image/jpeg:https://www.goeldorado.com/wp-content/uploads/2026/03/640157151_1237273001871814_3401409208845860125_n.jpg
END:VEVENT
BEGIN:VEVENT
DTSTART;TZID=America/Chicago:20260627T080000
DTEND;TZID=America/Chicago:20260627T120000
DTSTAMP:20260421T105206
CREATED:20260306T143249Z
LAST-MODIFIED:20260306T145507Z
UID:10029376-1782547200-1782561600@www.goeldorado.com
SUMMARY:Farmers Market on the Square
DESCRIPTION:Main Street El Dorado will host a Farmers Market in Downtown El Dorado every Saturday from April 11 -July 18. Vendor\, Farmers\, Music\, and Education! 8am-12am \n  \nFor more information or to register as a vendor: \nFarmer’s Market Application | MainStreet El Dorado
URL:https://www.goeldorado.com/event/farmers-market-on-the-square/2026-06-27/
LOCATION:Downtown El Dorado\, 101 N. Washington\, El Dorado\, AR\, 71730
CATEGORIES:Arts & Culture,Clubs/Organizations,Community,Education,Family and Children,Festivals & Celebrations,Live Music
ATTACH;FMTTYPE=image/jpeg:https://www.goeldorado.com/wp-content/uploads/2026/03/640157151_1237273001871814_3401409208845860125_n.jpg
END:VEVENT
BEGIN:VEVENT
DTSTART;TZID=America/Chicago:20260704T080000
DTEND;TZID=America/Chicago:20260704T120000
DTSTAMP:20260421T105206
CREATED:20260306T143249Z
LAST-MODIFIED:20260306T145507Z
UID:10029377-1783152000-1783166400@www.goeldorado.com
SUMMARY:Farmers Market on the Square
DESCRIPTION:Main Street El Dorado will host a Farmers Market in Downtown El Dorado every Saturday from April 11 -July 18. Vendor\, Farmers\, Music\, and Education! 8am-12am \n  \nFor more information or to register as a vendor: \nFarmer’s Market Application | MainStreet El Dorado
URL:https://www.goeldorado.com/event/farmers-market-on-the-square/2026-07-04/
LOCATION:Downtown El Dorado\, 101 N. Washington\, El Dorado\, AR\, 71730
CATEGORIES:Arts & Culture,Clubs/Organizations,Community,Education,Family and Children,Festivals & Celebrations,Live Music
ATTACH;FMTTYPE=image/jpeg:https://www.goeldorado.com/wp-content/uploads/2026/03/640157151_1237273001871814_3401409208845860125_n.jpg
END:VEVENT
BEGIN:VEVENT
DTSTART;TZID=America/Chicago:20260711T080000
DTEND;TZID=America/Chicago:20260711T120000
DTSTAMP:20260421T105206
CREATED:20260306T143249Z
LAST-MODIFIED:20260306T145507Z
UID:10029378-1783756800-1783771200@www.goeldorado.com
SUMMARY:Farmers Market on the Square
DESCRIPTION:Main Street El Dorado will host a Farmers Market in Downtown El Dorado every Saturday from April 11 -July 18. Vendor\, Farmers\, Music\, and Education! 8am-12am \n  \nFor more information or to register as a vendor: \nFarmer’s Market Application | MainStreet El Dorado
URL:https://www.goeldorado.com/event/farmers-market-on-the-square/2026-07-11/
LOCATION:Downtown El Dorado\, 101 N. Washington\, El Dorado\, AR\, 71730
CATEGORIES:Arts & Culture,Clubs/Organizations,Community,Education,Family and Children,Festivals & Celebrations,Live Music
ATTACH;FMTTYPE=image/jpeg:https://www.goeldorado.com/wp-content/uploads/2026/03/640157151_1237273001871814_3401409208845860125_n.jpg
END:VEVENT
BEGIN:VEVENT
DTSTART;TZID=America/Chicago:20260718T080000
DTEND;TZID=America/Chicago:20260718T120000
DTSTAMP:20260421T105206
CREATED:20260306T143249Z
LAST-MODIFIED:20260306T145507Z
UID:10029379-1784361600-1784376000@www.goeldorado.com
SUMMARY:Farmers Market on the Square
DESCRIPTION:Main Street El Dorado will host a Farmers Market in Downtown El Dorado every Saturday from April 11 -July 18. Vendor\, Farmers\, Music\, and Education! 8am-12am \n  \nFor more information or to register as a vendor: \nFarmer’s Market Application | MainStreet El Dorado
URL:https://www.goeldorado.com/event/farmers-market-on-the-square/2026-07-18/
LOCATION:Downtown El Dorado\, 101 N. Washington\, El Dorado\, AR\, 71730
CATEGORIES:Arts & Culture,Clubs/Organizations,Community,Education,Family and Children,Festivals & Celebrations,Live Music
ATTACH;FMTTYPE=image/jpeg:https://www.goeldorado.com/wp-content/uploads/2026/03/640157151_1237273001871814_3401409208845860125_n.jpg
END:VEVENT
BEGIN:VEVENT
DTSTART;TZID=America/Chicago:20260822T200000
DTEND;TZID=America/Chicago:20260822T220000
DTSTAMP:20260421T105206
CREATED:20260210T163132Z
LAST-MODIFIED:20260210T205347Z
UID:10028889-1787428800-1787436000@www.goeldorado.com
SUMMARY:Dad Rock Night (2000s Rock Tribute) presented by Council Hill
DESCRIPTION:Break out the worn band tees and dust off your air-guitar chops—Dad Rock Night is rolling into town.\nPresented by Council Hill\, this high-energy 2000s rock tribute is a full-throttle throwback to the era when rock radio ruled\, CD binders lived in every car\, and every chorus was made to be screamed at the top of your lungs.\nFrom Creed and Nickelback to 3 Doors Down\, Audioslave\, Shinedown\, Matchbox Twenty\, Seether\, Puddle of Mudd\, Fuel\, Hoobastank\, and more—Dad Rock Night delivers all the anthems you still know every word to (even if you pretend you don’t). These are the songs that soundtracked road trips\, breakups\, bar nights\, and backyard beers—and they hit just as hard live.\nWhether you grew up with these tracks on the radio or just love unapologetic\, fist-pumping rock\, this is your night to sing loud\, laugh harder\, and relive the glory days—no apologies required.\nDad Rock Night isn’t ironic.\nIt’s nostalgic.\nIt’s loud.\nAnd it absolutely rips.
URL:https://www.goeldorado.com/event/dad-rock-night-2000s-rock-tribute-presented-by-council-hill/
LOCATION:Murphy Arts District\, 101 E. Locust Street\, El Dorado\, AR\, 71730\, United States
CATEGORIES:Live Music
ATTACH;FMTTYPE=image/png:https://www.goeldorado.com/wp-content/uploads/2026/02/8.22.1-EL-DORADO-AR-2.png
END:VEVENT
BEGIN:VEVENT
DTSTART;TZID=America/Chicago:20261231T230000
DTEND;TZID=America/Chicago:20270101T010000
DTSTAMP:20260421T105206
CREATED:20260107T172701Z
LAST-MODIFIED:20260107T172701Z
UID:10028771-1798758000-1798765200@www.goeldorado.com
SUMMARY:New Year's Eve Block Party
DESCRIPTION:SAVE The Date-more details coming soon
URL:https://www.goeldorado.com/event/new-years-eve-block-party/
LOCATION:AR
CATEGORIES:Clubs/Organizations,Community,Holiday,Live Music
END:VEVENT
END:VCALENDAR