BEGIN:VCALENDAR
VERSION:2.0
PRODID:-//El Dorado, Arkansas - ECPv6.15.20//NONSGML v1.0//EN
CALSCALE:GREGORIAN
METHOD:PUBLISH
X-WR-CALNAME:El Dorado, Arkansas
X-ORIGINAL-URL:https://www.goeldorado.com
X-WR-CALDESC:Events for El Dorado, Arkansas
REFRESH-INTERVAL;VALUE=DURATION:PT1H
X-Robots-Tag:noindex
X-PUBLISHED-TTL:PT1H
BEGIN:VTIMEZONE
TZID:America/Chicago
BEGIN:DAYLIGHT
TZOFFSETFROM:-0600
TZOFFSETTO:-0500
TZNAME:CDT
DTSTART:20220313T080000
END:DAYLIGHT
BEGIN:STANDARD
TZOFFSETFROM:-0500
TZOFFSETTO:-0600
TZNAME:CST
DTSTART:20221106T070000
END:STANDARD
BEGIN:DAYLIGHT
TZOFFSETFROM:-0600
TZOFFSETTO:-0500
TZNAME:CDT
DTSTART:20230312T080000
END:DAYLIGHT
BEGIN:STANDARD
TZOFFSETFROM:-0500
TZOFFSETTO:-0600
TZNAME:CST
DTSTART:20231105T070000
END:STANDARD
BEGIN:DAYLIGHT
TZOFFSETFROM:-0600
TZOFFSETTO:-0500
TZNAME:CDT
DTSTART:20240310T080000
END:DAYLIGHT
BEGIN:STANDARD
TZOFFSETFROM:-0500
TZOFFSETTO:-0600
TZNAME:CST
DTSTART:20241103T070000
END:STANDARD
END:VTIMEZONE
BEGIN:VEVENT
DTSTART;TZID=America/Chicago:20230204T170000
DTEND;TZID=America/Chicago:20230204T213000
DTSTAMP:20260419T105253
CREATED:20230123T171108Z
LAST-MODIFIED:20230123T171108Z
UID:10010996-1675530000-1675546200@www.goeldorado.com
SUMMARY:Bingo @ The VFW
DESCRIPTION:The VFW will be hosting BINGO! Every Saturday night. \nQuarter Bingo starts at 5pm \nRegular Bingo starts at 7pm
URL:https://www.goeldorado.com/event/bingo-the-vfw/2023-02-04/
LOCATION:VFW\, 451 Industrial Rd\, El Dorado\, AR\, 71730\, United States
CATEGORIES:Clubs/Organizations,Community,Recreation & Sports
END:VEVENT
BEGIN:VEVENT
DTSTART;TZID=America/Chicago:20230204T180000
DTEND;TZID=America/Chicago:20230204T210000
DTSTAMP:20260419T105253
CREATED:20230203T211609Z
LAST-MODIFIED:20230203T211609Z
UID:10012038-1675533600-1675544400@www.goeldorado.com
SUMMARY:Real Deal Championships MMA Fight Night
DESCRIPTION:Enjoy a change of scenery at the Real Deal Championships MMA FIGHT NIGHT! \nThe El Dorado Conference Center will host the MMA Fight Night on Saturday\, February 4. The night kicks off at 6 p.m. and is packed with 15 exciting bouts\, including 5 championship bouts. \nPurchase tickets at http://bit.ly/3XGTXSK.
URL:https://www.goeldorado.com/event/real-deal-championships-mma-fight-night/
LOCATION:El Dorado Conference Center\, 311 S West Ave\, El Dorado\, 71730\, United States
CATEGORIES:Community,Recreation & Sports
ATTACH;FMTTYPE=image/jpeg:https://www.goeldorado.com/wp-content/uploads/2023/02/fight-night.jpg
END:VEVENT
BEGIN:VEVENT
DTSTART;TZID=America/Chicago:20230211T170000
DTEND;TZID=America/Chicago:20230211T203000
DTSTAMP:20260419T105253
CREATED:20230126T215352Z
LAST-MODIFIED:20230126T215352Z
UID:10011990-1676134800-1676147400@www.goeldorado.com
SUMMARY:SouthArk Stars Men's Basketball Game
DESCRIPTION:South Arkansas College host Men’s Basketball. \nSouth Arkansas Stars vs. North Arkansas \n$10.00 adults \n$5 K-12 \nfree under age 5
URL:https://www.goeldorado.com/event/southark-stars-mens-basketball-game-2/
LOCATION:South Arkansas College Gym\, 311 S West Ave\, El Dorado\, AR\, 71730\, United States
CATEGORIES:Recreation & Sports,Schools
ATTACH;FMTTYPE=image/png:https://www.goeldorado.com/wp-content/uploads/2023/01/stars.png
END:VEVENT
BEGIN:VEVENT
DTSTART;TZID=America/Chicago:20230211T170000
DTEND;TZID=America/Chicago:20230211T213000
DTSTAMP:20260419T105253
CREATED:20230123T171108Z
LAST-MODIFIED:20230123T171108Z
UID:10010997-1676134800-1676151000@www.goeldorado.com
SUMMARY:Bingo @ The VFW
DESCRIPTION:The VFW will be hosting BINGO! Every Saturday night. \nQuarter Bingo starts at 5pm \nRegular Bingo starts at 7pm
URL:https://www.goeldorado.com/event/bingo-the-vfw/2023-02-11/
LOCATION:VFW\, 451 Industrial Rd\, El Dorado\, AR\, 71730\, United States
CATEGORIES:Clubs/Organizations,Community,Recreation & Sports
END:VEVENT
BEGIN:VEVENT
DTSTART;TZID=America/Chicago:20230218T150000
DTEND;TZID=America/Chicago:20230218T173000
DTSTAMP:20260419T105253
CREATED:20230126T220144Z
LAST-MODIFIED:20230126T223404Z
UID:10011994-1676732400-1676741400@www.goeldorado.com
SUMMARY:SouthArk Stars Women's Basketball Game
DESCRIPTION:South Arkansas College host Women’s Basketball. \nSouth Arkansas Stars vs. National Park \n$10.00 adults \n$5 K-12 \nfree under age 5
URL:https://www.goeldorado.com/event/southark-stars-womens-basketball-game-2/
LOCATION:South Arkansas College Gym\, 311 S West Ave\, El Dorado\, AR\, 71730\, United States
CATEGORIES:Recreation & Sports,Schools
ATTACH;FMTTYPE=image/png:https://www.goeldorado.com/wp-content/uploads/2023/01/stars.png
END:VEVENT
BEGIN:VEVENT
DTSTART;TZID=America/Chicago:20230218T170000
DTEND;TZID=America/Chicago:20230218T213000
DTSTAMP:20260419T105253
CREATED:20230123T171108Z
LAST-MODIFIED:20230123T171108Z
UID:10010998-1676739600-1676755800@www.goeldorado.com
SUMMARY:Bingo @ The VFW
DESCRIPTION:The VFW will be hosting BINGO! Every Saturday night. \nQuarter Bingo starts at 5pm \nRegular Bingo starts at 7pm
URL:https://www.goeldorado.com/event/bingo-the-vfw/2023-02-18/
LOCATION:VFW\, 451 Industrial Rd\, El Dorado\, AR\, 71730\, United States
CATEGORIES:Clubs/Organizations,Community,Recreation & Sports
END:VEVENT
BEGIN:VEVENT
DTSTART;TZID=America/Chicago:20230218T200000
DTEND;TZID=America/Chicago:20230218T213000
DTSTAMP:20260419T105253
CREATED:20230126T215426Z
LAST-MODIFIED:20230126T215426Z
UID:10011991-1676750400-1676755800@www.goeldorado.com
SUMMARY:SouthArk Stars Men's Basketball Game
DESCRIPTION:South Arkansas College host Men’s Basketball. \nSouth Arkansas Stars vs. National Park \n$10.00 adults \n$5 K-12 \nfree under age 5
URL:https://www.goeldorado.com/event/southark-stars-mens-basketball-game-3/
LOCATION:South Arkansas College Gym\, 311 S West Ave\, El Dorado\, AR\, 71730\, United States
CATEGORIES:Recreation & Sports,Schools
ATTACH;FMTTYPE=image/png:https://www.goeldorado.com/wp-content/uploads/2023/01/stars.png
END:VEVENT
BEGIN:VEVENT
DTSTART;TZID=America/Chicago:20230224T170000
DTEND;TZID=America/Chicago:20230224T180000
DTSTAMP:20260419T105253
CREATED:20230202T162737Z
LAST-MODIFIED:20230202T162737Z
UID:10012028-1677258000-1677261600@www.goeldorado.com
SUMMARY:Polar Plunge benefitting the Special Olympics Area 15
DESCRIPTION:
URL:https://www.goeldorado.com/event/polar-plunge-benefitting-the-special-olympics-area-15/
LOCATION:El Dorado Country Club\, 101 Shady Side St\, El Dorado\, 717303\, United States
CATEGORIES:Clubs/Organizations,Community,Recreation & Sports
ATTACH;FMTTYPE=image/jpeg:https://www.goeldorado.com/wp-content/uploads/2023/02/polar-plunge-2023.jpg
END:VEVENT
BEGIN:VEVENT
DTSTART;TZID=America/Chicago:20230225T170000
DTEND;TZID=America/Chicago:20230225T213000
DTSTAMP:20260419T105253
CREATED:20230123T171108Z
LAST-MODIFIED:20230123T171108Z
UID:10010999-1677344400-1677360600@www.goeldorado.com
SUMMARY:Bingo @ The VFW
DESCRIPTION:The VFW will be hosting BINGO! Every Saturday night. \nQuarter Bingo starts at 5pm \nRegular Bingo starts at 7pm
URL:https://www.goeldorado.com/event/bingo-the-vfw/2023-02-25/
LOCATION:VFW\, 451 Industrial Rd\, El Dorado\, AR\, 71730\, United States
CATEGORIES:Clubs/Organizations,Community,Recreation & Sports
END:VEVENT
END:VCALENDAR