BEGIN:VCALENDAR
VERSION:2.0
PRODID:-//El Dorado, Arkansas - ECPv6.15.20//NONSGML v1.0//EN
CALSCALE:GREGORIAN
METHOD:PUBLISH
X-ORIGINAL-URL:https://www.goeldorado.com
X-WR-CALDESC:Events for El Dorado, Arkansas
REFRESH-INTERVAL;VALUE=DURATION:PT1H
X-Robots-Tag:noindex
X-PUBLISHED-TTL:PT1H
BEGIN:VTIMEZONE
TZID:America/Chicago
BEGIN:DAYLIGHT
TZOFFSETFROM:-0600
TZOFFSETTO:-0500
TZNAME:CDT
DTSTART:20250309T080000
END:DAYLIGHT
BEGIN:STANDARD
TZOFFSETFROM:-0500
TZOFFSETTO:-0600
TZNAME:CST
DTSTART:20251102T070000
END:STANDARD
BEGIN:DAYLIGHT
TZOFFSETFROM:-0600
TZOFFSETTO:-0500
TZNAME:CDT
DTSTART:20260308T080000
END:DAYLIGHT
BEGIN:STANDARD
TZOFFSETFROM:-0500
TZOFFSETTO:-0600
TZNAME:CST
DTSTART:20261101T070000
END:STANDARD
BEGIN:DAYLIGHT
TZOFFSETFROM:-0600
TZOFFSETTO:-0500
TZNAME:CDT
DTSTART:20270314T080000
END:DAYLIGHT
BEGIN:STANDARD
TZOFFSETFROM:-0500
TZOFFSETTO:-0600
TZNAME:CST
DTSTART:20271107T070000
END:STANDARD
END:VTIMEZONE
BEGIN:VEVENT
DTSTART;TZID=America/Chicago:20260411T070000
DTEND;TZID=America/Chicago:20260411T083000
DTSTAMP:20260419T075223
CREATED:20250326T151019Z
LAST-MODIFIED:20250326T212721Z
UID:10025472-1775890800-1775896200@www.goeldorado.com
SUMMARY:Women Moving Forward - Saturday Morning Walk
DESCRIPTION:Come join Women Moving Forward for a morning walk! Women Moving Forward is a Non-Profit Organization empowering women to take control of their health and wellness by incorporating walking and physical activity into their weekly schedule. Every Saturday morning we gather to walk\, talk\, and share with other women in our community. Our conversations are rich\, and our progress is real. Do yourself a favor and join us Saturday morning to Move Forward one step at a time. \n  \n(3) Facebook
URL:https://www.goeldorado.com/event/women-moving-forward-saturday-morning-walk-2/2026-04-11/
LOCATION:Memorial Stadium\, N West Ave\, El Dorado\, AR\, 71730\, United States
CATEGORIES:Clubs/Organizations,Community,Recreation & Sports
ATTACH;FMTTYPE=image/png:https://www.goeldorado.com/wp-content/uploads/2025/03/WMF-Saturday-Morning-Walk.png
ORGANIZER;CN="Women Moving Forward":MAILTO:womenmovingforward21@gmail.com
END:VEVENT
BEGIN:VEVENT
DTSTART;TZID=America/Chicago:20260411T080000
DTEND;TZID=America/Chicago:20260411T110000
DTSTAMP:20260419T075223
CREATED:20260316T161049Z
LAST-MODIFIED:20260408T171019Z
UID:10029458-1775894400-1775905200@www.goeldorado.com
SUMMARY:HealthWorks Boomtown 5k run /2 mile walk
DESCRIPTION:Join us for a fun\, community-focused race supporting HealthWorks Rock Steady Boxing program\, helping individuals living with Parkinson’s Disease. \nSaturday\, April 11\, 2026\nRace start: 8:00 AM\nLate registration: 7:00–7:30 AM\nChoose your pace\, run or walk.\nSupport an incredible cause! \nRegister online or at the front desk at HealthWorks. Register Here: Boomtown 5k Sponsorship : Boomtown 5k Sponsorship : HealthWorks Fitness Center\nLet’s move together for strength\, health\,nand hope!
URL:https://www.goeldorado.com/event/healthworks-boomtown-5k-run-2-mile-walk-2/
LOCATION:HealthWorks Fitness Center\, 304 N. Madison\, El Dorado\, AR\, 71730
CATEGORIES:Recreation & Sports
ATTACH;FMTTYPE=image/jpeg:https://www.goeldorado.com/wp-content/uploads/2026/03/BoomTown_2026_Chamber.jpg
END:VEVENT
END:VCALENDAR