BEGIN:VCALENDAR
VERSION:2.0
PRODID:-//El Dorado, Arkansas - ECPv6.15.20//NONSGML v1.0//EN
CALSCALE:GREGORIAN
METHOD:PUBLISH
X-WR-CALNAME:El Dorado, Arkansas
X-ORIGINAL-URL:https://www.goeldorado.com
X-WR-CALDESC:Events for El Dorado, Arkansas
REFRESH-INTERVAL;VALUE=DURATION:PT1H
X-Robots-Tag:noindex
X-PUBLISHED-TTL:PT1H
BEGIN:VTIMEZONE
TZID:America/Chicago
BEGIN:DAYLIGHT
TZOFFSETFROM:-0600
TZOFFSETTO:-0500
TZNAME:CDT
DTSTART:20250309T080000
END:DAYLIGHT
BEGIN:STANDARD
TZOFFSETFROM:-0500
TZOFFSETTO:-0600
TZNAME:CST
DTSTART:20251102T070000
END:STANDARD
BEGIN:DAYLIGHT
TZOFFSETFROM:-0600
TZOFFSETTO:-0500
TZNAME:CDT
DTSTART:20260308T080000
END:DAYLIGHT
BEGIN:STANDARD
TZOFFSETFROM:-0500
TZOFFSETTO:-0600
TZNAME:CST
DTSTART:20261101T070000
END:STANDARD
BEGIN:DAYLIGHT
TZOFFSETFROM:-0600
TZOFFSETTO:-0500
TZNAME:CDT
DTSTART:20270314T080000
END:DAYLIGHT
BEGIN:STANDARD
TZOFFSETFROM:-0500
TZOFFSETTO:-0600
TZNAME:CST
DTSTART:20271107T070000
END:STANDARD
END:VTIMEZONE
BEGIN:VEVENT
DTSTART;TZID=America/Chicago:20260523T070000
DTEND;TZID=America/Chicago:20260523T083000
DTSTAMP:20260419T073827
CREATED:20250326T151019Z
LAST-MODIFIED:20250326T212721Z
UID:10025478-1779519600-1779525000@www.goeldorado.com
SUMMARY:Women Moving Forward - Saturday Morning Walk
DESCRIPTION:Come join Women Moving Forward for a morning walk! Women Moving Forward is a Non-Profit Organization empowering women to take control of their health and wellness by incorporating walking and physical activity into their weekly schedule. Every Saturday morning we gather to walk\, talk\, and share with other women in our community. Our conversations are rich\, and our progress is real. Do yourself a favor and join us Saturday morning to Move Forward one step at a time. \n  \n(3) Facebook
URL:https://www.goeldorado.com/event/women-moving-forward-saturday-morning-walk-2/2026-05-23/
LOCATION:Memorial Stadium\, N West Ave\, El Dorado\, AR\, 71730\, United States
CATEGORIES:Clubs/Organizations,Community,Recreation & Sports
ATTACH;FMTTYPE=image/png:https://www.goeldorado.com/wp-content/uploads/2025/03/WMF-Saturday-Morning-Walk.png
ORGANIZER;CN="Women Moving Forward":MAILTO:womenmovingforward21@gmail.com
END:VEVENT
BEGIN:VEVENT
DTSTART;TZID=America/Chicago:20260523T100000
DTEND;TZID=America/Chicago:20260523T103000
DTSTAMP:20260419T073827
CREATED:20260413T141358Z
LAST-MODIFIED:20260413T152908Z
UID:10029775-1779530400-1779532200@www.goeldorado.com
SUMMARY:Oilfield Park Tour
DESCRIPTION:Join a museum interpreter for a guided tour of the Oilfield Park at Arkansas Museum of Natural Resources.  The outdoor trail will take us by several styles of oil pumps\, from wooden to modern\, and wooden and metal derricks.  The trail is paved and is approximately 1/4 mile.  We will meet in the museum lobby to get started.
URL:https://www.goeldorado.com/event/oilfield-park-tour-4/
LOCATION:Arkansas Museum of Natural Resources\, 4087 Smackover Hwy\, Smackover\, AR\, 71730\, United States
CATEGORIES:Community,Family and Children,Recreation & Sports
END:VEVENT
BEGIN:VEVENT
DTSTART;TZID=America/Chicago:20260523T133000
DTEND;TZID=America/Chicago:20260523T140000
DTSTAMP:20260419T073827
CREATED:20260413T143926Z
LAST-MODIFIED:20260413T152839Z
UID:10029774-1779543000-1779544800@www.goeldorado.com
SUMMARY:Outdoor Toys and Games from the 1920s
DESCRIPTION:Join us as we go outside to play some of the games children enjoyed during the oil boom era!  We’ll have hopscotch\, marbles\, and jump rope\, and maybe a few more!  Meet outside of the education center to play games with us.
URL:https://www.goeldorado.com/event/outdoor-toys-and-games-from-the-1920s/
LOCATION:Arkansas Museum of Natural Resources\, 4087 Smackover Hwy\, Smackover\, AR\, 71730\, United States
CATEGORIES:Family and Children,Recreation & Sports
END:VEVENT
END:VCALENDAR