BEGIN:VCALENDAR
VERSION:2.0
PRODID:-//El Dorado, Arkansas - ECPv6.15.20//NONSGML v1.0//EN
CALSCALE:GREGORIAN
METHOD:PUBLISH
X-WR-CALNAME:El Dorado, Arkansas
X-ORIGINAL-URL:https://www.goeldorado.com
X-WR-CALDESC:Events for El Dorado, Arkansas
REFRESH-INTERVAL;VALUE=DURATION:PT1H
X-Robots-Tag:noindex
X-PUBLISHED-TTL:PT1H
BEGIN:VTIMEZONE
TZID:America/Chicago
BEGIN:DAYLIGHT
TZOFFSETFROM:-0600
TZOFFSETTO:-0500
TZNAME:CDT
DTSTART:20220313T080000
END:DAYLIGHT
BEGIN:STANDARD
TZOFFSETFROM:-0500
TZOFFSETTO:-0600
TZNAME:CST
DTSTART:20221106T070000
END:STANDARD
BEGIN:DAYLIGHT
TZOFFSETFROM:-0600
TZOFFSETTO:-0500
TZNAME:CDT
DTSTART:20230312T080000
END:DAYLIGHT
BEGIN:STANDARD
TZOFFSETFROM:-0500
TZOFFSETTO:-0600
TZNAME:CST
DTSTART:20231105T070000
END:STANDARD
BEGIN:DAYLIGHT
TZOFFSETFROM:-0600
TZOFFSETTO:-0500
TZNAME:CDT
DTSTART:20240310T080000
END:DAYLIGHT
BEGIN:STANDARD
TZOFFSETFROM:-0500
TZOFFSETTO:-0600
TZNAME:CST
DTSTART:20241103T070000
END:STANDARD
END:VTIMEZONE
BEGIN:VEVENT
DTSTART;TZID=America/Chicago:20230616T200000
DTEND;TZID=America/Chicago:20230616T220000
DTSTAMP:20260420T085534
CREATED:20230607T185059Z
LAST-MODIFIED:20230607T185059Z
UID:10014292-1686945600-1686952800@www.goeldorado.com
SUMMARY:Brooke Fogle LIVE @ PJs Coffee
DESCRIPTION:
URL:https://www.goeldorado.com/event/brooke-fogle-live-pjs-coffee/
LOCATION:PJ’s Coffee Shop El Dorado\, 106 W Main\, El Dorado\, AR\, 71730\, United States
CATEGORIES:Live Music
END:VEVENT
BEGIN:VEVENT
DTSTART;TZID=America/Chicago:20230616T163000
DTEND;TZID=America/Chicago:20230616T180000
DTSTAMP:20260420T085534
CREATED:20230406T161541Z
LAST-MODIFIED:20230509T191247Z
UID:10013172-1686933000-1686938400@www.goeldorado.com
SUMMARY:Juneteenth Weekend Celebration Rally @ the Courthouse
DESCRIPTION:Friday\, June 16th \nRally at the Courthouse 4:30 T-shirt pickup \nPoster Contest drop off \nDJ & Family Activities
URL:https://www.goeldorado.com/event/juneteenth-weekend-celebration/
LOCATION:Union County Courthouse\, 101 N. Washington\, El Dorado\, AR\, 71730
CATEGORIES:Community,Family and Children,Festivals & Celebrations,Holiday
ATTACH;FMTTYPE=image/jpeg:https://www.goeldorado.com/wp-content/uploads/2023/05/345256688_186823010516578_3554886162795414635_n.jpg
END:VEVENT
BEGIN:VEVENT
DTSTART;TZID=America/Chicago:20230616T153000
DTEND;TZID=America/Chicago:20230616T170000
DTSTAMP:20260420T085534
CREATED:20230418T194848Z
LAST-MODIFIED:20230418T194848Z
UID:10013356-1686929400-1686934800@www.goeldorado.com
SUMMARY:Vet Talk w/ Project SOUTH
DESCRIPTION:
URL:https://www.goeldorado.com/event/vet-talk-w-project-south-4/
LOCATION:PJ’s Coffee Shop El Dorado\, 106 W Main\, El Dorado\, AR\, 71730\, United States
CATEGORIES:Community
ATTACH;FMTTYPE=image/png:https://www.goeldorado.com/wp-content/uploads/2023/04/Vet-Talk-3.png
END:VEVENT
BEGIN:VEVENT
DTSTART;TZID=America/Chicago:20230615T200000
DTEND;TZID=America/Chicago:20230615T220000
DTSTAMP:20260420T085534
CREATED:20230321T155231Z
LAST-MODIFIED:20230321T155231Z
UID:10013156-1686859200-1686866400@www.goeldorado.com
SUMMARY:Chris Baker Band LIVE @ Mad House 101
DESCRIPTION:The Chris Baker Band is a loud and proud\, electric 5 piece band from central Arkansas! 22 year old lead vocal and guitarist\, Chris Baker has been heavily influenced by many artists\, such as Stevie Ray Vaughan\, B.B. King\, all the way to Merle Haggard and Black Stone Cherry. Playing alone side Chris Baker are his band members Gary Collie(Drummer)\, JC Huber(Bass player)\, Trey Mccann(rhythm guitarist) and Breanna Lynn(harmony/Co singer). The band keeps the party going at all shows!
URL:https://www.goeldorado.com/event/chris-baker-band-live-mad-house-101/
LOCATION:MAD House 101 Restuarant and Bar\, 101 E Locust\, El Dorado\, AR\, 71730\, United States
CATEGORIES:Live Music
ATTACH;FMTTYPE=image/jpeg:https://www.goeldorado.com/wp-content/uploads/2023/03/chris-baker-bank-Mad-House.jpg
END:VEVENT
BEGIN:VEVENT
DTSTART;TZID=America/Chicago:20230615T100000
DTEND;TZID=America/Chicago:20230615T120000
DTSTAMP:20260420T085534
CREATED:20230517T211104Z
LAST-MODIFIED:20230517T211104Z
UID:10014234-1686823200-1686830400@www.goeldorado.com
SUMMARY:Lyle\, Lyle Crocodile Summer Movie Series @ Stars Theaters
DESCRIPTION:  \n \n  \n  \nFREE SUMMER MOVIE LINE UP IS IN!\nAdmission is free at 10am on Tuesday and Thursday for June and July!\nGroups and daycares are encouraged to attended this weather safe\, FREE summer activity!!
URL:https://www.goeldorado.com/event/lyle-lyle-crocodile-summer-movie-series-stars-theaters-2/
LOCATION:Stars Theaters\, 2620 W Hillsboro\, El Dorado\, AR\, 71730\, United States
CATEGORIES:Community,Family and Children
ATTACH;FMTTYPE=image/jpeg:https://www.goeldorado.com/wp-content/uploads/2023/05/345642358_606948368054109_4609409640286232296_n.jpg
END:VEVENT
BEGIN:VEVENT
DTSTART;TZID=America/Chicago:20230615T100000
DTEND;TZID=America/Chicago:20230615T110000
DTSTAMP:20260420T085534
CREATED:20230421T153125Z
LAST-MODIFIED:20230421T172950Z
UID:10013391-1686823200-1686826800@www.goeldorado.com
SUMMARY:SUMMER @ ARKANSAS MUSEUM OF NATURAL RESOURCES
DESCRIPTION:SIMPLE MACHINES \nYou are invited to join us at the museum for simple machine challenge. Make a simple machine using a variety of materials. Ages 4 and up. There is no fee for this program\, but please contact the museum at (870) 725-2877 to reserve a place. Space may be limited.
URL:https://www.goeldorado.com/event/summer-arkansas-museum-of-natural-resources/
LOCATION:Arkansas Museum of Natural Resources\, 4087 Smackover Hwy\, Smackover\, AR\, 71730\, United States
CATEGORIES:Community,Recreation & Sports
END:VEVENT
BEGIN:VEVENT
DTSTART;TZID=America/Chicago:20230614T120000
DTEND;TZID=America/Chicago:20230614T130000
DTSTAMP:20260420T085534
CREATED:20230607T210102Z
LAST-MODIFIED:20230607T210335Z
UID:10014297-1686744000-1686747600@www.goeldorado.com
SUMMARY:Kiwanis Meeting
DESCRIPTION:
URL:https://www.goeldorado.com/event/kiwanis-meeting-2/2023-06-14/
LOCATION:First Presbyterian Church\, 300 E. Main St\, El Dorado
END:VEVENT
BEGIN:VEVENT
DTSTART;TZID=America/Chicago:20230613T103000
DTEND;TZID=America/Chicago:20230613T113000
DTSTAMP:20260420T085534
CREATED:20230530T152551Z
LAST-MODIFIED:20230530T152551Z
UID:10014272-1686652200-1686655800@www.goeldorado.com
SUMMARY:Story Time @ The CALL
DESCRIPTION:Bring the kids and enjoy a story time with crafts and a treat!
URL:https://www.goeldorado.com/event/story-time-the-call/
LOCATION:The CALL in Union & Calhoun Counties\, 1024 N Euclid\, El Dorado\, AR\, 71730\, United States
CATEGORIES:Community,Family and Children
ATTACH;FMTTYPE=image/jpeg:https://www.goeldorado.com/wp-content/uploads/2023/05/350679227_592998506228824_5211947263476670348_n.jpg
ORGANIZER;CN="The CALL in Union and Calhoun Counties":MAILTO:khicks@thecallinarkansas.org
END:VEVENT
BEGIN:VEVENT
DTSTART;TZID=America/Chicago:20230613T100000
DTEND;TZID=America/Chicago:20230613T120000
DTSTAMP:20260420T085534
CREATED:20230517T210957Z
LAST-MODIFIED:20230517T210957Z
UID:10014233-1686650400-1686657600@www.goeldorado.com
SUMMARY:Lyle\, Lyle Crocodile Summer Movie Series @ Stars Theaters
DESCRIPTION:FREE SUMMER MOVIE LINE UP IS IN!\nAdmission is free at 10am on Tuesday and Thursday for June and July!\nGroups and daycares are encouraged to attended this weather safe\, FREE summer activity!!
URL:https://www.goeldorado.com/event/lyle-lyle-crocodile-summer-movie-series-stars-theaters/
LOCATION:Stars Theaters\, 2620 W Hillsboro\, El Dorado\, AR\, 71730\, United States
CATEGORIES:Community,Family and Children
ATTACH;FMTTYPE=image/jpeg:https://www.goeldorado.com/wp-content/uploads/2023/05/345642358_606948368054109_4609409640286232296_n.jpg
END:VEVENT
BEGIN:VEVENT
DTSTART;TZID=America/Chicago:20230613T090000
DTEND;TZID=America/Chicago:20230613T100000
DTSTAMP:20260420T085534
CREATED:20230525T201626Z
LAST-MODIFIED:20230525T201626Z
UID:10014270-1686646800-1686650400@www.goeldorado.com
SUMMARY:Coffee w/ Causes @ The Chamber of Commerce
DESCRIPTION:The El Dorado-Union County Chamber of Commerce invite all Union county Non-Profits to a time of networking and learning. The second Tuesday of every month from 9-10 @ the Chamber of Commerce. \ncall Karen if you have any questions 870-312-5106
URL:https://www.goeldorado.com/event/coffee-w-causes-the-chamber-of-commerce/
LOCATION:El Dorado-Union County Chamber of Commerce\, 111 W. Main Street\, El Dorado\, AR\, 71730
CATEGORIES:Business,Chamber Of Commerce,Community
ATTACH;FMTTYPE=image/jpeg:https://www.goeldorado.com/wp-content/uploads/2023/05/211-june-coffee-meeting.jpg
END:VEVENT
BEGIN:VEVENT
DTSTART;TZID=America/Chicago:20230613T053000
DTEND;TZID=America/Chicago:20230613T063000
DTSTAMP:20260420T085534
CREATED:20230606T221944Z
LAST-MODIFIED:20230607T133330Z
UID:10014283-1686634200-1686637800@www.goeldorado.com
SUMMARY:El Dorado Veggie Club
DESCRIPTION:Our meeting this month will be held at the main Simmons Bank downtown—100 West Grove Street—on the second floor in the Executive Board Room\, meeting at 5:30 PM. We will be talking about recipes and ideas for summer\, such as planning for cookouts and family gatherings. Bring a friend and we’ll see you all there!
URL:https://www.goeldorado.com/event/el-dorado-veggie-club-10/
LOCATION:Simmons Bank\, 100 W Grove St 2nd floor\, El Dorado\, AR\, 71730\, United States
CATEGORIES:Clubs/Organizations,Community
ATTACH;FMTTYPE=image/jpeg:https://www.goeldorado.com/wp-content/uploads/2023/06/Veggie-Club-June.jpg
END:VEVENT
BEGIN:VEVENT
DTSTART;VALUE=DATE:20230613
DTEND;VALUE=DATE:20230615
DTSTAMP:20260420T085534
CREATED:20230522T192909Z
LAST-MODIFIED:20230522T192910Z
UID:10013784-1686614400-1686787199@www.goeldorado.com
SUMMARY:SouthArk Men's Basketball Kid's Camps Session 2
DESCRIPTION:
URL:https://www.goeldorado.com/event/southark-mens-basketball-kids-camps-session-2-2/
LOCATION:South Arkansas College Gym\, 311 S West Ave\, El Dorado\, AR\, 71730\, United States
CATEGORIES:Community,Family and Children,Recreation & Sports
ATTACH;FMTTYPE=image/jpeg:https://www.goeldorado.com/wp-content/uploads/2023/04/343094069_1421115661992434_1858222123318770416_n-1.jpg
END:VEVENT
BEGIN:VEVENT
DTSTART;VALUE=DATE:20230613
DTEND;VALUE=DATE:20230615
DTSTAMP:20260420T085534
CREATED:20230522T192746Z
LAST-MODIFIED:20230522T192747Z
UID:10013416-1686614400-1686787199@www.goeldorado.com
SUMMARY:SouthArk College Men's Basketball Kids Camp Session 1
DESCRIPTION:
URL:https://www.goeldorado.com/event/southark-college-mens-basketball-kids-camp-3/
LOCATION:South Arkansas College Gym\, 311 S West Ave\, El Dorado\, AR\, 71730\, United States
CATEGORIES:Community,Family and Children,Recreation & Sports
ATTACH;FMTTYPE=image/jpeg:https://www.goeldorado.com/wp-content/uploads/2023/04/343094069_1421115661992434_1858222123318770416_n.jpg
END:VEVENT
BEGIN:VEVENT
DTSTART;TZID=America/Chicago:20230612T203000
DTEND;TZID=America/Chicago:20230612T223000
DTSTAMP:20260420T085534
CREATED:20230501T151654Z
LAST-MODIFIED:20230501T151654Z
UID:10014155-1686601800-1686609000@www.goeldorado.com
SUMMARY:MAD Movie Monday Showing: Puss in Boots
DESCRIPTION:
URL:https://www.goeldorado.com/event/mad-movie-monday-showing-puss-in-boots/
LOCATION:Murphy Arts District\, 101 E. Locust Street\, El Dorado\, AR\, 71730\, United States
CATEGORIES:Community,Family and Children
ATTACH;FMTTYPE=image/jpeg:https://www.goeldorado.com/wp-content/uploads/2023/05/344290992_2099580820238582_7582785097948463621_n.jpg
END:VEVENT
BEGIN:VEVENT
DTSTART;VALUE=DATE:20230612
DTEND;VALUE=DATE:20230617
DTSTAMP:20260420T085534
CREATED:20230522T193029Z
LAST-MODIFIED:20230522T193139Z
UID:10013294-1686528000-1686959999@www.goeldorado.com
SUMMARY:Art meets Science Camp @ SAAC
DESCRIPTION:Art Meets Science \nEntering Grades 2-4 \nJune 12-16 \n1pm-4pm \nInstructor Mike Means \nRegistration Required: 870-862-5474\nwww.saac-arts.com
URL:https://www.goeldorado.com/event/art-meets-science-camp-saac-2/
LOCATION:South Arkansas Arts Center
CATEGORIES:Arts & Culture,Family and Children
END:VEVENT
BEGIN:VEVENT
DTSTART;VALUE=DATE:20230612
DTEND;VALUE=DATE:20230617
DTSTAMP:20260420T085534
CREATED:20230522T192620Z
LAST-MODIFIED:20230522T192621Z
UID:10013289-1686528000-1686959999@www.goeldorado.com
SUMMARY:Musical Theatre Dance Camp @ SAAC
DESCRIPTION:Entering Grades 4-12 \nJune 12-16 9am-4pm. Instructors Lynn Gunter\, Bekah Gunter \nPerformance “West Side Story” on Friday at 6pm \nregistration: 870-862-5474 \nwww.saac-arts.org
URL:https://www.goeldorado.com/event/musical-theatre-dance-camp-saac-2/
LOCATION:South Arkansas Arts Center
CATEGORIES:Arts & Culture,Family and Children
END:VEVENT
BEGIN:VEVENT
DTSTART;VALUE=DATE:20230612
DTEND;VALUE=DATE:20230616
DTSTAMP:20260420T085534
CREATED:20230522T192514Z
LAST-MODIFIED:20230522T192514Z
UID:10014252-1686528000-1686873599@www.goeldorado.com
SUMMARY:Junior Golf Camp w/ KidsNGolf
DESCRIPTION:  \nKidsNGolf announces their 2023 El Dorado Junior Golf Camp for Union County boys and girls held at the Lions Club Golf Course\, 9:00am. to noon\, Monday through Thursday mornings\, June 12 – 15\, 2023.  Golf instruction tailored to individual age and skill levels is provided for boys and girls ages 8 to 14.  Leading the instruction will be the coaches and staff from KidsNGolf.  Cost for this junior golf camp is $50. \n“Since 2014 this has been an annual community event and is such a great way for kids to start their summer\,” said Art Noyes Executive Director of KidsNGolf.  “Golf camp lets us introduce the game of golf to many young people who have never been on a golf course before.” \nTo ensure adequate student-to-coach ratios\, the golf camp can accommodate only the first 30 young people who sign-up.  Mornings are divided into 45-minute instruction segments with coaches assigned to groups of students based on proficiency levels. Each day there will also be the very important time set aside to discuss the life skills and values that are inherent in the game of golf and important in life.  Mornings will end with lunch on the front clubhouse patio.  . \nOn Thursday\, awards are given to recognize players’ efforts\, conduct and improvement throughout the week. Parents and family members are welcome to attend that morning. \nFor information about this golf camp\, call Art Noyes at 870/299-0192\,   A number of scholarships are available. Registration forms are available at the Lions Club Pro Shop or go to www.kidsngolf.org.
URL:https://www.goeldorado.com/event/junior-golf-camp-w-kidsngolf/
LOCATION:Lions Club Golf Course\, 1420 E. 19th Street\, El Dorado\, AR\, 71730
CATEGORIES:Community,Family and Children,Recreation & Sports
END:VEVENT
BEGIN:VEVENT
DTSTART;TZID=America/Chicago:20230611T180000
DTEND;TZID=America/Chicago:20230611T200000
DTSTAMP:20260420T085534
CREATED:20230607T183020Z
LAST-MODIFIED:20230607T183144Z
UID:10014288-1686506400-1686513600@www.goeldorado.com
SUMMARY:Second Stage Audition for Flung Night #2
DESCRIPTION:  \nTwo nights of auditions for Flung by Lisa Dillman directed by Ruth Griffin. Monologue performances followed by cold reads. If you have any questions\, please email secondstageacting@gmail.com
URL:https://www.goeldorado.com/event/second-stage-audition-for-flung/
LOCATION:South Arkansas Arts Center
CATEGORIES:Arts & Culture,Clubs/Organizations
ATTACH;FMTTYPE=image/jpeg:https://www.goeldorado.com/wp-content/uploads/2023/06/351497645_2275435852644093_5182494119504061934_n.jpg
ORGANIZER;CN="Second Stage Acting":MAILTO:secondstageacting@gmail.com
END:VEVENT
BEGIN:VEVENT
DTSTART;TZID=America/Chicago:20230611T100000
DTEND;TZID=America/Chicago:20230611T150000
DTSTAMP:20260420T085534
CREATED:20230320T150315Z
LAST-MODIFIED:20230501T153034Z
UID:10014163-1686477600-1686495600@www.goeldorado.com
SUMMARY:Artist INC Express Workshop @ South Arkansas Arts Center
DESCRIPTION:  \nArtist INC Express is a two-day intensive workshop designed to address the specific professional and entrepreneurial challenges that artists and creatives of all disciplines face in their practices.\nMid-America Arts Alliance\, in partnership with the Arkansas Arts Council\, will present the Artist INC Express workshop for creatives across the state of Arkansas. Led by artist peer facilitators\, the workshop is highly interactive and includes activities and discussions focused on goal setting\, writing about your work\, and building a personal brand – the building blocks for a sustainable art practice and a successful arts business. Artist INC Express immediately activates a network of artists in your community leading to additional peer to peer resource sharing and support long after the workshop concludes.\nThe workshop is free to all artists and creatives residing in the region. Registration is required.\nWorkshop Facilitators: The Artist INC Express workshop is led by three of Artist INC’s peer facilitators\, Kai Coggin\, Veronica Wirges\, and Anna Zusman.\nWorkshop Location: South Arkansas Arts Center\, 110 East 5th Street\, El Dorado\, AR 71730 (MAP)\nWorkshop Dates:\nSaturday\, June 10\, 2023\, 10:00 AM to 3:00 PM\nSunday\, June 11\, 2023\, 10:00 AM to 3:00 PM\n** This is an IN-PERSON workshop. By registering for this workshop\, you are committing to attending both days of the workshop.\nProgram Fees: There is no cost to attend the workshop. Once you have registered\, please plan to attend both days of the workshop. Because seats are limited\, if you don’t plan to attend or have to cancel\, please notify us in advance so we can open up the seat to artists on the wait list!\nRegistration Deadline and Requirements:\nPlease register by 5pm CST\, June 7\, 2023.\nParticipants must be at least 18 years old. Participants must complete the Eventbrite form and answer the narrative questions.\nFor more information about Artist INC\, visit www.artistinc.art.\nQuestions? Please contact Artist Services Team at Mid-America Arts Alliance\, artistservices@maaa.org.\nArtist INC is a program of the Mid-America Arts Alliance. Artist INC Express is generously subsidized by the Arkansas Arts Council.\nThe Arkansas Arts Council advances and empowers the arts by providing services and funding for programming that encourages and assists literary\, performing and visual artists in achieving standards of professional excellence. The Arkansas Arts Council also provides technical and financial assistance to Arkansas arts organizations and other providers of cultural and educational programs. This statewide programming and assistance ultimately provides cultural\, educational and economic opportunities for the benefit of all Arkansans.
URL:https://www.goeldorado.com/event/artist-inc-express-workshop-south-arkansas-arts-center/2023-06-11/
LOCATION:South Arkansas Arts Center
CATEGORIES:Arts & Culture,Community
ORGANIZER;CN="Artist INC":MAILTO:artistinc.art
END:VEVENT
BEGIN:VEVENT
DTSTART;TZID=America/Chicago:20230610T200000
DTEND;TZID=America/Chicago:20230610T220000
DTSTAMP:20260420T085534
CREATED:20230607T185018Z
LAST-MODIFIED:20230607T185018Z
UID:10014291-1686427200-1686434400@www.goeldorado.com
SUMMARY:3 Evergreen LIVE @ PJs Coffee
DESCRIPTION:3 Evergreen LIVE
URL:https://www.goeldorado.com/event/3-evergreen-live-pjs-coffee-4/
LOCATION:PJ’s Coffee Shop El Dorado\, 106 W Main\, El Dorado\, AR\, 71730\, United States
CATEGORIES:Live Music
END:VEVENT
BEGIN:VEVENT
DTSTART;TZID=America/Chicago:20230610T180000
DTEND;TZID=America/Chicago:20230610T200000
DTSTAMP:20260420T085534
CREATED:20230607T182759Z
LAST-MODIFIED:20230607T183108Z
UID:10014287-1686420000-1686427200@www.goeldorado.com
SUMMARY:Second Stage Auditions for Flung @ SAAC Night #1
DESCRIPTION:Two night of auditions for Flung by Lisa Dillman directed by Ruth Griffin. Monologue performances followed by cold reads. If you have any questions\, please email secondstageacting@gmail.com
URL:https://www.goeldorado.com/event/second-stage-auditions-for-flung-saac/
LOCATION:South Arkansas Arts Center
CATEGORIES:Arts & Culture,Clubs/Organizations,Community
ATTACH;FMTTYPE=image/jpeg:https://www.goeldorado.com/wp-content/uploads/2023/06/351497645_2275435852644093_5182494119504061934_n.jpg
ORGANIZER;CN="Second Stage Acting":MAILTO:secondstageacting@gmail.com
END:VEVENT
BEGIN:VEVENT
DTSTART;TZID=America/Chicago:20230610T170000
DTEND;TZID=America/Chicago:20230610T213000
DTSTAMP:20260420T085534
CREATED:20230123T171108Z
LAST-MODIFIED:20230123T171108Z
UID:10011014-1686416400-1686432600@www.goeldorado.com
SUMMARY:Bingo @ The VFW
DESCRIPTION:The VFW will be hosting BINGO! Every Saturday night. \nQuarter Bingo starts at 5pm \nRegular Bingo starts at 7pm
URL:https://www.goeldorado.com/event/bingo-the-vfw/2023-06-10/
LOCATION:VFW\, 451 Industrial Rd\, El Dorado\, AR\, 71730\, United States
CATEGORIES:Clubs/Organizations,Community,Recreation & Sports
END:VEVENT
BEGIN:VEVENT
DTSTART;TZID=America/Chicago:20230610T110000
DTEND;TZID=America/Chicago:20230610T130000
DTSTAMP:20260420T085534
CREATED:20230524T142307Z
LAST-MODIFIED:20230524T142315Z
UID:10014264-1686394800-1686402000@www.goeldorado.com
SUMMARY:Block Party Free Little Pantry Launch
DESCRIPTION:Engage Arkansas in partnership with El Dorado Rotary Club and Murphy USA will be hosting a Block Party to Celebrate the installation of the Free Little Food Pantry @ 1322 W Hillsboro. Join us from 11-1 for hot dogs and fun as we launch!
URL:https://www.goeldorado.com/event/block-party-free-little-pantry-launch/
LOCATION:Hillsboro Church of Christ\, 1322 W Hillsboro
CATEGORIES:Business,Clubs/Organizations,Family and Children,Festivals & Celebrations
ATTACH;FMTTYPE=image/png:https://www.goeldorado.com/wp-content/uploads/2023/05/free-little-food-pantry-1.png
END:VEVENT
BEGIN:VEVENT
DTSTART;TZID=America/Chicago:20230610T100000
DTEND;TZID=America/Chicago:20230610T220000
DTSTAMP:20260420T085534
CREATED:20230509T173649Z
LAST-MODIFIED:20230509T173655Z
UID:10014194-1686391200-1686434400@www.goeldorado.com
SUMMARY:Oil Town Fest w/ Smackover Chamber of Commerce
DESCRIPTION:
URL:https://www.goeldorado.com/event/oil-town-fest-w-smackover-chamber-of-commerce/
LOCATION:smackover park\, Broadway\, Smackover\, AR\, 71730\, United States
CATEGORIES:Community,Family and Children,Festivals & Celebrations,Live Music
ATTACH;FMTTYPE=image/jpeg:https://www.goeldorado.com/wp-content/uploads/2023/05/344867107_202466865920318_3436932017841466720_n.jpg
END:VEVENT
BEGIN:VEVENT
DTSTART;TZID=America/Chicago:20230610T100000
DTEND;TZID=America/Chicago:20230610T150000
DTSTAMP:20260420T085534
CREATED:20230320T150315Z
LAST-MODIFIED:20230501T153034Z
UID:10012667-1686391200-1686409200@www.goeldorado.com
SUMMARY:Artist INC Express Workshop @ South Arkansas Arts Center
DESCRIPTION:  \nArtist INC Express is a two-day intensive workshop designed to address the specific professional and entrepreneurial challenges that artists and creatives of all disciplines face in their practices.\nMid-America Arts Alliance\, in partnership with the Arkansas Arts Council\, will present the Artist INC Express workshop for creatives across the state of Arkansas. Led by artist peer facilitators\, the workshop is highly interactive and includes activities and discussions focused on goal setting\, writing about your work\, and building a personal brand – the building blocks for a sustainable art practice and a successful arts business. Artist INC Express immediately activates a network of artists in your community leading to additional peer to peer resource sharing and support long after the workshop concludes.\nThe workshop is free to all artists and creatives residing in the region. Registration is required.\nWorkshop Facilitators: The Artist INC Express workshop is led by three of Artist INC’s peer facilitators\, Kai Coggin\, Veronica Wirges\, and Anna Zusman.\nWorkshop Location: South Arkansas Arts Center\, 110 East 5th Street\, El Dorado\, AR 71730 (MAP)\nWorkshop Dates:\nSaturday\, June 10\, 2023\, 10:00 AM to 3:00 PM\nSunday\, June 11\, 2023\, 10:00 AM to 3:00 PM\n** This is an IN-PERSON workshop. By registering for this workshop\, you are committing to attending both days of the workshop.\nProgram Fees: There is no cost to attend the workshop. Once you have registered\, please plan to attend both days of the workshop. Because seats are limited\, if you don’t plan to attend or have to cancel\, please notify us in advance so we can open up the seat to artists on the wait list!\nRegistration Deadline and Requirements:\nPlease register by 5pm CST\, June 7\, 2023.\nParticipants must be at least 18 years old. Participants must complete the Eventbrite form and answer the narrative questions.\nFor more information about Artist INC\, visit www.artistinc.art.\nQuestions? Please contact Artist Services Team at Mid-America Arts Alliance\, artistservices@maaa.org.\nArtist INC is a program of the Mid-America Arts Alliance. Artist INC Express is generously subsidized by the Arkansas Arts Council.\nThe Arkansas Arts Council advances and empowers the arts by providing services and funding for programming that encourages and assists literary\, performing and visual artists in achieving standards of professional excellence. The Arkansas Arts Council also provides technical and financial assistance to Arkansas arts organizations and other providers of cultural and educational programs. This statewide programming and assistance ultimately provides cultural\, educational and economic opportunities for the benefit of all Arkansans.
URL:https://www.goeldorado.com/event/artist-inc-express-workshop-south-arkansas-arts-center/2023-06-10/
LOCATION:South Arkansas Arts Center
CATEGORIES:Arts & Culture,Community
ORGANIZER;CN="Artist INC":MAILTO:artistinc.art
END:VEVENT
BEGIN:VEVENT
DTSTART;TZID=America/Chicago:20230610T080000
DTEND;TZID=America/Chicago:20230610T110000
DTSTAMP:20260420T085534
CREATED:20230414T212537Z
LAST-MODIFIED:20230626T140535Z
UID:10014341-1686384000-1686394800@www.goeldorado.com
SUMMARY:Farmers Market at MAD
DESCRIPTION:Shop local vendors at the MAD Amphitheater!
URL:https://www.goeldorado.com/event/farmers-market-at-mad-3/2023-06-10/
LOCATION:AR
CATEGORIES:Arts & Culture,Community,Family and Children
ATTACH;FMTTYPE=image/jpeg:https://www.goeldorado.com/wp-content/uploads/2023/04/famersmarketevent.jpg
END:VEVENT
BEGIN:VEVENT
DTSTART;TZID=America/Chicago:20230609T210000
DTEND;TZID=America/Chicago:20230609T230000
DTSTAMP:20260420T085534
CREATED:20230605T165303Z
LAST-MODIFIED:20230605T165303Z
UID:10014279-1686344400-1686351600@www.goeldorado.com
SUMMARY:Chris Loggins LIVE @ the Mink Eye
DESCRIPTION:
URL:https://www.goeldorado.com/event/chris-loggins-live-the-mink-eye-2/
LOCATION:The Mink Eye\, 117 Main st\, El Dorado\, AR\, 71730\, United States
CATEGORIES:Community,Live Music
END:VEVENT
BEGIN:VEVENT
DTSTART;TZID=America/Chicago:20230609T200000
DTEND;TZID=America/Chicago:20230609T220000
DTSTAMP:20260420T085534
CREATED:20230607T184932Z
LAST-MODIFIED:20230607T184932Z
UID:10014290-1686340800-1686348000@www.goeldorado.com
SUMMARY:Dave Almond LIVE @ PJs Coffee
DESCRIPTION:Dave Almond LIVE
URL:https://www.goeldorado.com/event/dave-almond-live-pjs-coffee-5/
LOCATION:PJ’s Coffee Shop El Dorado\, 106 W Main\, El Dorado\, AR\, 71730\, United States
CATEGORIES:Live Music
END:VEVENT
BEGIN:VEVENT
DTSTART;TZID=America/Chicago:20230608T180000
DTEND;TZID=America/Chicago:20230608T200000
DTSTAMP:20260420T085534
CREATED:20230519T135553Z
LAST-MODIFIED:20230526T143936Z
UID:10014249-1686247200-1686254400@www.goeldorado.com
SUMMARY:Bread: Back to the Basics @ SouthArk Continuing Education
DESCRIPTION:  \nLearning about different types of yeast\, flour\, and other basic ingredients with hands-on experience baking your own bread.\nDetails here: https://southark.libcal.com/event/10770856\n\nREGISTRATION LINK: Bread: Back To The Basics – SouthArk Events Calendar – South Arkansas College (libcal.com)
URL:https://www.goeldorado.com/event/bread-back-to-the-basics-southark-continuing-education/
LOCATION:SouthArk Center for Workforce Development\, 3696 East Main St.\, El Dorado\, AR\, 71730\, United States
CATEGORIES:Community,Family and Children
ATTACH;FMTTYPE=image/jpeg:https://www.goeldorado.com/wp-content/uploads/2023/05/347821822_3972594129546019_2555412368736831334_n.jpg
END:VEVENT
BEGIN:VEVENT
DTSTART;TZID=America/Chicago:20230608T170000
DTEND;TZID=America/Chicago:20230608T180000
DTSTAMP:20260420T085534
CREATED:20220809T212644Z
LAST-MODIFIED:20220816T204808Z
UID:10009495-1686243600-1686247200@www.goeldorado.com
SUMMARY:El Dorado City Council Meeting
DESCRIPTION:The City of El Dorado’s City Council meeting to discuss city business. Meeting is open to the public. To be placed on the agenda contact the Mayor’s office or your local Alderman. 
URL:https://www.goeldorado.com/event/el-dorado-city-council-meeting/2023-06-08/
LOCATION:AR
CATEGORIES:Community,Government
END:VEVENT
END:VCALENDAR