BEGIN:VCALENDAR
VERSION:2.0
PRODID:-//El Dorado, Arkansas - ECPv6.15.20//NONSGML v1.0//EN
CALSCALE:GREGORIAN
METHOD:PUBLISH
X-WR-CALNAME:El Dorado, Arkansas
X-ORIGINAL-URL:https://www.goeldorado.com
X-WR-CALDESC:Events for El Dorado, Arkansas
REFRESH-INTERVAL;VALUE=DURATION:PT1H
X-Robots-Tag:noindex
X-PUBLISHED-TTL:PT1H
BEGIN:VTIMEZONE
TZID:America/Chicago
BEGIN:DAYLIGHT
TZOFFSETFROM:-0600
TZOFFSETTO:-0500
TZNAME:CDT
DTSTART:20220313T080000
END:DAYLIGHT
BEGIN:STANDARD
TZOFFSETFROM:-0500
TZOFFSETTO:-0600
TZNAME:CST
DTSTART:20221106T070000
END:STANDARD
BEGIN:DAYLIGHT
TZOFFSETFROM:-0600
TZOFFSETTO:-0500
TZNAME:CDT
DTSTART:20230312T080000
END:DAYLIGHT
BEGIN:STANDARD
TZOFFSETFROM:-0500
TZOFFSETTO:-0600
TZNAME:CST
DTSTART:20231105T070000
END:STANDARD
BEGIN:DAYLIGHT
TZOFFSETFROM:-0600
TZOFFSETTO:-0500
TZNAME:CDT
DTSTART:20240310T080000
END:DAYLIGHT
BEGIN:STANDARD
TZOFFSETFROM:-0500
TZOFFSETTO:-0600
TZNAME:CST
DTSTART:20241103T070000
END:STANDARD
END:VTIMEZONE
BEGIN:VEVENT
DTSTART;TZID=America/Chicago:20230923T170000
DTEND;TZID=America/Chicago:20230923T213000
DTSTAMP:20260422T041546
CREATED:20230123T171108Z
LAST-MODIFIED:20230123T171108Z
UID:10011029-1695488400-1695504600@www.goeldorado.com
SUMMARY:Bingo @ The VFW
DESCRIPTION:The VFW will be hosting BINGO! Every Saturday night. \nQuarter Bingo starts at 5pm \nRegular Bingo starts at 7pm
URL:https://www.goeldorado.com/event/bingo-the-vfw/2023-09-23/
LOCATION:VFW\, 451 Industrial Rd\, El Dorado\, AR\, 71730\, United States
CATEGORIES:Clubs/Organizations,Community,Recreation & Sports
END:VEVENT
BEGIN:VEVENT
DTSTART;TZID=America/Chicago:20230923T080000
DTEND;TZID=America/Chicago:20230923T110000
DTSTAMP:20260422T041546
CREATED:20230414T212537Z
LAST-MODIFIED:20230626T140535Z
UID:10014356-1695456000-1695466800@www.goeldorado.com
SUMMARY:Farmers Market at MAD
DESCRIPTION:Shop local vendors at the MAD Amphitheater!
URL:https://www.goeldorado.com/event/farmers-market-at-mad-3/2023-09-23/
CATEGORIES:Arts & Culture,Community,Family and Children
ATTACH;FMTTYPE=image/jpeg:https://www.goeldorado.com/wp-content/uploads/2023/04/famersmarketevent.jpg
END:VEVENT
BEGIN:VEVENT
DTSTART;TZID=America/Chicago:20230922T190000
DTEND;TZID=America/Chicago:20230922T220000
DTSTAMP:20260422T041546
CREATED:20230629T203822Z
LAST-MODIFIED:20230629T203822Z
UID:10014437-1695409200-1695420000@www.goeldorado.com
SUMMARY:EHS Wildcats home game vs. Benton
DESCRIPTION:
URL:https://www.goeldorado.com/event/ehs-wildcats-home-game-vs-benton/
LOCATION:Memorial Stadium\, N West Ave\, El Dorado\, AR\, 71730\, United States
CATEGORIES:Community,Education,Family and Children,Recreation & Sports
END:VEVENT
BEGIN:VEVENT
DTSTART;TZID=America/Chicago:20230922T110000
DTEND;TZID=America/Chicago:20230922T113000
DTSTAMP:20260422T041546
CREATED:20230828T210405Z
LAST-MODIFIED:20230901T181518Z
UID:10014536-1695380400-1695382200@www.goeldorado.com
SUMMARY:Ribbon Cutting w/ Courtney Marie Enterprise
DESCRIPTION:Courtney Marie Ribbon Cutting
URL:https://www.goeldorado.com/event/ribbon-cutting/
LOCATION:El Dorado-Union County Chamber of Commerce\, 111 W. Main Street\, El Dorado\, AR\, 71730
CATEGORIES:Business,Chamber Of Commerce
ATTACH;FMTTYPE=image/png:https://www.goeldorado.com/wp-content/uploads/2023/08/courtney-Ent.png
END:VEVENT
BEGIN:VEVENT
DTSTART;TZID=America/Chicago:20230921T200000
DTEND;TZID=America/Chicago:20230921T220000
DTSTAMP:20260422T041546
CREATED:20230414T131048Z
LAST-MODIFIED:20230414T131048Z
UID:10013202-1695326400-1695333600@www.goeldorado.com
SUMMARY:Mad Hatters Dueling Pianos LIVE @ Mad House 101
DESCRIPTION:No Cover. Reservations at 870-444-3008.
URL:https://www.goeldorado.com/event/mad-hatters-dueling-pianos-live-mad-house-101/
LOCATION:MAD House 101 Restuarant and Bar\, 101 E Locust\, El Dorado\, AR\, 71730\, United States
CATEGORIES:Live Music
ATTACH;FMTTYPE=image/jpeg:https://www.goeldorado.com/wp-content/uploads/2023/04/mad-hatters-dueling-pianos.jpg
END:VEVENT
BEGIN:VEVENT
DTSTART;TZID=America/Chicago:20230921T180000
DTEND;TZID=America/Chicago:20230921T200000
DTSTAMP:20260422T041546
CREATED:20230913T213459Z
LAST-MODIFIED:20230914T172255Z
UID:10014562-1695319200-1695326400@www.goeldorado.com
SUMMARY:Salmon Night Cooking Class @ South Ark
DESCRIPTION:Chef Scott Enzor will demonstrate for the class how to cook a delicious salmon filet
URL:https://www.goeldorado.com/event/salmon-night-cooking-class-south-ark/
LOCATION:SouthArk Center for Workforce Development\, 3696 East Main St.\, El Dorado\, AR\, 71730\, United States
CATEGORIES:Community,Continuing Education
ATTACH;FMTTYPE=image/png:https://www.goeldorado.com/wp-content/uploads/2023/09/Salmon-Night-Flyer-Small.png
END:VEVENT
BEGIN:VEVENT
DTSTART;TZID=America/Chicago:20230921T110000
DTEND;TZID=America/Chicago:20230921T113000
DTSTAMP:20260422T041546
CREATED:20230828T204032Z
LAST-MODIFIED:20230828T210738Z
UID:10014535-1695294000-1695295800@www.goeldorado.com
SUMMARY:Grand Opening & Ribbon Cutting Barefoot Bistro
DESCRIPTION:
URL:https://www.goeldorado.com/event/grand-opening-ribbon-cutting/
LOCATION:Barefoot  Bistro\, 101 E Main\, El Dorado\, AR\, 71730
CATEGORIES:Business,Chamber Of Commerce
ATTACH;FMTTYPE=image/png:https://www.goeldorado.com/wp-content/uploads/2023/08/Grand-Opening-Ribbon-Cutting.png
END:VEVENT
BEGIN:VEVENT
DTSTART;VALUE=DATE:20230921
DTEND;VALUE=DATE:20230922
DTSTAMP:20260422T041546
CREATED:20230207T215949Z
LAST-MODIFIED:20230208T144944Z
UID:10012049-1695254400-1695340799@www.goeldorado.com
SUMMARY:United Way's Small Business Blitz
DESCRIPTION:Volunteers with United Way of Union County will visit small businesses to solicit donations for the annual fundraising campaign in this one-day event.
URL:https://www.goeldorado.com/event/united-ways-small-business-blitz/
CATEGORIES:Clubs/Organizations
END:VEVENT
BEGIN:VEVENT
DTSTART;TZID=America/Chicago:20230920T190000
DTEND;TZID=America/Chicago:20230920T230000
DTSTAMP:20260422T041546
CREATED:20230712T195143Z
LAST-MODIFIED:20230712T195143Z
UID:10014469-1695236400-1695250800@www.goeldorado.com
SUMMARY:Foghat @ Murphy Arts District
DESCRIPTION:Murphy USA presents Foghat w/special guest deFrance! Wednesday\, September 20th in the First Financial Music Hall. Seating is reserved.\nMAD Member Sale: July 12 @ 10am\, CDT (with promo code)\nVenue Sale: July 13 @ 10am\, CDT (with promo code)\nPublic Sale: July 14 @ 10am\, CDT\nFoghat\, the legendary rock band known for their hits such as “Slow Ride” and “Fool for the City\,” will be performing at the First Financial Music Hall on Wednesday\, September 20th. Presented by Murphy USA\, this highly anticipated concert will coincide with the El Dorado Shootout\, a prestigious women’s EPSON Tour golf tournament held September 18th – 24th at Mystic Creek Golf Club. Doors to the event will open at 6pm with the concert starting at 7pm featuring opening act deFrance. Ticket prices range from $29 to $89 and go on sale to the public Friday\, July 14th at 10am\, CDT. Seating is reserved.\n“We are thrilled to bring Foghat to El Dorado for what promises to be an exceptional evening of rock music\,” said MAD President and CEO Pam Griffin. “With the support of our presenting sponsor\, Murphy USA\, we aim to create an unforgettable experience for attendees.”\nFormed in 1971 when “lonesome” Dave Peverett & Roger Earl left the British blues-rock band\, Savoy Brown\, Foghat has earned eight Gold records\, one Platinum record and one Double-Platinum record. And they continue to release new music every few years. They have never stopped touring and recording although there have been several ups and downs and changes over the years. They sadly lost lonesome Dave Peverett in 2000 and Rod Price in 2005\, but Roger Earl kept banging & kicking to keep Foghat’s musical legacy going.\nThe iconic band from the past is rocking just as hard as they did decades ago\, if not more! Foghat’s thunderous blend of blues\, boogie and rock ‘n’ roll are shaking walls and fans everywhere. Lead vocalist/lead guitarist Scott Holt played with Buddy Guy for over 10 years\, and lead/slide guitarist Bryan Bassett played with Wild Cherry and Molly Hatchet. Bass player Craig MacGregor who had been with the band since the ’70s\, unfortunately became ill in 2015 and was unable to play\, and sadly died in February of 2018. Craig had recommended the very talented & personable Rodney O’Quinn as a ‘fill-in’ who came to Foghat via the Pat Travers band where he proved he knew how to lay down a solid groove. O’Quinn viewed MacGregor as a mentor and is a great permanent addition to the band. On drums is founding member Roger Earl\, who’s positive attitude and solid drumming style and pure joy of playing has been an inspiration to all. If Foghat had only given us ‘Slow Ride’\, the band’s place in rock history would be secure. But the band is so much more than that. As stated by Roger Earl\, “we are still a ‘work in progress’\, writing and recording and plan to be until the day we depart this earth”.\nTickets for the event will go on sale to MAD members Wednesday\, July 12th at 10am\, CDT and to the public on Friday\, July 14th\, at 10am\, CDT. Tickets will be available for purchase at eldomad.com or by calling the box office at 870-444-3007. Tickets may also be purchased at the box office (101 East Locust Street)\, Monday – Friday\, 9am – 5pm.
URL:https://www.goeldorado.com/event/foghat-murphy-arts-district/
LOCATION:Murphy Arts District\, 101 E. Locust Street\, El Dorado\, AR\, 71730\, United States
CATEGORIES:Community,Live Music
ATTACH;FMTTYPE=image/jpeg:https://www.goeldorado.com/wp-content/uploads/2023/07/358642963_6592272147501221_4938061816651073944_n.jpg
END:VEVENT
BEGIN:VEVENT
DTSTART;TZID=America/Chicago:20230920T120000
DTEND;TZID=America/Chicago:20230920T130000
DTSTAMP:20260422T041546
CREATED:20230607T210102Z
LAST-MODIFIED:20230607T210335Z
UID:10014311-1695211200-1695214800@www.goeldorado.com
SUMMARY:Kiwanis Meeting
DESCRIPTION:
URL:https://www.goeldorado.com/event/kiwanis-meeting-2/2023-09-20/
LOCATION:First Presbyterian Church\, 300 E. Main St\, El Dorado
END:VEVENT
BEGIN:VEVENT
DTSTART;TZID=America/Chicago:20230919T170000
DTEND;TZID=America/Chicago:20230919T180000
DTSTAMP:20260422T041546
CREATED:20230720T214504Z
LAST-MODIFIED:20230720T214504Z
UID:10014489-1695142800-1695146400@www.goeldorado.com
SUMMARY:Business After Hours: Employer Services of America
DESCRIPTION:
URL:https://www.goeldorado.com/event/business-after-hours-employer-services-of-america/
CATEGORIES:Business,Chamber Of Commerce
END:VEVENT
BEGIN:VEVENT
DTSTART;VALUE=DATE:20230919
DTEND;VALUE=DATE:20230924
DTSTAMP:20260422T041546
CREATED:20230629T203436Z
LAST-MODIFIED:20230629T203436Z
UID:10014435-1695081600-1695513599@www.goeldorado.com
SUMMARY:Union County Fair
DESCRIPTION:
URL:https://www.goeldorado.com/event/union-county-fair-2/
LOCATION:Union County Fair Grounds\, 430 E 19th St\, El Dorado\, AR\, 71730\, United States
CATEGORIES:Arts & Culture,Community,Family and Children,Festivals & Celebrations
ATTACH;FMTTYPE=image/png:https://www.goeldorado.com/wp-content/uploads/2023/06/351307784_801501498429378_9154341890609759121_n.png
ORGANIZER;CN="Union County Fair":MAILTO:lewis_debbiej@yahoo.com
END:VEVENT
BEGIN:VEVENT
DTSTART;TZID=America/Chicago:20230918T173000
DTEND;TZID=America/Chicago:20230921T210000
DTSTAMP:20260422T041546
CREATED:20230822T134009Z
LAST-MODIFIED:20230920T180032Z
UID:10014533-1695058200-1695330000@www.goeldorado.com
SUMMARY:Hunter Education @ SouthArk
DESCRIPTION:The traditional hunter education class is a 10-hour instructor led classroom course with hands-on demonstrations. Classes may be a few hours a night for 3 or 4 nights or an all-day class. The final class will end with a test to pass the course. \n\n\nHunter Education classes are offered by knowledgeable and dedicated volunteer instructors and Arkansas Game and Fish Employees. \nThis class is being provided in collaboration with Community Education at South Arkansas College.
URL:https://www.goeldorado.com/event/hunter-education-southark/
LOCATION:SouthArk Center for Workforce Development\, 3696 East Main St.\, El Dorado\, AR\, 71730\, United States
CATEGORIES:Community,Continuing Education,Recreation & Sports
ATTACH;FMTTYPE=image/jpeg:https://www.goeldorado.com/wp-content/uploads/2023/08/369866492_10104131225932408_5587954074177818413_n.jpg
END:VEVENT
BEGIN:VEVENT
DTSTART;TZID=America/Chicago:20230918T160000
DTEND;TZID=America/Chicago:20230918T173000
DTSTAMP:20260422T041546
CREATED:20230724T201524Z
LAST-MODIFIED:20230724T201644Z
UID:10014497-1695052800-1695058200@www.goeldorado.com
SUMMARY:Junior Clinic El Dorado Shootout
DESCRIPTION:As part of the El Dorado Shootout\, an official event on the Epson Tour\, Murphy USA is hosting a free Junior Golf Clinic on Monday\, September 18th at Mystic Creek Golf Club for children ages 6-18.\nThis free event is made possible by our sponsor\, United Consulting. No golf experience is required\, and no equipment is needed to participate in the clinic. This is a great opportunity to:\n Learn more about golf\n Meet players on the LPGA tour\n Get golf tips from Epson Tour members and PGA teaching professionals\n Enjoy the beautiful course at Mystic Creek\nThe Junior Clinic is a free community outreach event\, sponsored by United Consulting. It is a hands-on golf clinic for local children to introduce them to the game of golf plus further develop their golf skillset. The event includes four construction areas that provide instruction on various aspects of the game. Kids are divided into groups based on age. Following the event\, kids are given goodie bags\, a sweet treat\, and a golf ball to get signed by one of the Epson Tour players.\nDate: Monday\, September 18th\nLocation: Mystic Creek Golf Club\nTime: 4:00-5:30 p.m.\nSponsor: United Consulting\nClubs will be provided.\nFREE ADMISSION.\nRegistration will open soon! RSVP to the event so you get reminders and updates. Learn more: https://eldoradoshootout.com/schedule/junior-clinic
URL:https://www.goeldorado.com/event/junior-clinic-el-dorado-shootout/
LOCATION:Mystic Creek Clubhouse\, 191 Clubhouse Dr\, El Dorado\, AR\, 71730\, United States
CATEGORIES:Clubs/Organizations,Community,Family and Children,Recreation & Sports
ATTACH;FMTTYPE=image/jpeg:https://www.goeldorado.com/wp-content/uploads/2023/07/362623923_697639069042373_8178738164914094740_n.jpg
END:VEVENT
BEGIN:VEVENT
DTSTART;TZID=America/Chicago:20230916T170000
DTEND;TZID=America/Chicago:20230916T213000
DTSTAMP:20260422T041546
CREATED:20230123T171108Z
LAST-MODIFIED:20230123T171108Z
UID:10011028-1694883600-1694899800@www.goeldorado.com
SUMMARY:Bingo @ The VFW
DESCRIPTION:The VFW will be hosting BINGO! Every Saturday night. \nQuarter Bingo starts at 5pm \nRegular Bingo starts at 7pm
URL:https://www.goeldorado.com/event/bingo-the-vfw/2023-09-16/
LOCATION:VFW\, 451 Industrial Rd\, El Dorado\, AR\, 71730\, United States
CATEGORIES:Clubs/Organizations,Community,Recreation & Sports
END:VEVENT
BEGIN:VEVENT
DTSTART;TZID=America/Chicago:20230916T090000
DTEND;TZID=America/Chicago:20230916T160000
DTSTAMP:20260422T041546
CREATED:20230724T201144Z
LAST-MODIFIED:20230724T201144Z
UID:10014496-1694854800-1694880000@www.goeldorado.com
SUMMARY:Mini Main Street w/ ESL
DESCRIPTION:
URL:https://www.goeldorado.com/event/mini-main-street-w-esl/
LOCATION:First United Methodist Hanna Building\, El Dorado\, AR
CATEGORIES:Arts & Culture,Business,Clubs/Organizations,Family and Children
ATTACH;FMTTYPE=image/jpeg:https://www.goeldorado.com/wp-content/uploads/2023/07/362930532_653056473524208_4292735084412018256_n.jpg
END:VEVENT
BEGIN:VEVENT
DTSTART;TZID=America/Chicago:20230916T080000
DTEND;TZID=America/Chicago:20230916T110000
DTSTAMP:20260422T041546
CREATED:20230414T212537Z
LAST-MODIFIED:20230626T140535Z
UID:10014355-1694851200-1694862000@www.goeldorado.com
SUMMARY:Farmers Market at MAD
DESCRIPTION:Shop local vendors at the MAD Amphitheater!
URL:https://www.goeldorado.com/event/farmers-market-at-mad-3/2023-09-16/
CATEGORIES:Arts & Culture,Community,Family and Children
ATTACH;FMTTYPE=image/jpeg:https://www.goeldorado.com/wp-content/uploads/2023/04/famersmarketevent.jpg
END:VEVENT
BEGIN:VEVENT
DTSTART;VALUE=DATE:20230916
DTEND;VALUE=DATE:20230917
DTSTAMP:20260422T041546
CREATED:20230713T163613Z
LAST-MODIFIED:20230713T163620Z
UID:10014472-1694822400-1694908799@www.goeldorado.com
SUMMARY:First Financial Bank SHARE Benefit Gold Tournament
DESCRIPTION:
URL:https://www.goeldorado.com/event/first-financial-bank-share-benefit-gold-tournament/
LOCATION:Lions Club Golf Course\, 1420 E. 19th Street\, El Dorado\, AR\, 71730
CATEGORIES:Community,Recreation & Sports
ATTACH;FMTTYPE=image/png:https://www.goeldorado.com/wp-content/uploads/2023/07/352469012_1385476558683800_1267246283167767471_n.png
ORGANIZER;CN="SHARE Foundation":MAILTO:acooley@sharefoundation.com
END:VEVENT
BEGIN:VEVENT
DTSTART;TZID=America/Chicago:20230915T200000
DTEND;TZID=America/Chicago:20230915T220000
DTSTAMP:20260422T041546
CREATED:20230901T191114Z
LAST-MODIFIED:20230901T191114Z
UID:10014546-1694808000-1694815200@www.goeldorado.com
SUMMARY:Dave Almond LIVE @ PJ's Coffee
DESCRIPTION:
URL:https://www.goeldorado.com/event/dave-almond-live-pjs-coffee-7/
LOCATION:PJ’s Coffee Shop El Dorado\, 106 W Main\, El Dorado\, AR\, 71730\, United States
CATEGORIES:Live Music
END:VEVENT
BEGIN:VEVENT
DTSTART;TZID=America/Chicago:20230914T183000
DTEND;TZID=America/Chicago:20230914T203000
DTSTAMP:20260422T041546
CREATED:20230906T193739Z
LAST-MODIFIED:20230906T193739Z
UID:10014552-1694716200-1694723400@www.goeldorado.com
SUMMARY:Art Talks w/ Gay Bechtelheimer: Pablo Picasso
DESCRIPTION:
URL:https://www.goeldorado.com/event/art-talks-w-gay-bechtelheimer-pablo-picasso/
LOCATION:South Arkansas Arts Center
CATEGORIES:Arts & Culture,Community,Family and Children
ATTACH;FMTTYPE=image/jpeg:https://www.goeldorado.com/wp-content/uploads/2023/09/art-talk-picasso.jpg
END:VEVENT
BEGIN:VEVENT
DTSTART;TZID=America/Chicago:20230914T170000
DTEND;TZID=America/Chicago:20230914T180000
DTSTAMP:20260422T041546
CREATED:20220809T212644Z
LAST-MODIFIED:20220816T204808Z
UID:10009498-1694710800-1694714400@www.goeldorado.com
SUMMARY:El Dorado City Council Meeting
DESCRIPTION:The City of El Dorado’s City Council meeting to discuss city business. Meeting is open to the public. To be placed on the agenda contact the Mayor’s office or your local Alderman. 
URL:https://www.goeldorado.com/event/el-dorado-city-council-meeting/2023-09-14/
CATEGORIES:Community,Government
END:VEVENT
BEGIN:VEVENT
DTSTART;TZID=America/Chicago:20230913T120000
DTEND;TZID=America/Chicago:20230913T130000
DTSTAMP:20260422T041546
CREATED:20230607T210102Z
LAST-MODIFIED:20230607T210335Z
UID:10014310-1694606400-1694610000@www.goeldorado.com
SUMMARY:Kiwanis Meeting
DESCRIPTION:
URL:https://www.goeldorado.com/event/kiwanis-meeting-2/2023-09-13/
LOCATION:First Presbyterian Church\, 300 E. Main St\, El Dorado
END:VEVENT
BEGIN:VEVENT
DTSTART;TZID=America/Chicago:20230913T113000
DTEND;TZID=America/Chicago:20230913T130000
DTSTAMP:20260422T041546
CREATED:20230816T163539Z
LAST-MODIFIED:20230816T163539Z
UID:10014524-1694604600-1694610000@www.goeldorado.com
SUMMARY:Fall 2023 Economic Outlook Luncheon
DESCRIPTION:To RSVP please email karen@goeldorado.com or contact the Chamber of Commerce
URL:https://www.goeldorado.com/event/fall-2023-economic-outlook-luncheon/
LOCATION:El Dorado Conference Center\, 311 S West Ave\, El Dorado\, 71730\, United States
CATEGORIES:Business,Chamber Of Commerce,Community
ATTACH;FMTTYPE=image/png:https://www.goeldorado.com/wp-content/uploads/2023/08/Economic-Outlook-luncheon.png
END:VEVENT
BEGIN:VEVENT
DTSTART;TZID=America/Chicago:20230912T090000
DTEND;TZID=America/Chicago:20230912T100000
DTSTAMP:20260422T041546
CREATED:20230720T214420Z
LAST-MODIFIED:20230720T214420Z
UID:10014488-1694509200-1694512800@www.goeldorado.com
SUMMARY:Community Causes & Coffee
DESCRIPTION:Each month the Chamber of Commerce hosts all the local Non-profits for a time to network and learn. This month we will hear from Project SOUTH and veterans services available in the community.
URL:https://www.goeldorado.com/event/community-causes-coffee-2/
LOCATION:El Dorado-Union County Chamber of Commerce\, 111 W. Main Street\, El Dorado\, AR\, 71730
CATEGORIES:Business,Chamber Of Commerce
END:VEVENT
BEGIN:VEVENT
DTSTART;TZID=America/Chicago:20230911T160000
DTEND;TZID=America/Chicago:20230911T180000
DTSTAMP:20260422T041546
CREATED:20230901T181914Z
LAST-MODIFIED:20230901T181914Z
UID:10014541-1694448000-1694455200@www.goeldorado.com
SUMMARY:El Dorado Carbon Capture & Storage Project OPEN HOUSE w/ Lapis Energy
DESCRIPTION:Bulletin Board Print CMYK (8.5 11 in)
URL:https://www.goeldorado.com/event/el-dorado-carbon-capture-storage-project-open-house-w-lapis-energy/2023-09-11/2/
LOCATION:The Haywood\, 210 S Washington\, El Dorado\, AR\, 71730\, United States
CATEGORIES:Business,Chamber Of Commerce,Community
ATTACH;FMTTYPE=image/png:https://www.goeldorado.com/wp-content/uploads/2023/09/LSB-open-housr.png
END:VEVENT
BEGIN:VEVENT
DTSTART;TZID=America/Chicago:20230911T090000
DTEND;TZID=America/Chicago:20230911T100000
DTSTAMP:20260422T041546
CREATED:20230905T210829Z
LAST-MODIFIED:20230905T210829Z
UID:10014551-1694422800-1694426400@www.goeldorado.com
SUMMARY:Remembering 9/11:  A memorial Ceremony
DESCRIPTION:
URL:https://www.goeldorado.com/event/remembering-9-11-a-memorial-ceremony/
LOCATION:El Dorado Conference Center\, 311 S West Ave\, El Dorado\, 71730\, United States
CATEGORIES:Clubs/Organizations,Community
ATTACH;FMTTYPE=image/png:https://www.goeldorado.com/wp-content/uploads/2023/09/911-ceremony.png
END:VEVENT
BEGIN:VEVENT
DTSTART;TZID=America/Chicago:20230911T080000
DTEND;TZID=America/Chicago:20230911T103000
DTSTAMP:20260422T041546
CREATED:20230901T181914Z
LAST-MODIFIED:20230901T181914Z
UID:10014540-1694419200-1694428200@www.goeldorado.com
SUMMARY:El Dorado Carbon Capture & Storage Project OPEN HOUSE w/ Lapis Energy
DESCRIPTION:Bulletin Board Print CMYK (8.5 11 in)
URL:https://www.goeldorado.com/event/el-dorado-carbon-capture-storage-project-open-house-w-lapis-energy/2023-09-11/1/
LOCATION:The Haywood\, 210 S Washington\, El Dorado\, AR\, 71730\, United States
CATEGORIES:Business,Chamber Of Commerce,Community
ATTACH;FMTTYPE=image/png:https://www.goeldorado.com/wp-content/uploads/2023/09/LSB-open-housr.png
END:VEVENT
BEGIN:VEVENT
DTSTART;TZID=America/Chicago:20230909T200000
DTEND;TZID=America/Chicago:20230909T220000
DTSTAMP:20260422T041546
CREATED:20230901T191001Z
LAST-MODIFIED:20230901T191001Z
UID:10014545-1694289600-1694296800@www.goeldorado.com
SUMMARY:Josh & Andy LIVE @ PJs Coffee
DESCRIPTION:
URL:https://www.goeldorado.com/event/josh-andy-live-pjs-coffee-2/
LOCATION:PJ’s Coffee Shop El Dorado\, 106 W Main\, El Dorado\, AR\, 71730\, United States
CATEGORIES:Live Music
END:VEVENT
BEGIN:VEVENT
DTSTART;TZID=America/Chicago:20230909T170000
DTEND;TZID=America/Chicago:20230909T213000
DTSTAMP:20260422T041546
CREATED:20230123T171108Z
LAST-MODIFIED:20230123T171108Z
UID:10011027-1694278800-1694295000@www.goeldorado.com
SUMMARY:Bingo @ The VFW
DESCRIPTION:The VFW will be hosting BINGO! Every Saturday night. \nQuarter Bingo starts at 5pm \nRegular Bingo starts at 7pm
URL:https://www.goeldorado.com/event/bingo-the-vfw/2023-09-09/
LOCATION:VFW\, 451 Industrial Rd\, El Dorado\, AR\, 71730\, United States
CATEGORIES:Clubs/Organizations,Community,Recreation & Sports
END:VEVENT
BEGIN:VEVENT
DTSTART;TZID=America/Chicago:20230909T140000
DTEND;TZID=America/Chicago:20230909T163000
DTSTAMP:20260422T041546
CREATED:20230815T211015Z
LAST-MODIFIED:20230815T211015Z
UID:10014506-1694268000-1694277000@www.goeldorado.com
SUMMARY:Beauty & The Beast-Ballet with South Arkansas Symphony Orchestra
DESCRIPTION:Kermit Poling composed the music and will direct the South Arkansas Symphony Orchestra for the event. The Arkansas Festival Ballet directed by Rebecca Stalcup will be perfomring. Beauty & The Beast is a story about a prince that was cast under a spell. His spell could only be broken with true love. A fairy-tale old as time\, he finds love with Belle. They marry and the prine’s spell is broken. They live happily ever after.
URL:https://www.goeldorado.com/event/beauty-the-beast-ballet-with-south-arkansas-symphony-orchestra/
LOCATION:El Dorado Municipal Auditorium\, El Dorado\, AR\, 71730\, United States
CATEGORIES:Arts & Culture,Clubs/Organizations,Family and Children
END:VEVENT
END:VCALENDAR