BEGIN:VCALENDAR
VERSION:2.0
PRODID:-//El Dorado, Arkansas - ECPv6.15.20//NONSGML v1.0//EN
CALSCALE:GREGORIAN
METHOD:PUBLISH
X-WR-CALNAME:El Dorado, Arkansas
X-ORIGINAL-URL:https://www.goeldorado.com
X-WR-CALDESC:Events for El Dorado, Arkansas
REFRESH-INTERVAL;VALUE=DURATION:PT1H
X-Robots-Tag:noindex
X-PUBLISHED-TTL:PT1H
BEGIN:VTIMEZONE
TZID:America/Chicago
BEGIN:DAYLIGHT
TZOFFSETFROM:-0600
TZOFFSETTO:-0500
TZNAME:CDT
DTSTART:20230312T080000
END:DAYLIGHT
BEGIN:STANDARD
TZOFFSETFROM:-0500
TZOFFSETTO:-0600
TZNAME:CST
DTSTART:20231105T070000
END:STANDARD
BEGIN:DAYLIGHT
TZOFFSETFROM:-0600
TZOFFSETTO:-0500
TZNAME:CDT
DTSTART:20240310T080000
END:DAYLIGHT
BEGIN:STANDARD
TZOFFSETFROM:-0500
TZOFFSETTO:-0600
TZNAME:CST
DTSTART:20241103T070000
END:STANDARD
BEGIN:DAYLIGHT
TZOFFSETFROM:-0600
TZOFFSETTO:-0500
TZNAME:CDT
DTSTART:20250309T080000
END:DAYLIGHT
BEGIN:STANDARD
TZOFFSETFROM:-0500
TZOFFSETTO:-0600
TZNAME:CST
DTSTART:20251102T070000
END:STANDARD
END:VTIMEZONE
BEGIN:VEVENT
DTSTART;TZID=America/Chicago:20240530T180000
DTEND;TZID=America/Chicago:20240530T210000
DTSTAMP:20260420T085540
CREATED:20240521T195124Z
LAST-MODIFIED:20240523T153505Z
UID:10019857-1717092000-1717102800@www.goeldorado.com
SUMMARY:Mary Poppins Auditions @ South Arkansas Arts Center
DESCRIPTION:The Lobby will open for registration at 5:30pm. The roles of Jane and Michael are open to anyone who can look 9-12 years old\, but no one younger than 9 years old. All other roles are open to anyone 14 years and older. Sponsored by Murphy USA\, the production team includes Director Ian Aipperspach\, Ph.D.\, Lecturer of Music and Music Director for Musical Theatre at Ouachita Baptist University; Assistant Director Ruth Griffin; and Choreographer Hannah Jade McGaugh.
URL:https://www.goeldorado.com/event/mary-poppins-auditions-south-arkansas-arts-center-2/
LOCATION:South Arkansas Arts Center
CATEGORIES:Arts & Culture,Community
END:VEVENT
BEGIN:VEVENT
DTSTART;TZID=America/Chicago:20240530T180000
DTEND;TZID=America/Chicago:20240530T190000
DTSTAMP:20260420T085540
CREATED:20240520T160609Z
LAST-MODIFIED:20240520T160609Z
UID:10019851-1717092000-1717095600@www.goeldorado.com
SUMMARY:Waiting to Excel Summer Camp @ St John Baptist
DESCRIPTION:The Fairview Community Develpment’s annual Waiting to Excel- Summer Camp kicks of June 10 and runs through July 25 @ the Family Life Building @ St Johns Baptist Church\, 1016 Wilson St. The camp is for Kindergarten-6th grade. \n  \nOpen House will be held Thursday May 30\, 6pm \nFor more information and applications please contact Vicky Dobson at 870-665-0339
URL:https://www.goeldorado.com/event/waiting-to-excel-summer-camp-st-john-baptist/
LOCATION:St John MBC\, 1018 Wilson\, El Dorado\, 71730\, United States
CATEGORIES:Clubs/Organizations,Community,Family and Children
ATTACH;FMTTYPE=image/jpeg:https://www.goeldorado.com/wp-content/uploads/2024/05/IMG_7730.jpeg
END:VEVENT
BEGIN:VEVENT
DTSTART;TZID=America/Chicago:20240530T173000
DTEND;TZID=America/Chicago:20240530T193000
DTSTAMP:20260420T085540
CREATED:20240503T170601Z
LAST-MODIFIED:20240506T162728Z
UID:10018941-1717090200-1717097400@www.goeldorado.com
SUMMARY:Pottery for Beginners
DESCRIPTION:LET’S PLAY IN THE MUD \nThis class is a great introduction to the world of clay\, where you’ll learn to transform a lump into a masterpiece (or at least a cute pinch pot). \nWe’ll focus on fun techniques like pinching and coiling to create funky functional pieces. Get ready to get your hands dirty and unleash your inner artist! \n  \nThis is a two-part class. The first class\, participants will build their pinch pots and coil pots. \nThe second class\, participants will get to glaze one of their creations at \nThe Pottery House located inside Main Street Antiques! \nAll fees included in registration cost.
URL:https://www.goeldorado.com/event/pottery-for-beginners/2024-05-30/
LOCATION:AR
CATEGORIES:Arts & Culture,Community,Continuing Education,Education
ATTACH;FMTTYPE=image/png:https://www.goeldorado.com/wp-content/uploads/2024/05/ComEd-Pottery-for-Beginners-0501624-641-x-1140-px-1.png
END:VEVENT
BEGIN:VEVENT
DTSTART;TZID=America/Chicago:20240530T170000
DTEND;TZID=America/Chicago:20240530T180000
DTSTAMP:20260420T085540
CREATED:20240513T151307Z
LAST-MODIFIED:20240513T151307Z
UID:10018994-1717088400-1717092000@www.goeldorado.com
SUMMARY:A Walk to End Alzheimer's Company Kick-off
DESCRIPTION:
URL:https://www.goeldorado.com/event/a-walk-to-end-alzheimers-company-kick-off/2024-05-30/2/
LOCATION:The Haywood\, 210 S Washington\, El Dorado\, AR\, 71730\, United States
CATEGORIES:Clubs/Organizations,Community
ATTACH;FMTTYPE=image/png:https://www.goeldorado.com/wp-content/uploads/2024/05/Screenshot-47.png
ORGANIZER;CN="Walk to End Alzheimer's South Arkansas":MAILTO:iashuttleworth@alz.org
END:VEVENT
BEGIN:VEVENT
DTSTART;TZID=America/Chicago:20240530T090000
DTEND;TZID=America/Chicago:20240530T100000
DTSTAMP:20260420T085540
CREATED:20240513T151307Z
LAST-MODIFIED:20240513T151307Z
UID:10018993-1717059600-1717063200@www.goeldorado.com
SUMMARY:A Walk to End Alzheimer's Company Kick-off
DESCRIPTION:
URL:https://www.goeldorado.com/event/a-walk-to-end-alzheimers-company-kick-off/2024-05-30/1/
LOCATION:The Haywood\, 210 S Washington\, El Dorado\, AR\, 71730\, United States
CATEGORIES:Clubs/Organizations,Community
ATTACH;FMTTYPE=image/png:https://www.goeldorado.com/wp-content/uploads/2024/05/Screenshot-47.png
ORGANIZER;CN="Walk to End Alzheimer's South Arkansas":MAILTO:iashuttleworth@alz.org
END:VEVENT
BEGIN:VEVENT
DTSTART;TZID=America/Chicago:20240529T180000
DTEND;TZID=America/Chicago:20240529T210000
DTSTAMP:20260420T085540
CREATED:20240521T194620Z
LAST-MODIFIED:20240523T153434Z
UID:10019856-1717005600-1717016400@www.goeldorado.com
SUMMARY:Mary Poppins Auditions @ South Arkansas Arts Center
DESCRIPTION:The Lobby will open for registration at 5:30pm. The roles of Jane and Michael are open to anyone who can look 9-12 years old\, but no one younger than 9 years old. All other roles are open to anyone 14 years and older. Sponsored by Murphy USA\, the production team includes Director Ian Aipperspach\, Ph.D.\, Lecturer of Music and Music Director for Musical Theatre at Ouachita Baptist University; Assistant Director Ruth Griffin; and Choreographer Hannah Jade McGaugh.
URL:https://www.goeldorado.com/event/mary-poppins-auditions-south-arkansas-arts-center/
LOCATION:South Arkansas Arts Center
CATEGORIES:Arts & Culture,Community
END:VEVENT
BEGIN:VEVENT
DTSTART;TZID=America/Chicago:20240529T163000
DTEND;TZID=America/Chicago:20240529T183000
DTSTAMP:20260420T085540
CREATED:20240528T145802Z
LAST-MODIFIED:20240528T145802Z
UID:10020120-1717000200-1717007400@www.goeldorado.com
SUMMARY:Ribbon Cutting & Open House: Gold Cross Urgent Care
DESCRIPTION:
URL:https://www.goeldorado.com/event/ribbon-cutting-open-house-gold-cross-urgent-care-2/
LOCATION:Gold Cross Urgent Care\, 100 E Church St\, El Dorado\, AR\, 71730
CATEGORIES:Business,Chamber Of Commerce
ATTACH;FMTTYPE=image/jpeg:https://www.goeldorado.com/wp-content/uploads/2024/05/Ribbon-Cutting-Gold-Cross.jpg
END:VEVENT
BEGIN:VEVENT
DTSTART;TZID=America/Chicago:20240529T133000
DTEND;TZID=America/Chicago:20240529T143000
DTSTAMP:20260420T085540
CREATED:20240202T153524Z
LAST-MODIFIED:20240202T153524Z
UID:10018282-1716989400-1716993000@www.goeldorado.com
SUMMARY:Wednesday of Wonder @ Barton Library
DESCRIPTION:Wed
URL:https://www.goeldorado.com/event/wednesday-of-wonder-barton-library/2024-05-29/
LOCATION:Barton Library\, 200 E 5th\, El Dorado\, AR\, 71730\, United States
CATEGORIES:Arts & Culture,Community,Education,Family and Children
ATTACH;FMTTYPE=image/jpeg:https://www.goeldorado.com/wp-content/uploads/2024/02/423583792_689582633381336_6789171151967273724_n.jpg
ORGANIZER;CN="Barton Library":MAILTO:eldorado@ucpls.org
END:VEVENT
BEGIN:VEVENT
DTSTART;TZID=America/Chicago:20240528T190000
DTEND;TZID=America/Chicago:20240528T220000
DTSTAMP:20260420T085540
CREATED:20240528T144343Z
LAST-MODIFIED:20240528T144343Z
UID:10020117-1716922800-1716933600@www.goeldorado.com
SUMMARY:NBA Watch Party Featuring Daniel Gafford & Dallas Mavericks @ Hot Shots
DESCRIPTION:Attention FREE WATCH PARTY TOMORROW NIGHT at Hotshots Sports Bar and Grill – El Dorado\, AR Get there early! All Age Fans\nHosted by your Boy Jeremy Owens II 7:00!!\nCome watch Dan Gafford Play on all the tvs!!\nJanell Clithero Dunn #MrMakeItHappen share!\n$2 shot special every time Dan makes a shot! no pressure Dan
URL:https://www.goeldorado.com/event/nba-watch-party-featuring-daniel-gafford-dallas-mavericks-hot-shots/
LOCATION:Hot Shots\, 601 S Timberlane\, El Dorado\, AR\, 71730\, United States
CATEGORIES:Community,Family and Children,Recreation & Sports
ATTACH;FMTTYPE=image/jpeg:https://www.goeldorado.com/wp-content/uploads/2024/05/dan.jpg
END:VEVENT
BEGIN:VEVENT
DTSTART;TZID=America/Chicago:20240525T193000
DTEND;TZID=America/Chicago:20240525T213000
DTSTAMP:20260420T085540
CREATED:20240123T222726Z
LAST-MODIFIED:20240123T222726Z
UID:10017807-1716665400-1716672600@www.goeldorado.com
SUMMARY:Dave Almond LIVE @ DP's Food Truck Park
DESCRIPTION:
URL:https://www.goeldorado.com/event/dave-almond-live-dps-food-truck-park/
LOCATION:DP’s Food Truck Court\, 2117 N College Ave\, 2117 N College Ave\, El Dorado\, AR\, 71730\, United States
CATEGORIES:Business,Community,Family and Children,Live Music
END:VEVENT
BEGIN:VEVENT
DTSTART;TZID=America/Chicago:20240525T170000
DTEND;TZID=America/Chicago:20240525T213000
DTSTAMP:20260420T085540
CREATED:20230123T171108Z
LAST-MODIFIED:20230123T171108Z
UID:10011064-1716656400-1716672600@www.goeldorado.com
SUMMARY:Bingo @ The VFW
DESCRIPTION:The VFW will be hosting BINGO! Every Saturday night. \nQuarter Bingo starts at 5pm \nRegular Bingo starts at 7pm
URL:https://www.goeldorado.com/event/bingo-the-vfw/2024-05-25/
LOCATION:VFW\, 451 Industrial Rd\, El Dorado\, AR\, 71730\, United States
CATEGORIES:Clubs/Organizations,Community,Recreation & Sports
END:VEVENT
BEGIN:VEVENT
DTSTART;TZID=America/Chicago:20240525T160000
DTEND;TZID=America/Chicago:20240525T200000
DTSTAMP:20260420T085540
CREATED:20230628T143043Z
LAST-MODIFIED:20230628T143043Z
UID:10014424-1716652800-1716667200@www.goeldorado.com
SUMMARY:Cruise Night Car Show
DESCRIPTION:
URL:https://www.goeldorado.com/event/cruise-night-car-show/2024-05-25/
LOCATION:Downtown El Dorado\, 101 N. Washington\, El Dorado\, AR\, 71730
CATEGORIES:Clubs/Organizations,Community,Family and Children
ATTACH;FMTTYPE=image/jpeg:https://www.goeldorado.com/wp-content/uploads/2023/06/292313811_354253066884080_3925772226374212086_n.jpg
ORGANIZER;CN="Joe":MAILTO:jjsgourmetbbq@msn.com
END:VEVENT
BEGIN:VEVENT
DTSTART;TZID=America/Chicago:20240523T180000
DTEND;TZID=America/Chicago:20240523T210000
DTSTAMP:20260420T085540
CREATED:20240521T194024Z
LAST-MODIFIED:20240523T153323Z
UID:10019855-1716487200-1716498000@www.goeldorado.com
SUMMARY:Corks and Canvas with Michaela Gross @ South Arkansas Arts Center
DESCRIPTION:Come enjoy a time of relaxation with your friends recreating the featured painting of the night. Paints\, brushes\, and all the supplies are provided\, and SAAC will also be providing snacks.  Participants are welcome to bring their own drink of choice. No experience is needed.
URL:https://www.goeldorado.com/event/corks-and-canvas-with-michaela-gross-south-arkansas-arts-center/
LOCATION:South Arkansas Arts Center
CATEGORIES:Arts & Culture,Community
END:VEVENT
BEGIN:VEVENT
DTSTART;TZID=America/Chicago:20240523T180000
DTEND;TZID=America/Chicago:20240523T200000
DTSTAMP:20260420T085540
CREATED:20240503T165535Z
LAST-MODIFIED:20240503T195020Z
UID:10018858-1716487200-1716494400@www.goeldorado.com
SUMMARY:Bagel Bonanza: A Hands-On Baking Experience
DESCRIPTION:Join chef Scott Enzor for a delightful hands-on bagel-making class! Learn the art of crafting bagels from scratch using simple ingredients. Whether you’re a baking novice or a seasoned dough enthusiast\, you’ll enjoy kneading\, shaping\, and tasting your creations. \nDon’t miss out on the fun – let’s bake\, bond\, and bite into freshly made bagels together!
URL:https://www.goeldorado.com/event/bagel-bonanza-a-hands-on-baking-experience/
LOCATION:AR
CATEGORIES:Community,Education
ATTACH;FMTTYPE=image/png:https://www.goeldorado.com/wp-content/uploads/2024/05/Bagel-Bonanza-640-x-1140-px.png
END:VEVENT
BEGIN:VEVENT
DTSTART;TZID=America/Chicago:20240523T173000
DTEND;TZID=America/Chicago:20240523T193000
DTSTAMP:20260420T085540
CREATED:20240503T170601Z
LAST-MODIFIED:20240506T162728Z
UID:10018940-1716485400-1716492600@www.goeldorado.com
SUMMARY:Pottery for Beginners
DESCRIPTION:LET’S PLAY IN THE MUD \nThis class is a great introduction to the world of clay\, where you’ll learn to transform a lump into a masterpiece (or at least a cute pinch pot). \nWe’ll focus on fun techniques like pinching and coiling to create funky functional pieces. Get ready to get your hands dirty and unleash your inner artist! \n  \nThis is a two-part class. The first class\, participants will build their pinch pots and coil pots. \nThe second class\, participants will get to glaze one of their creations at \nThe Pottery House located inside Main Street Antiques! \nAll fees included in registration cost.
URL:https://www.goeldorado.com/event/pottery-for-beginners/2024-05-23/
LOCATION:AR
CATEGORIES:Arts & Culture,Community,Continuing Education,Education
ATTACH;FMTTYPE=image/png:https://www.goeldorado.com/wp-content/uploads/2024/05/ComEd-Pottery-for-Beginners-0501624-641-x-1140-px-1.png
END:VEVENT
BEGIN:VEVENT
DTSTART;TZID=America/Chicago:20240523T173000
DTEND;TZID=America/Chicago:20240523T193000
DTSTAMP:20260420T085540
CREATED:20240220T154312Z
LAST-MODIFIED:20240220T155145Z
UID:10018365-1716485400-1716492600@www.goeldorado.com
SUMMARY:"A Heart for Other" Art Contest by the CALL at SAAC: Reception
DESCRIPTION:More details coming soon \n  \nReception 5:30 \nPresentation and winner announced 6:30 \n 
URL:https://www.goeldorado.com/event/a-heart-for-other-art-contest-by-the-call-at-saac-reception/
LOCATION:South Arkansas Arts Center
CATEGORIES:Arts & Culture,Community,Family and Children
ORGANIZER;CN="The CALL in Union and Calhoun Counties":MAILTO:khicks@thecallinarkansas.org
END:VEVENT
BEGIN:VEVENT
DTSTART;TZID=America/Chicago:20240521T173000
DTEND;TZID=America/Chicago:20240521T190000
DTSTAMP:20260420T085540
CREATED:20231211T221422Z
LAST-MODIFIED:20240814T202724Z
UID:10016602-1716312600-1716318000@www.goeldorado.com
SUMMARY:Business After Hours @ Cole's Jewelers
DESCRIPTION:
URL:https://www.goeldorado.com/event/business-after-hours/2024-05-21/
LOCATION:Cole’s Jewelers\, 710 N West Ave\, El Dorado\, AR\, 71730
CATEGORIES:Business,Chamber Of Commerce
ATTACH;FMTTYPE=image/png:https://www.goeldorado.com/wp-content/uploads/2023/12/BAH-Coles.png
END:VEVENT
BEGIN:VEVENT
DTSTART;TZID=America/Chicago:20240521T120000
DTEND;TZID=America/Chicago:20240521T130000
DTSTAMP:20260420T085540
CREATED:20240505T185325Z
LAST-MODIFIED:20240506T155203Z
UID:10018860-1716292800-1716296400@www.goeldorado.com
SUMMARY:Maximizing Productivity: Unleashing the Power of Getting Things Done  with Mark Day from Lanxess
DESCRIPTION:Discover the transformative power of Getting Things Done\, inspired by David Allen’s renowned methodology. Learn to efficiently capture all incoming requests\, streamline your inbox processing\, and conquer procrastination by taking decisive actions on tasks. Gain invaluable insights into organizing tasks and projects to optimize productivity and learn to seize the right opportunities at the right moments. Join us for an enlightening session where we’ll explore practical strategies to align your time and resources for true productivity\, not mere busyness. Featuring expert guidance from Mark Day\, this event promises to equip you with essential tools to navigate the complexities of modern productivity with ease. \nLunch will be provided for those who attend.
URL:https://www.goeldorado.com/event/maximizing-productivity-unleashing-the-power-of-getting-things-done-with-mark-day-from-lanxess/
LOCATION:Mahony Family Library\, 300 Summit Ave\, El Dorado\, AR\, 71730\, United States
CATEGORIES:Business,Continuing Education,Education
ATTACH;FMTTYPE=image/png:https://www.goeldorado.com/wp-content/uploads/2024/05/Mark-Day.png
END:VEVENT
BEGIN:VEVENT
DTSTART;TZID=America/Chicago:20240518T193000
DTEND;TZID=America/Chicago:20240518T213000
DTSTAMP:20260420T085540
CREATED:20240123T222620Z
LAST-MODIFIED:20240123T222632Z
UID:10017806-1716060600-1716067800@www.goeldorado.com
SUMMARY:The Golden Boy and the Platinum Band LIVE @ DP's Food Truck Park
DESCRIPTION:
URL:https://www.goeldorado.com/event/the-golden-boy-and-the-platinum-band/
LOCATION:DP’s Food Truck Court\, 2117 N College Ave\, 2117 N College Ave\, El Dorado\, AR\, 71730\, United States
CATEGORIES:Business,Community,Family and Children,Live Music
END:VEVENT
BEGIN:VEVENT
DTSTART;TZID=America/Chicago:20240518T190000
DTEND;TZID=America/Chicago:20240518T210000
DTSTAMP:20260420T085540
CREATED:20240515T183326Z
LAST-MODIFIED:20240515T183326Z
UID:10019850-1716058800-1716066000@www.goeldorado.com
SUMMARY:Jamburger Helper LIVE @ DP's Food Truck Park
DESCRIPTION:
URL:https://www.goeldorado.com/event/jamburger-helper-live-dps-food-truck-park/
LOCATION:DP’s Food Truck Court\, 2117 N College Ave\, 2117 N College Ave\, El Dorado\, AR\, 71730\, United States
CATEGORIES:Live Music
ATTACH;FMTTYPE=image/jpeg:https://www.goeldorado.com/wp-content/uploads/2024/05/442410850_348891721539465_6292534691565235696_n.jpg
END:VEVENT
BEGIN:VEVENT
DTSTART;TZID=America/Chicago:20240518T170000
DTEND;TZID=America/Chicago:20240518T213000
DTSTAMP:20260420T085540
CREATED:20230123T171108Z
LAST-MODIFIED:20230123T171108Z
UID:10011063-1716051600-1716067800@www.goeldorado.com
SUMMARY:Bingo @ The VFW
DESCRIPTION:The VFW will be hosting BINGO! Every Saturday night. \nQuarter Bingo starts at 5pm \nRegular Bingo starts at 7pm
URL:https://www.goeldorado.com/event/bingo-the-vfw/2024-05-18/
LOCATION:VFW\, 451 Industrial Rd\, El Dorado\, AR\, 71730\, United States
CATEGORIES:Clubs/Organizations,Community,Recreation & Sports
END:VEVENT
BEGIN:VEVENT
DTSTART;TZID=America/Chicago:20240517T110000
DTEND;TZID=America/Chicago:20240517T233000
DTSTAMP:20260420T085540
CREATED:20240515T162340Z
LAST-MODIFIED:20240515T162340Z
UID:10019056-1715943600-1715988600@www.goeldorado.com
SUMMARY:Ribbon Cutting: Kamme's Tastey Foods
DESCRIPTION:Join the Chamber of commerce for a Ribbon Cutting for the new food truck\, Kamme’s Tastey Foods & Catering! \nKamme will be set up in the parking lot at the Corner of Washington & Locust Street. See you there at 11am
URL:https://www.goeldorado.com/event/ribbon-cutting-kammes-tastey-foods/
LOCATION:AR
CATEGORIES:Chamber Of Commerce
END:VEVENT
BEGIN:VEVENT
DTSTART;TZID=America/Chicago:20240516T200000
DTEND;TZID=America/Chicago:20240516T220000
DTSTAMP:20260420T085540
CREATED:20240417T205636Z
LAST-MODIFIED:20240417T205636Z
UID:10018844-1715889600-1715896800@www.goeldorado.com
SUMMARY:MAD Hatters at MAD House 101
DESCRIPTION:
URL:https://www.goeldorado.com/event/mad-hatters-at-mad-house-101/
LOCATION:MAD House 101 Restuarant and Bar\, 101 E Locust\, El Dorado\, AR\, 71730\, United States
CATEGORIES:Live Music
ATTACH;FMTTYPE=image/jpeg:https://www.goeldorado.com/wp-content/uploads/2024/04/434780277_445775634490772_8540495273095542681_n.jpg
END:VEVENT
BEGIN:VEVENT
DTSTART;TZID=America/Chicago:20240516T173000
DTEND;TZID=America/Chicago:20240516T193000
DTSTAMP:20260420T085540
CREATED:20240503T170601Z
LAST-MODIFIED:20240506T162728Z
UID:10018859-1715880600-1715887800@www.goeldorado.com
SUMMARY:Pottery for Beginners
DESCRIPTION:LET’S PLAY IN THE MUD \nThis class is a great introduction to the world of clay\, where you’ll learn to transform a lump into a masterpiece (or at least a cute pinch pot). \nWe’ll focus on fun techniques like pinching and coiling to create funky functional pieces. Get ready to get your hands dirty and unleash your inner artist! \n  \nThis is a two-part class. The first class\, participants will build their pinch pots and coil pots. \nThe second class\, participants will get to glaze one of their creations at \nThe Pottery House located inside Main Street Antiques! \nAll fees included in registration cost.
URL:https://www.goeldorado.com/event/pottery-for-beginners/2024-05-16/
LOCATION:AR
CATEGORIES:Arts & Culture,Community,Continuing Education,Education
ATTACH;FMTTYPE=image/png:https://www.goeldorado.com/wp-content/uploads/2024/05/ComEd-Pottery-for-Beginners-0501624-641-x-1140-px-1.png
END:VEVENT
BEGIN:VEVENT
DTSTART;TZID=America/Chicago:20240515T180000
DTEND;TZID=America/Chicago:20240515T190000
DTSTAMP:20260420T085540
CREATED:20240515T182823Z
LAST-MODIFIED:20240515T182823Z
UID:10019849-1715796000-1715799600@www.goeldorado.com
SUMMARY:ONE Razorback Roadshow @ MADHouse 101
DESCRIPTION:  \n  \n\nAttention Razorback Fans! The ONE Razorback Roadshow\, presented by First Security Bank is coming to MAD House 101 Restaurant & Bar this Wednesday from 6pm – 7pm. RSVP now to attend for FREE >> https://bit.ly/3UXxEJB \n\n\n– – –\n\n\nThe ONE Razorback Roadshow\, presented by First Security Bank\, is once again fueled up to travel across the great state of Arkansas connecting and interacting with Razorback fans of all ages beginning on May 13.\n\n\nThe four-day bus tour will feature Vice Chancellor and Director of Athletics Hunter Yurachek and other members of Razorback Athletics\, including coaches\, spirit squads and band members along with Big Red. The ONE Razorback Roadshow is a part of Razorback Athletics’ ongoing commitment to be involved in communities across Arkansas while celebrating the passion and support of the Razorbacks throughout the state.\n\n\nRoadshow events include free\, public receptions where fans can gather to hear from members of Razorback Athletics while also enjoying complimentary appetizers and beverages. Photo opportunities with the Razorback spirit squads and Big Red as well as other Razorback giveaways will be available.\n\n\nFans will have the opportunity to enter to win special prizes\, including complimentary game tickets\, sideline passes to games\, autographed items and special experiences. Various trophies will also be on display showcasing some of the great Razorback moments from this past year.\n\n\nNew this year at each stop\, an official Razorback Road sign will be presented to community leaders as an opportunity to name a street in their city to showcase Razorback pride and spirit.
URL:https://www.goeldorado.com/event/one-razorback-roadshow-madhouse-101/
LOCATION:MAD House 101 Restuarant and Bar\, 101 E Locust\, El Dorado\, AR\, 71730\, United States
CATEGORIES:Community,Family and Children,Recreation & Sports
ATTACH;FMTTYPE=image/jpeg:https://www.goeldorado.com/wp-content/uploads/2024/05/17118258759627017613.jpg
END:VEVENT
BEGIN:VEVENT
DTSTART;VALUE=DATE:20240513
DTEND;VALUE=DATE:20240518
DTSTAMP:20260420T085540
CREATED:20240220T154124Z
LAST-MODIFIED:20240220T154746Z
UID:10018364-1715558400-1715990399@www.goeldorado.com
SUMMARY:"A Heart for Others" an Art Contest by The CALL @ SAAC Submissions open
DESCRIPTION:More Info coming soon
URL:https://www.goeldorado.com/event/a-heart-for-others-an-art-contest-by-the-call-saac-submissions-open/
LOCATION:South Arkansas Arts Center
CATEGORIES:Arts & Culture,Clubs/Organizations,Community,Family and Children
ORGANIZER;CN="The CALL in Union and Calhoun Counties":MAILTO:khicks@thecallinarkansas.org
END:VEVENT
BEGIN:VEVENT
DTSTART;TZID=America/Chicago:20240511T193000
DTEND;TZID=America/Chicago:20240511T213000
DTSTAMP:20260420T085540
CREATED:20240123T222527Z
LAST-MODIFIED:20240123T222527Z
UID:10017805-1715455800-1715463000@www.goeldorado.com
SUMMARY:Machinedog LIVE @ DP's Food Truck Park
DESCRIPTION:
URL:https://www.goeldorado.com/event/machinedog-live-dps-food-truck-park/
LOCATION:DP’s Food Truck Court\, 2117 N College Ave\, 2117 N College Ave\, El Dorado\, AR\, 71730\, United States
CATEGORIES:Business,Community,Family and Children,Live Music
END:VEVENT
BEGIN:VEVENT
DTSTART;TZID=America/Chicago:20240511T170000
DTEND;TZID=America/Chicago:20240511T213000
DTSTAMP:20260420T085540
CREATED:20230123T171108Z
LAST-MODIFIED:20230123T171108Z
UID:10011062-1715446800-1715463000@www.goeldorado.com
SUMMARY:Bingo @ The VFW
DESCRIPTION:The VFW will be hosting BINGO! Every Saturday night. \nQuarter Bingo starts at 5pm \nRegular Bingo starts at 7pm
URL:https://www.goeldorado.com/event/bingo-the-vfw/2024-05-11/
LOCATION:VFW\, 451 Industrial Rd\, El Dorado\, AR\, 71730\, United States
CATEGORIES:Clubs/Organizations,Community,Recreation & Sports
END:VEVENT
BEGIN:VEVENT
DTSTART;TZID=America/Chicago:20240511T140000
DTEND;TZID=America/Chicago:20240511T153000
DTSTAMP:20260420T085540
CREATED:20231017T143645Z
LAST-MODIFIED:20231018T215320Z
UID:10015797-1715436000-1715441400@www.goeldorado.com
SUMMARY:Blippi: The Wonderful World Tour
DESCRIPTION:Blippi is coming to El Dorado for the ultimate curiosity adventure in Blippi: The Wonderful World Tour\, Saturday\, May 11th\, 2024! \nBlippi is coming to your city for the ultimate curiosity adventure in Blippi: The Wonderful World Tour!\nSo\, come on! Dance\, sing\, and learn with Blippi and special guest Meekah as they discover what makes different cities unique and special. Will there be monster trucks\, excavators\, and garbage trucks galore? You bet! So get ready to shake those wiggles out and OJ Twist your way through this brand-new musical party! \nSensory Notice : This show contains flashing lights\, haze (fog)\, and confetti. \n*Ticket not required for children 2 years and younger that are planning to sit in an adults lap. \nBlippi Photo Experience:\nMeet Blippi in one of his very own MACHINES! You and your family will have the opportunity to take your photo with Blippi and one of his favorite machines.\nHere’s how it works: Photo Experience ticket purchasers should go to the Will Call window at the Box Office on the show day to pick up their passes and after-show instructions. Each adult and child (age two and up) in a group must have a Photo Experience ticket in order to attend. The Photo Experience will start shortly after the end of show. \nPlease make sure to bring your camera\, as you will want to capture every moment! \nParents\, please note that while most children are excited to meet their favorite characters up-close\, others can feel frightened. If your child is scared or hesitant to meet Blippi\, we recommend moving to the back of the line; This will allow your child the extra time they may need to warm up to Blippi and see how they interact with other children present. \nFor the safety of all guests and performers\, no touching or hugging will be permitted. \n**Admission to the performance is not included in the Photo Experience ticket. This is a separate upgrade that must be purchased in advance. \n**Children aged 12 and under must be accompanied by a Parent/Guardian. Each Child\, Parent or Guardian must have a show ticket as well as a Photo Experience ticket to attend.
URL:https://www.goeldorado.com/event/blippi-the-wonderful-world-tour/
LOCATION:Murphy Arts District\, 101 E. Locust Street\, El Dorado\, AR\, 71730\, United States
CATEGORIES:Arts & Culture,Community,Family and Children,Live Music
ATTACH;FMTTYPE=image/jpeg:https://www.goeldorado.com/wp-content/uploads/2023/10/BLIPPIANNOUNCE.jpg
END:VEVENT
BEGIN:VEVENT
DTSTART;TZID=America/Chicago:20240511T133000
DTEND;TZID=America/Chicago:20240511T143000
DTSTAMP:20260420T085540
CREATED:20240112T155253Z
LAST-MODIFIED:20240119T162359Z
UID:10017782-1715434200-1715437800@www.goeldorado.com
SUMMARY:Weekend tinkering @ the Museum
DESCRIPTION:If you are looking for a fun and educational activity that will challenge and inspire your child\, Weekend Tinkering at the Arkansas Museum of Natural Resources is a perfect choice for you. Through a variety of programs each month\, participants will have the opportunity to expand their understanding of the 1920s Oil Boom of south Arkansas using STEM (science\, technology\, engineering\, and math) concepts in fun and engaging ways. Sign-up today and see what your child can create. Weekend Tinkering is for ages five and up with a beginner or higher skill level\, and it’s FREE! \n  \nFor details and registration\, please contact Paige Creed at the museum. 870.725.2877 or paige.creed@arkansas.gov
URL:https://www.goeldorado.com/event/weekend-tinkering-the-museum/2024-05-11/
LOCATION:Arkansas Museum of Natural Resources\, 4087 Smackover Hwy\, Smackover\, AR\, 71730\, United States
CATEGORIES:Family and Children
END:VEVENT
END:VCALENDAR