BEGIN:VCALENDAR
VERSION:2.0
PRODID:-//El Dorado, Arkansas - ECPv6.15.20//NONSGML v1.0//EN
CALSCALE:GREGORIAN
METHOD:PUBLISH
X-WR-CALNAME:El Dorado, Arkansas
X-ORIGINAL-URL:https://www.goeldorado.com
X-WR-CALDESC:Events for El Dorado, Arkansas
REFRESH-INTERVAL;VALUE=DURATION:PT1H
X-Robots-Tag:noindex
X-PUBLISHED-TTL:PT1H
BEGIN:VTIMEZONE
TZID:America/Chicago
BEGIN:DAYLIGHT
TZOFFSETFROM:-0600
TZOFFSETTO:-0500
TZNAME:CDT
DTSTART:20230312T080000
END:DAYLIGHT
BEGIN:STANDARD
TZOFFSETFROM:-0500
TZOFFSETTO:-0600
TZNAME:CST
DTSTART:20231105T070000
END:STANDARD
BEGIN:DAYLIGHT
TZOFFSETFROM:-0600
TZOFFSETTO:-0500
TZNAME:CDT
DTSTART:20240310T080000
END:DAYLIGHT
BEGIN:STANDARD
TZOFFSETFROM:-0500
TZOFFSETTO:-0600
TZNAME:CST
DTSTART:20241103T070000
END:STANDARD
BEGIN:DAYLIGHT
TZOFFSETFROM:-0600
TZOFFSETTO:-0500
TZNAME:CDT
DTSTART:20250309T080000
END:DAYLIGHT
BEGIN:STANDARD
TZOFFSETFROM:-0500
TZOFFSETTO:-0600
TZNAME:CST
DTSTART:20251102T070000
END:STANDARD
END:VTIMEZONE
BEGIN:VEVENT
DTSTART;TZID=America/Chicago:20240727T090000
DTEND;TZID=America/Chicago:20240727T150000
DTSTAMP:20260419T075248
CREATED:20240524T155223Z
LAST-MODIFIED:20240528T143640Z
UID:10019863-1722070800-1722092400@www.goeldorado.com
SUMMARY:Portrait Photography Workshop with Lisa Burton Tarver @ SAAC
DESCRIPTION:Participants will have the use of lighting and backdrops.  Bring your subject.  Participants will take pictures and print them out and then will matte the 4×6 photographs. Bring camera with an SD card or your iPhone.
URL:https://www.goeldorado.com/event/portrait-photography-workshop-with-lisa-burton-tarver-saac/
LOCATION:South Arkansas Arts Center
CATEGORIES:Arts & Culture,Community,Education
END:VEVENT
BEGIN:VEVENT
DTSTART;TZID=America/Chicago:20240727T160000
DTEND;TZID=America/Chicago:20240727T200000
DTSTAMP:20260419T075248
CREATED:20230628T143043Z
LAST-MODIFIED:20230628T143043Z
UID:10014426-1722096000-1722110400@www.goeldorado.com
SUMMARY:Cruise Night Car Show
DESCRIPTION:
URL:https://www.goeldorado.com/event/cruise-night-car-show/2024-07-27/
LOCATION:Downtown El Dorado\, 101 N. Washington\, El Dorado\, AR\, 71730
CATEGORIES:Clubs/Organizations,Community,Family and Children
ATTACH;FMTTYPE=image/jpeg:https://www.goeldorado.com/wp-content/uploads/2023/06/292313811_354253066884080_3925772226374212086_n.jpg
ORGANIZER;CN="Joe":MAILTO:jjsgourmetbbq@msn.com
END:VEVENT
BEGIN:VEVENT
DTSTART;TZID=America/Chicago:20240727T170000
DTEND;TZID=America/Chicago:20240727T213000
DTSTAMP:20260419T075248
CREATED:20230123T171108Z
LAST-MODIFIED:20230123T171108Z
UID:10011073-1722099600-1722115800@www.goeldorado.com
SUMMARY:Bingo @ The VFW
DESCRIPTION:The VFW will be hosting BINGO! Every Saturday night. \nQuarter Bingo starts at 5pm \nRegular Bingo starts at 7pm
URL:https://www.goeldorado.com/event/bingo-the-vfw/2024-07-27/
LOCATION:VFW\, 451 Industrial Rd\, El Dorado\, AR\, 71730\, United States
CATEGORIES:Clubs/Organizations,Community,Recreation & Sports
END:VEVENT
BEGIN:VEVENT
DTSTART;TZID=America/Chicago:20240727T180000
DTEND;TZID=America/Chicago:20240727T193000
DTSTAMP:20260419T075248
CREATED:20240621T175915Z
LAST-MODIFIED:20240624T150652Z
UID:10020254-1722103200-1722108600@www.goeldorado.com
SUMMARY:Artists' Reception for Gary and Christopher Bachers and Mandy Mooneyham @ South Arkansas Arts Center
DESCRIPTION:Join SAAC for an opening artists’ reception for Texas father and son duo Gary and Christopher Bachers and for Paragould\, Arkansas artist Mandy Mooneyham.
URL:https://www.goeldorado.com/event/artists-reception-for-gary-and-christopher-bachers-and-mandy-mooneyham-south-arkansas-arts-center/
LOCATION:South Arkansas Arts Center
CATEGORIES:Arts & Culture,Community,Family and Children
END:VEVENT
BEGIN:VEVENT
DTSTART;TZID=America/Chicago:20240727T190000
DTEND;TZID=America/Chicago:20240727T223000
DTSTAMP:20260419T075248
CREATED:20240515T182422Z
LAST-MODIFIED:20240515T182422Z
UID:10019848-1722106800-1722119400@www.goeldorado.com
SUMMARY:Le'Andria Johnson LIVE @ Murphy Arts District
DESCRIPTION:  \n\nJayO Productions and MAD presents: Grammy winning Gospel artist\, Le’Andria Johnson and friends!\n\n\nSaturday\, July 27th | First Financial Music Hall | 7pm\n\n\nTickets on sale this week!\nMAD Members Presale: Tuesday\, May 14th @ 10am (w/ promo code)\nPublic: Wednesday\, May 15th @ 10am (no promo code needed)\n\n\nReserved Pit Table Seating – $75 (per seat\, 4 seats per table / front of stage)\nReserved Seating – $60\nGeneral Admission Seating $33 (Early Bird through June 3rd)\, $40 (Regular)\n\n\n Tickets at >> https://bit.ly/3JZkfdB\n\n 
URL:https://www.goeldorado.com/event/leandria-johnson-live-murphy-arts-district/
LOCATION:Murphy Arts District\, 101 E. Locust Street\, El Dorado\, AR\, 71730\, United States
CATEGORIES:Community,Live Music
ATTACH;FMTTYPE=image/jpeg:https://www.goeldorado.com/wp-content/uploads/2024/05/443719226_469130572155278_6823781516975656023_n.jpg
END:VEVENT
BEGIN:VEVENT
DTSTART;VALUE=DATE:20240729
DTEND;VALUE=DATE:20240906
DTSTAMP:20260419T075248
CREATED:20240524T161032Z
LAST-MODIFIED:20240528T143955Z
UID:10020115-1722211200-1725580799@www.goeldorado.com
SUMMARY:Mandy Mooneyham Art Exhibition @ South Arkansas Arts Center
DESCRIPTION:Paragould\, Arkansas native Mandy Mooneyham’s exhibition “The Chree Show” will be in the Lobby Gallery at the South Arkansas Arts Center.
URL:https://www.goeldorado.com/event/mandy-mooneyham-art-exhibition-south-arkansas-arts-center/
LOCATION:South Arkansas Arts Center
CATEGORIES:Arts & Culture,Community,Education
END:VEVENT
BEGIN:VEVENT
DTSTART;VALUE=DATE:20240729
DTEND;VALUE=DATE:20240906
DTSTAMP:20260419T075248
CREATED:20240524T162240Z
LAST-MODIFIED:20240528T144031Z
UID:10020116-1722211200-1725580799@www.goeldorado.com
SUMMARY:Gary Bachers and Christopher Bachers Art Exhibition @ SAAC
DESCRIPTION:Father and son will have an exhibit together for the first time ever in the Markle and Price Galleries at SAAC. Gary was excited about sharing an exhibit with his son. Sadly\, Gary passed away last August\, 2023\, but Gary’s wife and his son both wanted to carry on with this exhibit. Art was a second career for Dr. Gary Bachers\, and he pursued it with the same passion as he did his first.  Against all odds he survived a devastating stroke at the prime of his life.  The stroke left him with expressive aphasia\, robbing him of the ability to converse or to write as well as leaving him without use of his right side. The transition from physician to artist was not an easy one but he painstakingly trained his left hand to create award winning colored pencil works that are brilliant and vivid\, masterfully created. His art became his language.  These works often challenge preconceptions the viewers may have about pencil art works. For Bachers\, his art truly was the art of living!
URL:https://www.goeldorado.com/event/gary-bachers-and-christopher-bachers-art-exhibition-saac/
LOCATION:South Arkansas Arts Center
CATEGORIES:Arts & Culture,Community
END:VEVENT
BEGIN:VEVENT
DTSTART;TZID=America/Chicago:20240729T080000
DTEND;TZID=America/Chicago:20240802T170000
DTSTAMP:20260419T075248
CREATED:20240515T174326Z
LAST-MODIFIED:20240515T175323Z
UID:10019471-1722240000-1722618000@www.goeldorado.com
SUMMARY:Pencil Drawing Camp @ SAAC
DESCRIPTION:$120 \nEntering Grade 4-12 \ninstructor: Mike Means
URL:https://www.goeldorado.com/event/pencil-drawing-camp-saac/
LOCATION:South Arkansas Arts Center
CATEGORIES:Arts & Culture,Community,Family and Children
ATTACH;FMTTYPE=image/jpeg:https://www.goeldorado.com/wp-content/uploads/2024/05/saac-camp.jpg
END:VEVENT
BEGIN:VEVENT
DTSTART;TZID=America/Chicago:20240729T080000
DTEND;TZID=America/Chicago:20240802T170000
DTSTAMP:20260419T075248
CREATED:20240515T174445Z
LAST-MODIFIED:20240515T175356Z
UID:10019472-1722240000-1722618000@www.goeldorado.com
SUMMARY:Musical Theater Dance Camp @ SAAC
DESCRIPTION:$120 \nGrades 6-12 \ninstructor: Bekah \nCamp Performance of Wicked on Friday at 6pm
URL:https://www.goeldorado.com/event/musical-theater-dance-camp-saac/
LOCATION:South Arkansas Arts Center
CATEGORIES:Arts & Culture,Community,Family and Children
ATTACH;FMTTYPE=image/jpeg:https://www.goeldorado.com/wp-content/uploads/2024/05/saac-camp.jpg
END:VEVENT
BEGIN:VEVENT
DTSTART;TZID=America/Chicago:20240730T193000
DTEND;TZID=America/Chicago:20240730T223000
DTSTAMP:20260419T075248
CREATED:20240425T164449Z
LAST-MODIFIED:20240606T133214Z
UID:10018854-1722367800-1722378600@www.goeldorado.com
SUMMARY:Blues Traveler with Big Head Todd & the Monsters
DESCRIPTION:Blues Traveler & Big Head Todd and the Monsters Team Up for Epic \nCo-Headline Summer Tour \nThe “Blue Monsters Tour 2024” will Feature Hit Songs Spanning Both Bands’ Nearly 40-Year Careers \nAfter a highly-successful run last summer\, Grammy® Award-winning artist Blues Traveler and Platinum-Selling rockers Big Head Todd and the Monsters have announced that they are\, once again\, bringing the “Blue Monsters Tour” to venues across the country. Featuring an arsenal of songs from over three decades\, including both the smash hits that defined their careers as well as rarely performed live gems\, the coveted co-headline tour was hailed as one of the best of the 2023 season by critics and fans alike.
URL:https://www.goeldorado.com/event/blues-traveler-with-big-head-todd-the-monsters/
LOCATION:First Financial Music hall\, 101 E Locust\, El Dorado\, AR\, 71730\, United States
CATEGORIES:Live Music
ATTACH;FMTTYPE=image/jpeg:https://www.goeldorado.com/wp-content/uploads/2024/04/BT-BHTM_Summer-Tour-2024_El-Dorado_1080x1080.jpg
END:VEVENT
BEGIN:VEVENT
DTSTART;TZID=America/Chicago:20240801T190000
DTEND;TZID=America/Chicago:20240801T200000
DTSTAMP:20260419T075248
CREATED:20240723T170847Z
LAST-MODIFIED:20240723T173559Z
UID:10020656-1722538800-1722542400@www.goeldorado.com
SUMMARY:Hope Landing Annual Talent Show: "Toes in the Sand!"
DESCRIPTION:
URL:https://www.goeldorado.com/event/hope-landing-annual-talent-show-toes-in-the-sand/
LOCATION:South Arkansas Arts Center
CATEGORIES:Community,Family and Children
ATTACH;FMTTYPE=image/png:https://www.goeldorado.com/wp-content/uploads/2024/07/Talent-Show-Flyer-2024.png
END:VEVENT
BEGIN:VEVENT
DTSTART;TZID=America/Chicago:20240803T170000
DTEND;TZID=America/Chicago:20240803T213000
DTSTAMP:20260419T075248
CREATED:20230123T171108Z
LAST-MODIFIED:20230123T171108Z
UID:10011074-1722704400-1722720600@www.goeldorado.com
SUMMARY:Bingo @ The VFW
DESCRIPTION:The VFW will be hosting BINGO! Every Saturday night. \nQuarter Bingo starts at 5pm \nRegular Bingo starts at 7pm
URL:https://www.goeldorado.com/event/bingo-the-vfw/2024-08-03/
LOCATION:VFW\, 451 Industrial Rd\, El Dorado\, AR\, 71730\, United States
CATEGORIES:Clubs/Organizations,Community,Recreation & Sports
END:VEVENT
BEGIN:VEVENT
DTSTART;TZID=America/Chicago:20240803T200000
DTEND;TZID=America/Chicago:20240803T220000
DTSTAMP:20260419T075248
CREATED:20240801T203244Z
LAST-MODIFIED:20240806T155059Z
UID:10021032-1722715200-1722722400@www.goeldorado.com
SUMMARY:JIMMY LEWIS AND THE 8 SECOND RIDE @ MAD HOUSE 101
DESCRIPTION:JIMMY LEWIS AND THE 8 SECOND RIDE\nSATURDAY @ 8:00PM – 10:00PM(CST)\n\n\nFree music. NO cover charge \nCome early grab dinner and a seat…. \nFirst come first serve. \nRestaurant opens at 5 pm. \nCome party with Jimmy Lewis and 8 Second Ride!
URL:https://www.goeldorado.com/event/jimmy-lewis-and-the-8-second-ride-mad-house-101/
LOCATION:MAD House 101 Restuarant and Bar\, 101 E Locust\, El Dorado\, AR\, 71730\, United States
CATEGORIES:Live Music
END:VEVENT
BEGIN:VEVENT
DTSTART;TZID=America/Chicago:20240805T080000
DTEND;TZID=America/Chicago:20240808T170000
DTSTAMP:20260419T075248
CREATED:20240515T174646Z
LAST-MODIFIED:20240515T175436Z
UID:10019473-1722844800-1723136400@www.goeldorado.com
SUMMARY:Ballet Camp SR @ SAAC
DESCRIPTION:$120 \nGrades entering 6 & Up \ninstructors: Stephanie Lowery & Cami Lowrey
URL:https://www.goeldorado.com/event/ballet-camp-sr-saac/
LOCATION:South Arkansas Arts Center
CATEGORIES:Arts & Culture,Community,Family and Children
ATTACH;FMTTYPE=image/jpeg:https://www.goeldorado.com/wp-content/uploads/2024/05/saac-camp.jpg
END:VEVENT
BEGIN:VEVENT
DTSTART;TZID=America/Chicago:20240805T080000
DTEND;TZID=America/Chicago:20240808T170000
DTSTAMP:20260419T075248
CREATED:20240515T174810Z
LAST-MODIFIED:20240515T174836Z
UID:10019474-1722844800-1723136400@www.goeldorado.com
SUMMARY:Ballet Camp Jr @ SAAC
DESCRIPTION:$120 \nGrades 1-5 \nInstructor: Stephanie Lowrey & Cami Lowrey \nPerformance “where the wild things are” Thursday at 6pm
URL:https://www.goeldorado.com/event/ballet-camp-jr-saac/
LOCATION:South Arkansas Arts Center
CATEGORIES:Arts & Culture,Community,Family and Children
ATTACH;FMTTYPE=image/jpeg:https://www.goeldorado.com/wp-content/uploads/2024/05/saac-camp.jpg
END:VEVENT
BEGIN:VEVENT
DTSTART;TZID=America/Chicago:20240805T130000
DTEND;TZID=America/Chicago:20240808T160000
DTSTAMP:20260419T075248
CREATED:20240611T152526Z
LAST-MODIFIED:20240611T192928Z
UID:10020167-1722862800-1723132800@www.goeldorado.com
SUMMARY:Pencil Drawing Special Focus Camp @ South Arkansas Arts Center
DESCRIPTION:Students entering grades 4-12 are invited to join area artist Mike Means at SAAC for a “Pencil Drawing Special Focus Camp.”
URL:https://www.goeldorado.com/event/pencil-drawing-special-focus-camp-south-arkansas-arts-center/
LOCATION:South Arkansas Arts Center
CATEGORIES:Arts & Culture,Family and Children
END:VEVENT
BEGIN:VEVENT
DTSTART;TZID=America/Chicago:20240806T200000
DTEND;TZID=America/Chicago:20240806T220000
DTSTAMP:20260419T075248
CREATED:20240627T150534Z
LAST-MODIFIED:20240627T150534Z
UID:10020266-1722974400-1722981600@www.goeldorado.com
SUMMARY:Late Night Musical Celebration
DESCRIPTION:
URL:https://www.goeldorado.com/event/late-night-musical-celebration/
LOCATION:El Dorado Municipal Auditorium\, El Dorado\, AR\, 71730\, United States
CATEGORIES:Community,Family and Children,Live Music
ATTACH;FMTTYPE=image/jpeg:https://www.goeldorado.com/wp-content/uploads/2024/06/187812290_4295488430541350_9200527807144247048_n.jpg
END:VEVENT
BEGIN:VEVENT
DTSTART;TZID=America/Chicago:20240808T170000
DTEND;TZID=America/Chicago:20240808T180000
DTSTAMP:20260419T075248
CREATED:20220809T212644Z
LAST-MODIFIED:20220816T204808Z
UID:10009509-1723136400-1723140000@www.goeldorado.com
SUMMARY:El Dorado City Council Meeting
DESCRIPTION:The City of El Dorado’s City Council meeting to discuss city business. Meeting is open to the public. To be placed on the agenda contact the Mayor’s office or your local Alderman. 
URL:https://www.goeldorado.com/event/el-dorado-city-council-meeting/2024-08-08/
CATEGORIES:Community,Government
END:VEVENT
BEGIN:VEVENT
DTSTART;TZID=America/Chicago:20240809T130000
DTEND;TZID=America/Chicago:20240809T140000
DTSTAMP:20260419T075248
CREATED:20240515T171034Z
LAST-MODIFIED:20240515T171034Z
UID:10019086-1723208400-1723212000@www.goeldorado.com
SUMMARY:Story Time w/ Outreach Ministry @ Strong Library: Kids Summer Reading
DESCRIPTION:
URL:https://www.goeldorado.com/event/story-time-w-outreach-ministry-strong-library-kids-summer-reading/
LOCATION:strong library\, 2299 W 2nd Ave\, Strong\, AR\, 71765
CATEGORIES:Community,Family and Children
ORGANIZER;CN="Barton Library":MAILTO:eldorado@ucpls.org
END:VEVENT
BEGIN:VEVENT
DTSTART;TZID=America/Chicago:20240809T190000
DTEND;TZID=America/Chicago:20240809T220000
DTSTAMP:20260419T075248
CREATED:20240808T181853Z
LAST-MODIFIED:20240808T181853Z
UID:10021039-1723230000-1723240800@www.goeldorado.com
SUMMARY:DJ Treymoney @ DP's Food Truck Park
DESCRIPTION:
URL:https://www.goeldorado.com/event/dj-treymoney-dps-food-truck-park/
LOCATION:DP’s Food Truck Court\, 2117 N College Ave\, 2117 N College Ave\, El Dorado\, AR\, 71730\, United States
CATEGORIES:Community,Live Music
ATTACH;FMTTYPE=image/jpeg:https://www.goeldorado.com/wp-content/uploads/2024/08/453306308_398231139938856_2908767665693716543_n.jpg
END:VEVENT
BEGIN:VEVENT
DTSTART;TZID=America/Chicago:20240810T100000
DTEND;TZID=America/Chicago:20240810T220000
DTSTAMP:20260419T075248
CREATED:20240808T182611Z
LAST-MODIFIED:20240808T182611Z
UID:10021043-1723284000-1723327200@www.goeldorado.com
SUMMARY:Battle at the Turf @ El Dorado-Union County Rec Complex
DESCRIPTION:
URL:https://www.goeldorado.com/event/battle-at-the-turf-el-dorado-union-county-rec-complex/
LOCATION:El Dorado-Union County Recreation Complex\, 2409 Champagnolle Rd\, El Dorado\, AR\, 71730
CATEGORIES:Community,Recreation & Sports
ATTACH;FMTTYPE=image/jpeg:https://www.goeldorado.com/wp-content/uploads/2024/08/454539991_1000525198533682_4831636540286246640_n.jpg
END:VEVENT
BEGIN:VEVENT
DTSTART;TZID=America/Chicago:20240810T130000
DTEND;TZID=America/Chicago:20240810T170000
DTSTAMP:20260419T075248
CREATED:20240627T160621Z
LAST-MODIFIED:20240627T160755Z
UID:10020267-1723294800-1723309200@www.goeldorado.com
SUMMARY:Back 2 School Community Party @ MAD PlayScape
DESCRIPTION:Screenshot
URL:https://www.goeldorado.com/event/back-2-school-community-party-mad-playscape/
LOCATION:MAD Playscape\, 101 E Locust
CATEGORIES:Education,Family and Children
ATTACH;FMTTYPE=image/jpeg:https://www.goeldorado.com/wp-content/uploads/2024/06/IMG_1025.jpeg
END:VEVENT
BEGIN:VEVENT
DTSTART;TZID=America/Chicago:20240810T133000
DTEND;TZID=America/Chicago:20240810T143000
DTSTAMP:20260419T075248
CREATED:20240112T155253Z
LAST-MODIFIED:20240119T162359Z
UID:10017785-1723296600-1723300200@www.goeldorado.com
SUMMARY:Weekend tinkering @ the Museum
DESCRIPTION:If you are looking for a fun and educational activity that will challenge and inspire your child\, Weekend Tinkering at the Arkansas Museum of Natural Resources is a perfect choice for you. Through a variety of programs each month\, participants will have the opportunity to expand their understanding of the 1920s Oil Boom of south Arkansas using STEM (science\, technology\, engineering\, and math) concepts in fun and engaging ways. Sign-up today and see what your child can create. Weekend Tinkering is for ages five and up with a beginner or higher skill level\, and it’s FREE! \n  \nFor details and registration\, please contact Paige Creed at the museum. 870.725.2877 or paige.creed@arkansas.gov
URL:https://www.goeldorado.com/event/weekend-tinkering-the-museum/2024-08-10/
LOCATION:Arkansas Museum of Natural Resources\, 4087 Smackover Hwy\, Smackover\, AR\, 71730\, United States
CATEGORIES:Family and Children
END:VEVENT
BEGIN:VEVENT
DTSTART;TZID=America/Chicago:20240810T170000
DTEND;TZID=America/Chicago:20240810T213000
DTSTAMP:20260419T075248
CREATED:20230123T171108Z
LAST-MODIFIED:20230123T171108Z
UID:10011075-1723309200-1723325400@www.goeldorado.com
SUMMARY:Bingo @ The VFW
DESCRIPTION:The VFW will be hosting BINGO! Every Saturday night. \nQuarter Bingo starts at 5pm \nRegular Bingo starts at 7pm
URL:https://www.goeldorado.com/event/bingo-the-vfw/2024-08-10/
LOCATION:VFW\, 451 Industrial Rd\, El Dorado\, AR\, 71730\, United States
CATEGORIES:Clubs/Organizations,Community,Recreation & Sports
END:VEVENT
BEGIN:VEVENT
DTSTART;TZID=America/Chicago:20240810T183000
DTEND;TZID=America/Chicago:20240810T230000
DTSTAMP:20260419T075248
CREATED:20240806T155625Z
LAST-MODIFIED:20240806T155625Z
UID:10021036-1723314600-1723330800@www.goeldorado.com
SUMMARY:Karaoke with DJ Henry Frisby @ MAD House 101
DESCRIPTION:
URL:https://www.goeldorado.com/event/karaoke-with-dj-henry-frisby-mad-house-101/
LOCATION:MAD House 101 Restuarant and Bar\, 101 E Locust\, El Dorado\, AR\, 71730\, United States
CATEGORIES:Clubs/Organizations,Community,Live Music
ATTACH;FMTTYPE=image/jpeg:https://www.goeldorado.com/wp-content/uploads/2024/08/453879290_518523967215938_6031423621580336913_n.jpg
END:VEVENT
BEGIN:VEVENT
DTSTART;TZID=America/Chicago:20240810T190000
DTEND;TZID=America/Chicago:20240810T220000
DTSTAMP:20260419T075248
CREATED:20240808T182111Z
LAST-MODIFIED:20240808T182111Z
UID:10021040-1723316400-1723327200@www.goeldorado.com
SUMMARY:Blake Anglin LIVE @ DP's Food Truck Park
DESCRIPTION:
URL:https://www.goeldorado.com/event/blake-anglin-live-dps-food-truck-park/
LOCATION:DP’s Food Truck Court\, 2117 N College Ave\, 2117 N College Ave\, El Dorado\, AR\, 71730\, United States
CATEGORIES:Community,Live Music
ATTACH;FMTTYPE=image/jpeg:https://www.goeldorado.com/wp-content/uploads/2024/08/454528104_402728349489135_5241982038674688849_n.jpg
END:VEVENT
BEGIN:VEVENT
DTSTART;TZID=America/Chicago:20240811T140000
DTEND;TZID=America/Chicago:20240811T150000
DTSTAMP:20260419T075248
CREATED:20240719T195652Z
LAST-MODIFIED:20240722T204550Z
UID:10020655-1723384800-1723388400@www.goeldorado.com
SUMMARY:Author of "Naming Arkansas\," Daniel Boice\, Book Signing
DESCRIPTION:The Union County Genealogical Society has teamed up with the Southern Arkansas Historical Preservation Society to bring you an exciting event featuring a special presentation and book signing by the renowned author of “Naming Arkansas\,” Daniel Boice. This one-of-a-kind event is open to the public and will take place at the Barton Library. Please use the back door for entry.
URL:https://www.goeldorado.com/event/author-of-naming-arkansas-daniel-boice-book-signing/
LOCATION:Barton Library\, 200 E 5th\, El Dorado\, AR\, 71730\, United States
CATEGORIES:Clubs/Organizations,Community
ORGANIZER;CN="South Arkansas Historical Preservation Society":MAILTO:info@soarkhistory.com
END:VEVENT
BEGIN:VEVENT
DTSTART;TZID=America/Chicago:20240812T100000
DTEND;TZID=America/Chicago:20240812T180000
DTSTAMP:20260419T075248
CREATED:20240806T160258Z
LAST-MODIFIED:20240806T160258Z
UID:10021037-1723456800-1723485600@www.goeldorado.com
SUMMARY:
DESCRIPTION:sew back to school
URL:https://www.goeldorado.com/event/10025/
LOCATION:Sewphisticated Hair Studio\, 503 N West Ave\, El Dorado\, AR\, 71730
CATEGORIES:Education,Family and Children
ATTACH;FMTTYPE=image/png:https://www.goeldorado.com/wp-content/uploads/2024/08/Screenshot-53.png
END:VEVENT
BEGIN:VEVENT
DTSTART;TZID=America/Chicago:20240812T100000
DTEND;TZID=America/Chicago:20240812T180000
DTSTAMP:20260419T075248
CREATED:20240808T163200Z
LAST-MODIFIED:20240808T163200Z
UID:10021038-1723456800-1723485600@www.goeldorado.com
SUMMARY:Back to School Party @ Sewphisiticated Hair Studio
DESCRIPTION:
URL:https://www.goeldorado.com/event/back-to-school-party-sewphisiticated-hair-studio/
LOCATION:Sewphisticated Hair Studio\, 503 N West Ave\, El Dorado\, AR\, 71730
CATEGORIES:Community,Education,Family and Children,Schools
ATTACH;FMTTYPE=image/png:https://www.goeldorado.com/wp-content/uploads/2024/08/Screenshot-53.png
END:VEVENT
BEGIN:VEVENT
DTSTART;TZID=America/Chicago:20240813T163000
DTEND;TZID=America/Chicago:20240813T173000
DTSTAMP:20260419T075248
CREATED:20240801T203352Z
LAST-MODIFIED:20240806T155124Z
UID:10021033-1723566600-1723570200@www.goeldorado.com
SUMMARY:How to Leverage AI as an Educator
DESCRIPTION:Join us for an insightful session on leveraging AI to transform your teaching experience. Discover how AI can eliminate administrative drudgery\, allowing you to use your limited time more strategically. This presentation will cover: \n\nUtilizing AI tools for automated lesson planning and grading\nCreating personalized learning paths for students\nEnhancing educational content with AI-generated resources\n\nThis lecture is designed to attract educators from across the county who are eager to enhance their efficiency and effectiveness in the classroom. Learn practical tips and strategies to integrate AI into your teaching practice and revolutionize your educational approach.
URL:https://www.goeldorado.com/event/how-to-leverage-ai-as-an-educator/
LOCATION:Mahony Family Library\, 300 Summit Ave\, El Dorado\, AR\, 71730\, United States
CATEGORIES:Community,Continuing Education,Education
END:VEVENT
END:VCALENDAR