BEGIN:VCALENDAR
VERSION:2.0
PRODID:-//El Dorado, Arkansas - ECPv6.15.20//NONSGML v1.0//EN
CALSCALE:GREGORIAN
METHOD:PUBLISH
X-ORIGINAL-URL:https://www.goeldorado.com
X-WR-CALDESC:Events for El Dorado, Arkansas
REFRESH-INTERVAL;VALUE=DURATION:PT1H
X-Robots-Tag:noindex
X-PUBLISHED-TTL:PT1H
BEGIN:VTIMEZONE
TZID:America/Chicago
BEGIN:DAYLIGHT
TZOFFSETFROM:-0600
TZOFFSETTO:-0500
TZNAME:CDT
DTSTART:20220313T080000
END:DAYLIGHT
BEGIN:STANDARD
TZOFFSETFROM:-0500
TZOFFSETTO:-0600
TZNAME:CST
DTSTART:20221106T070000
END:STANDARD
BEGIN:DAYLIGHT
TZOFFSETFROM:-0600
TZOFFSETTO:-0500
TZNAME:CDT
DTSTART:20230312T080000
END:DAYLIGHT
BEGIN:STANDARD
TZOFFSETFROM:-0500
TZOFFSETTO:-0600
TZNAME:CST
DTSTART:20231105T070000
END:STANDARD
BEGIN:DAYLIGHT
TZOFFSETFROM:-0600
TZOFFSETTO:-0500
TZNAME:CDT
DTSTART:20240310T080000
END:DAYLIGHT
BEGIN:STANDARD
TZOFFSETFROM:-0500
TZOFFSETTO:-0600
TZNAME:CST
DTSTART:20241103T070000
END:STANDARD
END:VTIMEZONE
BEGIN:VEVENT
DTSTART;TZID=America/Chicago:20231208T173000
DTEND;TZID=America/Chicago:20231208T183000
DTSTAMP:20260421T214906
CREATED:20231107T172519Z
LAST-MODIFIED:20231107T172519Z
UID:10016286-1702056600-1702060200@www.goeldorado.com
SUMMARY:Holiday Lights Extravaganza @ Natural Resource Museum
DESCRIPTION:$10 a car load \nThis is a must see lighting display.
URL:https://www.goeldorado.com/event/holiday-lights-extravaganza-natural-resource-museum-4/2023-12-08/
CATEGORIES:Arts & Culture,Community,Family and Children,Festivals & Celebrations,Holiday
END:VEVENT
BEGIN:VEVENT
DTSTART;VALUE=DATE:20231209
DTEND;VALUE=DATE:20231210
DTSTAMP:20260421T214906
CREATED:20230130T204206Z
LAST-MODIFIED:20230130T204206Z
UID:10012016-1702080000-1702166399@www.goeldorado.com
SUMMARY:Santa on the Square
DESCRIPTION:Here comes Santa Clause! \nVisit with Santa and enjoy the holiday spirit in Downtown El Dorado
URL:https://www.goeldorado.com/event/santa-on-the-square-2/
LOCATION:Downtown El Dorado\, 101 N. Washington\, El Dorado\, AR\, 71730
CATEGORIES:Community,Festivals & Celebrations,Holiday
END:VEVENT
BEGIN:VEVENT
DTSTART;TZID=America/Chicago:20231209T080000
DTEND;TZID=America/Chicago:20231209T093000
DTSTAMP:20260421T214906
CREATED:20231103T154938Z
LAST-MODIFIED:20231103T155010Z
UID:10015829-1702108800-1702114200@www.goeldorado.com
SUMMARY:Pancakes with Santa @ Barefoot Bistro
DESCRIPTION:Ticketed Event! \n8am-9:30am @ barefoot bistro \n\n\n\n*Pancakes with Santa – Saturday\, December 9th from 8am-9:30am at Barefoot Bistro! \nPancakes with Santa brings an enchanting North Pole experience to Downtown El Dorado! Enjoy a hearty breakfast of pancakes and bacon with your choice of milk or orange juice and take a one-of-a-kind\, professional photo with Santa. This experience also includes a keepsake photo frame for your memories! \nAll children must purchase a plate to have pictures made with Santa during this special event. Parents/Guardians that do not wish to eat\, do not have to purchase a ticket. \nTickets and tables are limited so act fast! No refunds will be given. \nPurchase your tickets today!\n\n\n\nPancakes in Pajamas with Santa at Barefoot Bistro\, December 9 – Cheddar Up
URL:https://www.goeldorado.com/event/pancakes-with-santa-barefoot-bistro/
LOCATION:Barefoot  Bistro\, 101 E Main\, El Dorado\, AR\, 71730
CATEGORIES:Arts & Culture,Community,Family and Children,Festivals & Celebrations,Holiday
ATTACH;FMTTYPE=image/jpeg:https://www.goeldorado.com/wp-content/uploads/2023/11/pancakes-with-sant.jpg
END:VEVENT
BEGIN:VEVENT
DTSTART;TZID=America/Chicago:20231209T080000
DTEND;TZID=America/Chicago:20231209T120000
DTSTAMP:20260421T214906
CREATED:20231128T222339Z
LAST-MODIFIED:20231128T222339Z
UID:10016583-1702108800-1702123200@www.goeldorado.com
SUMMARY:Pictures with Santa @ One Heart Dojo
DESCRIPTION:  \n  \nHey El Dorado Parents! One Heart Dojo will again be in the Christmas spirit and bringing you pictures with Santa as part of our Ultimate Santa Experience! Last year’s event was AMAZING and it was truly an honor to serve our community! We loved seeing the joy on the kids faces as they left after meeting Santa\, Elsa\, and the Grinch\, having a snack\, and writing Santa a letter.\nThis year’s event will be bigger and we’re cooking up some awesome surprises!\nSpeaking of surprises…\nElsa and The Grinch will also be here and taking pictures with your awesome kids! After pictures your kids will enjoy snacks\, face painting\, bounce house\, and writing Santa a letter.\nThis year’s theme is the Polar Express so kids and adults feel free to wear PJs!\nThe first 20 familes through the door will get to spin the prize wheel for awesome door prizes!\nAfter the event\, your child can look forward to receiving a personal response letter from Santa!\nLast year we had over 300 people stop by so make sure you register to ensure you’ll be able to get in. We can only allow about 40 per hour so make sure to sign up now!\nCan’t wait to see you there!
URL:https://www.goeldorado.com/event/pictures-with-santa-one-heart-dojo/
LOCATION:One Heart Dojo\, 828 W 14th\, El Dorado\, 71730\, United States
CATEGORIES:Community,Family and Children,Holiday
END:VEVENT
BEGIN:VEVENT
DTSTART;TZID=America/Chicago:20231209T090000
DTEND;TZID=America/Chicago:20231209T120000
DTSTAMP:20260421T214906
CREATED:20231107T165041Z
LAST-MODIFIED:20231107T165042Z
UID:10015842-1702112400-1702123200@www.goeldorado.com
SUMMARY:Farmers Market at MAD
DESCRIPTION:Shop local vendors at the MAD Amphitheater!
URL:https://www.goeldorado.com/event/farmers-market-at-mad-3-3/2023-12-09/
CATEGORIES:Arts & Culture,Community,Family and Children
ATTACH;FMTTYPE=image/jpeg:https://www.goeldorado.com/wp-content/uploads/2023/04/famersmarketevent.jpg
END:VEVENT
BEGIN:VEVENT
DTSTART;TZID=America/Chicago:20231209T170000
DTEND;TZID=America/Chicago:20231209T173000
DTSTAMP:20260421T214906
CREATED:20231207T162211Z
LAST-MODIFIED:20231207T162211Z
UID:10016593-1702141200-1702143000@www.goeldorado.com
SUMMARY:Christmas on the Ranch @ Hope Landing Steak Cook Off
DESCRIPTION:
URL:https://www.goeldorado.com/event/christmas-on-the-ranch-hope-landing-steak-cook-off/
LOCATION:Hope Landing\, 214 Hope Landing\, El Dorado\, AR\, 71730\, United States
CATEGORIES:Community,Family and Children,Holiday
ATTACH;FMTTYPE=image/jpeg:https://www.goeldorado.com/wp-content/uploads/2023/12/Steak-Plate-Flyer-2023.jpg
END:VEVENT
BEGIN:VEVENT
DTSTART;TZID=America/Chicago:20231209T170000
DTEND;TZID=America/Chicago:20231209T213000
DTSTAMP:20260421T214906
CREATED:20230123T171108Z
LAST-MODIFIED:20230123T171108Z
UID:10011040-1702141200-1702157400@www.goeldorado.com
SUMMARY:Bingo @ The VFW
DESCRIPTION:The VFW will be hosting BINGO! Every Saturday night. \nQuarter Bingo starts at 5pm \nRegular Bingo starts at 7pm
URL:https://www.goeldorado.com/event/bingo-the-vfw/2023-12-09/
LOCATION:VFW\, 451 Industrial Rd\, El Dorado\, AR\, 71730\, United States
CATEGORIES:Clubs/Organizations,Community,Recreation & Sports
END:VEVENT
BEGIN:VEVENT
DTSTART;TZID=America/Chicago:20231209T173000
DTEND;TZID=America/Chicago:20231209T183000
DTSTAMP:20260421T214906
CREATED:20231107T172519Z
LAST-MODIFIED:20231107T172519Z
UID:10016287-1702143000-1702146600@www.goeldorado.com
SUMMARY:Holiday Lights Extravaganza @ Natural Resource Museum
DESCRIPTION:$10 a car load \nThis is a must see lighting display.
URL:https://www.goeldorado.com/event/holiday-lights-extravaganza-natural-resource-museum-4/2023-12-09/
CATEGORIES:Arts & Culture,Community,Family and Children,Festivals & Celebrations,Holiday
END:VEVENT
BEGIN:VEVENT
DTSTART;TZID=America/Chicago:20231209T190000
DTEND;TZID=America/Chicago:20231209T200000
DTSTAMP:20260421T214906
CREATED:20231207T162436Z
LAST-MODIFIED:20231207T162436Z
UID:10016594-1702148400-1702152000@www.goeldorado.com
SUMMARY:The Nativity: A Hope Landing Production
DESCRIPTION:
URL:https://www.goeldorado.com/event/the-nativity-a-hope-landing-production/
LOCATION:South Arkansas Arts Center
CATEGORIES:Community,Holiday
ATTACH;FMTTYPE=image/jpeg:https://www.goeldorado.com/wp-content/uploads/2023/12/Nativity-2023-Flyer.jpg
END:VEVENT
BEGIN:VEVENT
DTSTART;TZID=America/Chicago:20231209T210000
DTEND;TZID=America/Chicago:20231209T230000
DTSTAMP:20260421T214906
CREATED:20231129T215634Z
LAST-MODIFIED:20231129T215634Z
UID:10016592-1702155600-1702162800@www.goeldorado.com
SUMMARY:Mary Heather Hickman LIVE @ the Mink Eye
DESCRIPTION:
URL:https://www.goeldorado.com/event/mary-heather-hickman-live-the-mink-eye-2/
LOCATION:The Mink Eye\, 117 Main st\, El Dorado\, AR\, 71730\, United States
CATEGORIES:Community,Live Music
ATTACH;FMTTYPE=image/jpeg:https://www.goeldorado.com/wp-content/uploads/2023/11/406432969_855186779948096_111566150584101750_n.jpg
END:VEVENT
BEGIN:VEVENT
DTSTART;TZID=America/Chicago:20231210T180000
DTEND;TZID=America/Chicago:20231210T200000
DTSTAMP:20260421T214906
CREATED:20231109T214653Z
LAST-MODIFIED:20231109T214653Z
UID:10016568-1702231200-1702238400@www.goeldorado.com
SUMMARY:FBC Celebration Orchestra presents "The Gift"
DESCRIPTION:Celebrate the sounds of the season at the presentation of The Gift\, a festive and heartwarming musical event scheduled for December 10 at 6pm\, at FBC on Main Street. This annual performance is presented by FBC’s Celebration Orchestra and includes traditional Christmas carols as well as other holiday-themed compositions.
URL:https://www.goeldorado.com/event/fbc-celebration-orchestra-presents-the-gift-2/
LOCATION:First Baptist Church\, 200 W Main St\, El Dorado\, AR\, 71730\, United States
CATEGORIES:Arts & Culture,Community,Family and Children,Festivals & Celebrations,Holiday,Live Music
END:VEVENT
BEGIN:VEVENT
DTSTART;TZID=America/Chicago:20231212T120000
DTEND;TZID=America/Chicago:20231212T130000
DTSTAMP:20260421T214906
CREATED:20231129T203610Z
LAST-MODIFIED:20231129T204256Z
UID:10016591-1702382400-1702386000@www.goeldorado.com
SUMMARY:Focus on the Future Lunch Lecture Series
DESCRIPTION:
URL:https://www.goeldorado.com/event/focus-on-the-future-lunch-lecture-series/
LOCATION:Mahony Family Library\, 300 Summit Ave\, El Dorado\, AR\, 71730\, United States
CATEGORIES:Business,Chamber Of Commerce,Community
ATTACH;FMTTYPE=image/jpeg:https://www.goeldorado.com/wp-content/uploads/2023/11/The-Energy-Transition-Challenege.jpeg
END:VEVENT
BEGIN:VEVENT
DTSTART;TZID=America/Chicago:20231212T150000
DTEND;TZID=America/Chicago:20231212T170000
DTSTAMP:20260421T214906
CREATED:20231207T183544Z
LAST-MODIFIED:20231207T183759Z
UID:10016596-1702393200-1702400400@www.goeldorado.com
SUMMARY:Gather with the Grinch @ Kim Dupree State Farm
DESCRIPTION:
URL:https://www.goeldorado.com/event/gather-with-the-grinch-kim-dupree-state-farm/
LOCATION:Kim Dupree State Farm\, 101 E 5th\, El Dorado\, AR\, 71730\, United States
CATEGORIES:Business,Community,Family and Children
ATTACH;FMTTYPE=image/jpeg:https://www.goeldorado.com/wp-content/uploads/2023/12/405311854_330921803164138_6863425892703873212_n.jpg
END:VEVENT
BEGIN:VEVENT
DTSTART;TZID=America/Chicago:20231213T120000
DTEND;TZID=America/Chicago:20231213T130000
DTSTAMP:20260421T214906
CREATED:20231016T131805Z
LAST-MODIFIED:20231018T162522Z
UID:10015793-1702468800-1702472400@www.goeldorado.com
SUMMARY:Kiwanis Meeting
DESCRIPTION:
URL:https://www.goeldorado.com/event/kiwanis-meeting-2-2/2023-12-13/
LOCATION:First Presbyterian Church\, 300 E. Main St\, El Dorado
CATEGORIES:Business,Clubs/Organizations
END:VEVENT
BEGIN:VEVENT
DTSTART;TZID=America/Chicago:20231214T170000
DTEND;TZID=America/Chicago:20231214T180000
DTSTAMP:20260421T214906
CREATED:20220809T212644Z
LAST-MODIFIED:20220816T204808Z
UID:10009501-1702573200-1702576800@www.goeldorado.com
SUMMARY:El Dorado City Council Meeting
DESCRIPTION:The City of El Dorado’s City Council meeting to discuss city business. Meeting is open to the public. To be placed on the agenda contact the Mayor’s office or your local Alderman. 
URL:https://www.goeldorado.com/event/el-dorado-city-council-meeting/2023-12-14/
CATEGORIES:Community,Government
END:VEVENT
BEGIN:VEVENT
DTSTART;TZID=America/Chicago:20231214T173000
DTEND;TZID=America/Chicago:20231214T190000
DTSTAMP:20260421T214906
CREATED:20231211T222857Z
LAST-MODIFIED:20231211T222857Z
UID:10016980-1702575000-1702580400@www.goeldorado.com
SUMMARY:SAAC Member & Arts Academy Showcase Reception
DESCRIPTION:
URL:https://www.goeldorado.com/event/saac-member-arts-academy-showcase-reception/
LOCATION:South Arkansas Arts Center
CATEGORIES:Arts & Culture,Community,Family and Children
ATTACH;FMTTYPE=image/jpeg:https://www.goeldorado.com/wp-content/uploads/2023/12/408459921_737964021701002_2619549033288472131_n.jpg
END:VEVENT
BEGIN:VEVENT
DTSTART;TZID=America/Chicago:20231214T180000
DTEND;TZID=America/Chicago:20231214T190000
DTSTAMP:20260421T214906
CREATED:20231109T180121Z
LAST-MODIFIED:20231109T183656Z
UID:10016308-1702576800-1702580400@www.goeldorado.com
SUMMARY:Trivia Night @ DP's Food Truck
DESCRIPTION:
URL:https://www.goeldorado.com/event/trivia-night-dps-food-truck/2023-12-14/
LOCATION:DP’s Food Truck Court\, 2117 N College Ave\, 2117 N College Ave\, El Dorado\, AR\, 71730\, United States
CATEGORIES:Community,Family and Children,Recreation & Sports
ATTACH;FMTTYPE=image/jpeg:https://www.goeldorado.com/wp-content/uploads/2023/11/trivia.jpg
END:VEVENT
BEGIN:VEVENT
DTSTART;TZID=America/Chicago:20231214T190000
DTEND;TZID=America/Chicago:20231214T210000
DTSTAMP:20260421T214906
CREATED:20231128T222835Z
LAST-MODIFIED:20231128T222835Z
UID:10016586-1702580400-1702587600@www.goeldorado.com
SUMMARY:A Blane Howard Christmas LIVE @ Murphy Arts District
DESCRIPTION:
URL:https://www.goeldorado.com/event/a-blane-howard-christmas-live-murphy-arts-district/
LOCATION:Murphy Arts District\, 101 E. Locust Street\, El Dorado\, AR\, 71730\, United States
CATEGORIES:Community,Family and Children,Holiday,Live Music
ATTACH;FMTTYPE=image/jpeg:https://www.goeldorado.com/wp-content/uploads/2023/11/401853263_7061250423936722_8560525166015985897_n.jpg
END:VEVENT
BEGIN:VEVENT
DTSTART;TZID=America/Chicago:20231215T170000
DTEND;TZID=America/Chicago:20231215T190000
DTSTAMP:20260421T214906
CREATED:20231128T222526Z
LAST-MODIFIED:20231128T222526Z
UID:10016584-1702659600-1702666800@www.goeldorado.com
SUMMARY:Pictures with Santa @ The CALL
DESCRIPTION:
URL:https://www.goeldorado.com/event/pictures-with-santa-the-call/
LOCATION:The CALL in Union & Calhoun Counties\, 1024 N Euclid\, El Dorado\, AR\, 71730\, United States
CATEGORIES:Community,Family and Children,Holiday
ATTACH;FMTTYPE=image/jpeg:https://www.goeldorado.com/wp-content/uploads/2023/11/401849331_719207316919820_1170113169953373695_n.jpg
ORGANIZER;CN="The CALL in Union and Calhoun Counties":MAILTO:khicks@thecallinarkansas.org
END:VEVENT
BEGIN:VEVENT
DTSTART;TZID=America/Chicago:20231215T170000
DTEND;TZID=America/Chicago:20231215T210000
DTSTAMP:20260421T214906
CREATED:20231128T223304Z
LAST-MODIFIED:20231128T223304Z
UID:10016588-1702659600-1702674000@www.goeldorado.com
SUMMARY:Lighting Display and photo pop up
DESCRIPTION:
URL:https://www.goeldorado.com/event/lighting-display-and-photo-pop-up/2023-12-15/
LOCATION:2210 W Elm El Dorado
CATEGORIES:Community,Family and Children,Holiday
ATTACH;FMTTYPE=image/jpeg:https://www.goeldorado.com/wp-content/uploads/2023/11/404621868_343640828313821_2172267288702880853_n.jpg
END:VEVENT
BEGIN:VEVENT
DTSTART;TZID=America/Chicago:20231215T173000
DTEND;TZID=America/Chicago:20231215T203000
DTSTAMP:20260421T214906
CREATED:20231107T172827Z
LAST-MODIFIED:20231107T172827Z
UID:10016288-1702661400-1702672200@www.goeldorado.com
SUMMARY:Holiday Lights Extravaganza @ Natural Resource Museum
DESCRIPTION:$10 a carload \nThis is a must see lighting display!
URL:https://www.goeldorado.com/event/holiday-lights-extravaganza-natural-resource-museum-5/2023-12-15/
LOCATION:Arkansas Museum of Natural Resources\, 4087 Smackover Hwy\, Smackover\, AR\, 71730\, United States
CATEGORIES:Arts & Culture,Community,Family and Children,Festivals & Celebrations,Holiday
END:VEVENT
BEGIN:VEVENT
DTSTART;TZID=America/Chicago:20231216T090000
DTEND;TZID=America/Chicago:20231216T120000
DTSTAMP:20260421T214906
CREATED:20231107T165041Z
LAST-MODIFIED:20231107T165042Z
UID:10015843-1702717200-1702728000@www.goeldorado.com
SUMMARY:Farmers Market at MAD
DESCRIPTION:Shop local vendors at the MAD Amphitheater!
URL:https://www.goeldorado.com/event/farmers-market-at-mad-3-3/2023-12-16/
CATEGORIES:Arts & Culture,Community,Family and Children
ATTACH;FMTTYPE=image/jpeg:https://www.goeldorado.com/wp-content/uploads/2023/04/famersmarketevent.jpg
END:VEVENT
BEGIN:VEVENT
DTSTART;TZID=America/Chicago:20231216T170000
DTEND;TZID=America/Chicago:20231216T190000
DTSTAMP:20260421T214906
CREATED:20231102T175331Z
LAST-MODIFIED:20231102T175331Z
UID:10015824-1702746000-1702753200@www.goeldorado.com
SUMMARY:Open House with Santa @ the Gallery of History
DESCRIPTION:
URL:https://www.goeldorado.com/event/open-house-with-santa-the-gallery-of-history/
LOCATION:Gallery of History Museum\, 415 E Faulkner\, El Dorado\, AR\, 71730
CATEGORIES:Arts & Culture,Business,Family and Children,Holiday
ATTACH;FMTTYPE=image/png:https://www.goeldorado.com/wp-content/uploads/2023/11/Meet-Santa-2023.png
ORGANIZER;CN="South Arkansas Historical Preservation Society":MAILTO:info@soarkhistory.com
END:VEVENT
BEGIN:VEVENT
DTSTART;TZID=America/Chicago:20231216T170000
DTEND;TZID=America/Chicago:20231216T210000
DTSTAMP:20260421T214906
CREATED:20231128T223304Z
LAST-MODIFIED:20231128T223304Z
UID:10016589-1702746000-1702760400@www.goeldorado.com
SUMMARY:Lighting Display and photo pop up
DESCRIPTION:
URL:https://www.goeldorado.com/event/lighting-display-and-photo-pop-up/2023-12-16/
LOCATION:2210 W Elm El Dorado
CATEGORIES:Community,Family and Children,Holiday
ATTACH;FMTTYPE=image/jpeg:https://www.goeldorado.com/wp-content/uploads/2023/11/404621868_343640828313821_2172267288702880853_n.jpg
END:VEVENT
BEGIN:VEVENT
DTSTART;TZID=America/Chicago:20231216T170000
DTEND;TZID=America/Chicago:20231216T213000
DTSTAMP:20260421T214906
CREATED:20230123T171108Z
LAST-MODIFIED:20230123T171108Z
UID:10011041-1702746000-1702762200@www.goeldorado.com
SUMMARY:Bingo @ The VFW
DESCRIPTION:The VFW will be hosting BINGO! Every Saturday night. \nQuarter Bingo starts at 5pm \nRegular Bingo starts at 7pm
URL:https://www.goeldorado.com/event/bingo-the-vfw/2023-12-16/
LOCATION:VFW\, 451 Industrial Rd\, El Dorado\, AR\, 71730\, United States
CATEGORIES:Clubs/Organizations,Community,Recreation & Sports
END:VEVENT
BEGIN:VEVENT
DTSTART;TZID=America/Chicago:20231216T173000
DTEND;TZID=America/Chicago:20231216T203000
DTSTAMP:20260421T214906
CREATED:20231107T172827Z
LAST-MODIFIED:20231107T172827Z
UID:10016289-1702747800-1702758600@www.goeldorado.com
SUMMARY:Holiday Lights Extravaganza @ Natural Resource Museum
DESCRIPTION:$10 a carload \nThis is a must see lighting display!
URL:https://www.goeldorado.com/event/holiday-lights-extravaganza-natural-resource-museum-5/2023-12-16/
LOCATION:Arkansas Museum of Natural Resources\, 4087 Smackover Hwy\, Smackover\, AR\, 71730\, United States
CATEGORIES:Arts & Culture,Community,Family and Children,Festivals & Celebrations,Holiday
END:VEVENT
BEGIN:VEVENT
DTSTART;TZID=America/Chicago:20231216T180000
DTEND;TZID=America/Chicago:20231216T190000
DTSTAMP:20260421T214906
CREATED:20231127T221156Z
LAST-MODIFIED:20231127T221156Z
UID:10016582-1702749600-1702753200@www.goeldorado.com
SUMMARY:Christmas in El Dorado: Benefit Concert for HPRC
DESCRIPTION:
URL:https://www.goeldorado.com/event/christmas-in-el-dorado-benefit-concert-for-hprc/
LOCATION:First Assembly of God\, 2225 W Hillsboro\, El Dorado
CATEGORIES:Clubs/Organizations,Family and Children,Holiday
ATTACH;FMTTYPE=image/jpeg:https://www.goeldorado.com/wp-content/uploads/2023/11/first-assembly.jpg
END:VEVENT
BEGIN:VEVENT
DTSTART;TZID=America/Chicago:20231220T120000
DTEND;TZID=America/Chicago:20231220T130000
DTSTAMP:20260421T214906
CREATED:20231016T131805Z
LAST-MODIFIED:20231018T162522Z
UID:10015794-1703073600-1703077200@www.goeldorado.com
SUMMARY:Kiwanis Meeting
DESCRIPTION:
URL:https://www.goeldorado.com/event/kiwanis-meeting-2-2/2023-12-20/
LOCATION:First Presbyterian Church\, 300 E. Main St\, El Dorado
CATEGORIES:Business,Clubs/Organizations
END:VEVENT
BEGIN:VEVENT
DTSTART;TZID=America/Chicago:20231221T180000
DTEND;TZID=America/Chicago:20231221T190000
DTSTAMP:20260421T214906
CREATED:20231109T180121Z
LAST-MODIFIED:20231109T183656Z
UID:10016309-1703181600-1703185200@www.goeldorado.com
SUMMARY:Trivia Night @ DP's Food Truck
DESCRIPTION:
URL:https://www.goeldorado.com/event/trivia-night-dps-food-truck/2023-12-21/
LOCATION:DP’s Food Truck Court\, 2117 N College Ave\, 2117 N College Ave\, El Dorado\, AR\, 71730\, United States
CATEGORIES:Community,Family and Children,Recreation & Sports
ATTACH;FMTTYPE=image/jpeg:https://www.goeldorado.com/wp-content/uploads/2023/11/trivia.jpg
END:VEVENT
BEGIN:VEVENT
DTSTART;TZID=America/Chicago:20231222T170000
DTEND;TZID=America/Chicago:20231222T200000
DTSTAMP:20260421T214906
CREATED:20231222T164310Z
LAST-MODIFIED:20231222T164310Z
UID:10017735-1703264400-1703275200@www.goeldorado.com
SUMMARY:Trail of Light @ Murphy Arts District
DESCRIPTION:
URL:https://www.goeldorado.com/event/trail-of-light-murphy-arts-district/2023-12-22/
LOCATION:Murphy Arts District\, 101 E. Locust Street\, El Dorado\, AR\, 71730\, United States
CATEGORIES:Community,Family and Children,Festivals & Celebrations,Holiday
ATTACH;FMTTYPE=image/jpeg:https://www.goeldorado.com/wp-content/uploads/2023/12/411494745_386683217066681_534126764938969262_n.jpg
END:VEVENT
END:VCALENDAR