BEGIN:VCALENDAR
VERSION:2.0
PRODID:-//El Dorado, Arkansas - ECPv6.15.20//NONSGML v1.0//EN
CALSCALE:GREGORIAN
METHOD:PUBLISH
X-WR-CALNAME:El Dorado, Arkansas
X-ORIGINAL-URL:https://www.goeldorado.com
X-WR-CALDESC:Events for El Dorado, Arkansas
REFRESH-INTERVAL;VALUE=DURATION:PT1H
X-Robots-Tag:noindex
X-PUBLISHED-TTL:PT1H
BEGIN:VTIMEZONE
TZID:America/Chicago
BEGIN:DAYLIGHT
TZOFFSETFROM:-0600
TZOFFSETTO:-0500
TZNAME:CDT
DTSTART:20220313T080000
END:DAYLIGHT
BEGIN:STANDARD
TZOFFSETFROM:-0500
TZOFFSETTO:-0600
TZNAME:CST
DTSTART:20221106T070000
END:STANDARD
BEGIN:DAYLIGHT
TZOFFSETFROM:-0600
TZOFFSETTO:-0500
TZNAME:CDT
DTSTART:20230312T080000
END:DAYLIGHT
BEGIN:STANDARD
TZOFFSETFROM:-0500
TZOFFSETTO:-0600
TZNAME:CST
DTSTART:20231105T070000
END:STANDARD
BEGIN:DAYLIGHT
TZOFFSETFROM:-0600
TZOFFSETTO:-0500
TZNAME:CDT
DTSTART:20240310T080000
END:DAYLIGHT
BEGIN:STANDARD
TZOFFSETFROM:-0500
TZOFFSETTO:-0600
TZNAME:CST
DTSTART:20241103T070000
END:STANDARD
END:VTIMEZONE
BEGIN:VEVENT
DTSTART;TZID=America/Chicago:20231130T180000
DTEND;TZID=America/Chicago:20231130T190000
DTSTAMP:20260424T052201
CREATED:20231109T180121Z
LAST-MODIFIED:20231109T183656Z
UID:10016306-1701367200-1701370800@www.goeldorado.com
SUMMARY:Trivia Night @ DP's Food Truck
DESCRIPTION:
URL:https://www.goeldorado.com/event/trivia-night-dps-food-truck/2023-11-30/
LOCATION:DP’s Food Truck Court\, 2117 N College Ave\, 2117 N College Ave\, El Dorado\, AR\, 71730\, United States
CATEGORIES:Community,Family and Children,Recreation & Sports
ATTACH;FMTTYPE=image/jpeg:https://www.goeldorado.com/wp-content/uploads/2023/11/trivia.jpg
END:VEVENT
BEGIN:VEVENT
DTSTART;TZID=America/Chicago:20231129T120000
DTEND;TZID=America/Chicago:20231129T130000
DTSTAMP:20260424T052201
CREATED:20231016T131805Z
LAST-MODIFIED:20231018T162522Z
UID:10015791-1701259200-1701262800@www.goeldorado.com
SUMMARY:Kiwanis Meeting
DESCRIPTION:
URL:https://www.goeldorado.com/event/kiwanis-meeting-2-2/2023-11-29/
LOCATION:First Presbyterian Church\, 300 E. Main St\, El Dorado
CATEGORIES:Business,Clubs/Organizations
END:VEVENT
BEGIN:VEVENT
DTSTART;TZID=America/Chicago:20231128T180000
DTEND;TZID=America/Chicago:20231128T190000
DTSTAMP:20260424T052201
CREATED:20231018T201523Z
LAST-MODIFIED:20231018T215237Z
UID:10015796-1701194400-1701198000@www.goeldorado.com
SUMMARY:SouthArk Student Recognition Ceremony
DESCRIPTION:The Student Recognition Ceremony is a time to honor exemplary SouthArk students. Family and friends are invited to attend.
URL:https://www.goeldorado.com/event/southark-student-recognition-ceremony/
CATEGORIES:Schools
ATTACH;FMTTYPE=image/png:https://www.goeldorado.com/wp-content/uploads/2023/10/logo1.png
END:VEVENT
BEGIN:VEVENT
DTSTART;TZID=America/Chicago:20231125T200000
DTEND;TZID=America/Chicago:20231125T210000
DTSTAMP:20260424T052201
CREATED:20231006T133311Z
LAST-MODIFIED:20231006T133311Z
UID:10014644-1700942400-1700946000@www.goeldorado.com
SUMMARY:Tunesmith LIVE @ Mad House 101
DESCRIPTION:
URL:https://www.goeldorado.com/event/tunesmith-live-mad-house-101/
LOCATION:MAD House 101 Restuarant and Bar\, 101 E Locust\, El Dorado\, AR\, 71730\, United States
CATEGORIES:Live Music
ATTACH;FMTTYPE=image/jpeg:https://www.goeldorado.com/wp-content/uploads/2023/10/371895896_327040923030911_6801063777502786293_n.jpg
END:VEVENT
BEGIN:VEVENT
DTSTART;TZID=America/Chicago:20231125T180000
DTEND;TZID=America/Chicago:20231125T200000
DTSTAMP:20260424T052201
CREATED:20231109T180404Z
LAST-MODIFIED:20231109T180404Z
UID:10016567-1700935200-1700942400@www.goeldorado.com
SUMMARY:Karaoke @ DP's Food Truck Park
DESCRIPTION:
URL:https://www.goeldorado.com/event/karaoke-dps-food-truck-park/2023-11-25/
LOCATION:DP’s Food Truck Court\, 2117 N College Ave\, 2117 N College Ave\, El Dorado\, AR\, 71730\, United States
CATEGORIES:Arts & Culture,Community,Family and Children,Live Music
ATTACH;FMTTYPE=image/jpeg:https://www.goeldorado.com/wp-content/uploads/2023/11/399434361_232717003156938_5812465826005369225_n.jpg
END:VEVENT
BEGIN:VEVENT
DTSTART;TZID=America/Chicago:20231125T173000
DTEND;TZID=America/Chicago:20231125T203000
DTSTAMP:20260424T052201
CREATED:20231107T172007Z
LAST-MODIFIED:20231107T172007Z
UID:10016283-1700933400-1700944200@www.goeldorado.com
SUMMARY:Holiday Lights Extravaganza @ Natural Resource Museum
DESCRIPTION:$10 a car load \nThis is a must see lighting display!
URL:https://www.goeldorado.com/event/holiday-lights-extravaganza-natural-resource-museum-2/2023-11-25/
CATEGORIES:Arts & Culture,Community,Family and Children,Festivals & Celebrations,Holiday
END:VEVENT
BEGIN:VEVENT
DTSTART;TZID=America/Chicago:20231125T170000
DTEND;TZID=America/Chicago:20231125T213000
DTSTAMP:20260424T052201
CREATED:20230123T171108Z
LAST-MODIFIED:20230123T171108Z
UID:10011038-1700931600-1700947800@www.goeldorado.com
SUMMARY:Bingo @ The VFW
DESCRIPTION:The VFW will be hosting BINGO! Every Saturday night. \nQuarter Bingo starts at 5pm \nRegular Bingo starts at 7pm
URL:https://www.goeldorado.com/event/bingo-the-vfw/2023-11-25/
LOCATION:VFW\, 451 Industrial Rd\, El Dorado\, AR\, 71730\, United States
CATEGORIES:Clubs/Organizations,Community,Recreation & Sports
END:VEVENT
BEGIN:VEVENT
DTSTART;TZID=America/Chicago:20231125T160000
DTEND;TZID=America/Chicago:20231125T200000
DTSTAMP:20260424T052201
CREATED:20230628T143043Z
LAST-MODIFIED:20230628T143043Z
UID:10014418-1700928000-1700942400@www.goeldorado.com
SUMMARY:Cruise Night Car Show
DESCRIPTION:
URL:https://www.goeldorado.com/event/cruise-night-car-show/2023-11-25/
LOCATION:Downtown El Dorado\, 101 N. Washington\, El Dorado\, AR\, 71730
CATEGORIES:Clubs/Organizations,Community,Family and Children
ATTACH;FMTTYPE=image/jpeg:https://www.goeldorado.com/wp-content/uploads/2023/06/292313811_354253066884080_3925772226374212086_n.jpg
ORGANIZER;CN="Joe":MAILTO:jjsgourmetbbq@msn.com
END:VEVENT
BEGIN:VEVENT
DTSTART;TZID=America/Chicago:20231125T100000
DTEND;TZID=America/Chicago:20231125T160000
DTSTAMP:20260424T052201
CREATED:20230130T204032Z
LAST-MODIFIED:20231103T154644Z
UID:10012015-1700906400-1700928000@www.goeldorado.com
SUMMARY:Shop Small Saturday in Downtown El Dorado
DESCRIPTION:
URL:https://www.goeldorado.com/event/shop-small-saturday-in-downtown-el-dorado-2/
LOCATION:Downtown El Dorado\, 101 N. Washington\, El Dorado\, AR\, 71730
CATEGORIES:Community,Holiday
ATTACH;FMTTYPE=image/jpeg:https://www.goeldorado.com/wp-content/uploads/2023/01/shop-small.jpg
END:VEVENT
BEGIN:VEVENT
DTSTART;TZID=America/Chicago:20231125T090000
DTEND;TZID=America/Chicago:20231125T120000
DTSTAMP:20260424T052201
CREATED:20231107T165041Z
LAST-MODIFIED:20231107T165042Z
UID:10015841-1700902800-1700913600@www.goeldorado.com
SUMMARY:Farmers Market at MAD
DESCRIPTION:Shop local vendors at the MAD Amphitheater!
URL:https://www.goeldorado.com/event/farmers-market-at-mad-3-3/2023-11-25/
CATEGORIES:Arts & Culture,Community,Family and Children
ATTACH;FMTTYPE=image/jpeg:https://www.goeldorado.com/wp-content/uploads/2023/04/famersmarketevent.jpg
END:VEVENT
BEGIN:VEVENT
DTSTART;TZID=America/Chicago:20231124T200000
DTEND;TZID=America/Chicago:20231124T220000
DTSTAMP:20260424T052201
CREATED:20231107T204009Z
LAST-MODIFIED:20231107T204009Z
UID:10016298-1700856000-1700863200@www.goeldorado.com
SUMMARY:Made In America LIVE @ PJ's Coffee
DESCRIPTION:
URL:https://www.goeldorado.com/event/made-in-america-live-pjs-coffee/
LOCATION:PJ’s Coffee Shop El Dorado\, 106 W Main\, El Dorado\, AR\, 71730\, United States
CATEGORIES:Live Music
END:VEVENT
BEGIN:VEVENT
DTSTART;TZID=America/Chicago:20231124T193000
DTEND;TZID=America/Chicago:20231124T213000
DTSTAMP:20260424T052201
CREATED:20231109T175034Z
LAST-MODIFIED:20231109T175034Z
UID:10016301-1700854200-1700861400@www.goeldorado.com
SUMMARY:Dawn of Ascension LIVE @ DP's Food Truck Park
DESCRIPTION:
URL:https://www.goeldorado.com/event/dawn-of-ascension-live-dps-food-truck-park/
LOCATION:DP’s Food Truck Court\, 2117 N College Ave\, 2117 N College Ave\, El Dorado\, AR\, 71730\, United States
CATEGORIES:Community,Live Music
ATTACH;FMTTYPE=image/jpeg:https://www.goeldorado.com/wp-content/uploads/2023/11/397353105_909122320897325_3409191130329495282_n.jpg
END:VEVENT
BEGIN:VEVENT
DTSTART;TZID=America/Chicago:20231124T173000
DTEND;TZID=America/Chicago:20231124T203000
DTSTAMP:20260424T052201
CREATED:20231107T172007Z
LAST-MODIFIED:20231107T172007Z
UID:10016282-1700847000-1700857800@www.goeldorado.com
SUMMARY:Holiday Lights Extravaganza @ Natural Resource Museum
DESCRIPTION:$10 a car load \nThis is a must see lighting display!
URL:https://www.goeldorado.com/event/holiday-lights-extravaganza-natural-resource-museum-2/2023-11-24/
CATEGORIES:Arts & Culture,Community,Family and Children,Festivals & Celebrations,Holiday
END:VEVENT
BEGIN:VEVENT
DTSTART;TZID=America/Chicago:20231123T190000
DTEND;TZID=America/Chicago:20231123T230000
DTSTAMP:20260424T052201
CREATED:20231102T182414Z
LAST-MODIFIED:20231102T182434Z
UID:10015826-1700766000-1700780400@www.goeldorado.com
SUMMARY:Oh What Fun it is to...Have a Black Friday PJ Party in Downtown El Dorado
DESCRIPTION:
URL:https://www.goeldorado.com/event/oh-what-fun-it-is-to-have-a-black-friday-pj-party-in-downtown-el-dorado/
LOCATION:Downtown El Dorado\, 101 N. Washington\, El Dorado\, AR\, 71730
CATEGORIES:Business,Community,Family and Children,Festivals & Celebrations,Holiday
ATTACH;FMTTYPE=image/jpeg:https://www.goeldorado.com/wp-content/uploads/2023/11/Black-Friday-scaled.jpg
END:VEVENT
BEGIN:VEVENT
DTSTART;TZID=America/Chicago:20231123T180000
DTEND;TZID=America/Chicago:20231123T190000
DTSTAMP:20260424T052201
CREATED:20231109T180121Z
LAST-MODIFIED:20231109T183656Z
UID:10016305-1700762400-1700766000@www.goeldorado.com
SUMMARY:Trivia Night @ DP's Food Truck
DESCRIPTION:
URL:https://www.goeldorado.com/event/trivia-night-dps-food-truck/2023-11-23/
LOCATION:DP’s Food Truck Court\, 2117 N College Ave\, 2117 N College Ave\, El Dorado\, AR\, 71730\, United States
CATEGORIES:Community,Family and Children,Recreation & Sports
ATTACH;FMTTYPE=image/jpeg:https://www.goeldorado.com/wp-content/uploads/2023/11/trivia.jpg
END:VEVENT
BEGIN:VEVENT
DTSTART;TZID=America/Chicago:20231122T120000
DTEND;TZID=America/Chicago:20231122T130000
DTSTAMP:20260424T052201
CREATED:20231016T131805Z
LAST-MODIFIED:20231018T162522Z
UID:10015790-1700654400-1700658000@www.goeldorado.com
SUMMARY:Kiwanis Meeting
DESCRIPTION:
URL:https://www.goeldorado.com/event/kiwanis-meeting-2-2/2023-11-22/
LOCATION:First Presbyterian Church\, 300 E. Main St\, El Dorado
CATEGORIES:Business,Clubs/Organizations
END:VEVENT
BEGIN:VEVENT
DTSTART;TZID=America/Chicago:20231119T160000
DTEND;TZID=America/Chicago:20231119T170000
DTSTAMP:20260424T052201
CREATED:20230830T033539Z
LAST-MODIFIED:20230901T181319Z
UID:10014539-1700409600-1700413200@www.goeldorado.com
SUMMARY:The El Dorado Chorale
DESCRIPTION:Oh What Fun It Is To…”Sing in the Season!” \nChristmas Concert \nFirst Presbyterian Church \n300 E. Main St.
URL:https://www.goeldorado.com/event/the-el-dorado-chorale/
LOCATION:First Presbyterian Church\, 300 E. Main St\, El Dorado
CATEGORIES:Community,Family and Children,Festivals & Celebrations,Holiday,Live Music
END:VEVENT
BEGIN:VEVENT
DTSTART;TZID=America/Chicago:20231119T130000
DTEND;TZID=America/Chicago:20231119T160000
DTSTAMP:20260424T052201
CREATED:20231103T154247Z
LAST-MODIFIED:20231103T154512Z
UID:10015828-1700398800-1700409600@www.goeldorado.com
SUMMARY:Meet & Greet with Author Kat Robinson @ Gourmet 2 Geaux
DESCRIPTION:
URL:https://www.goeldorado.com/event/meet-greet-with-author-kat-robinson-gourmet-2-geaux/
LOCATION:Gourmet 2 Geaux\, 113 N Jefferson\, El Dorado\, AR\, 71730
CATEGORIES:Arts & Culture,Business,Community,Family and Children,Festivals & Celebrations,Holiday
ATTACH;FMTTYPE=image/jpeg:https://www.goeldorado.com/wp-content/uploads/2023/11/pie.jpg
END:VEVENT
BEGIN:VEVENT
DTSTART;TZID=America/Chicago:20231119T130000
DTEND;TZID=America/Chicago:20231119T160000
DTSTAMP:20260424T052201
CREATED:20230123T204055Z
LAST-MODIFIED:20231103T153637Z
UID:10011771-1700398800-1700409600@www.goeldorado.com
SUMMARY:Downtown Open House El Dorado
DESCRIPTION:
URL:https://www.goeldorado.com/event/downtown-open-house-el-dorado/
LOCATION:Downtown El Dorado\, 101 N. Washington\, El Dorado\, AR\, 71730
CATEGORIES:Community,Festivals & Celebrations,Holiday
ATTACH;FMTTYPE=image/jpeg:https://www.goeldorado.com/wp-content/uploads/2023/01/open-house.jpg
END:VEVENT
BEGIN:VEVENT
DTSTART;TZID=America/Chicago:20231119T120000
DTEND;TZID=America/Chicago:20231119T160000
DTSTAMP:20260424T052201
CREATED:20231103T153941Z
LAST-MODIFIED:20231103T153941Z
UID:10015827-1700395200-1700409600@www.goeldorado.com
SUMMARY:Book Signing: Anne Marie Jameson @ PJ's Coffee Shop
DESCRIPTION:
URL:https://www.goeldorado.com/event/book-signing-anne-marie-jameson-pjs-coffee-shop/
LOCATION:PJ’s Coffee Shop El Dorado\, 106 W Main\, El Dorado\, AR\, 71730\, United States
CATEGORIES:Arts & Culture,Community,Family and Children
ATTACH;FMTTYPE=image/jpeg:https://www.goeldorado.com/wp-content/uploads/2023/11/book-signing-pj.jpg
END:VEVENT
BEGIN:VEVENT
DTSTART;TZID=America/Chicago:20231118T200000
DTEND;TZID=America/Chicago:20231118T220000
DTSTAMP:20260424T052201
CREATED:20231107T203931Z
LAST-MODIFIED:20231107T203931Z
UID:10016297-1700337600-1700344800@www.goeldorado.com
SUMMARY:PHED Live @ PJ's Coffee
DESCRIPTION:
URL:https://www.goeldorado.com/event/phed-live-pjs-coffee/
LOCATION:PJ’s Coffee Shop El Dorado\, 106 W Main\, El Dorado\, AR\, 71730\, United States
CATEGORIES:Live Music
END:VEVENT
BEGIN:VEVENT
DTSTART;TZID=America/Chicago:20231118T180000
DTEND;TZID=America/Chicago:20231118T200000
DTSTAMP:20260424T052201
CREATED:20231109T180404Z
LAST-MODIFIED:20231109T180404Z
UID:10016566-1700330400-1700337600@www.goeldorado.com
SUMMARY:Karaoke @ DP's Food Truck Park
DESCRIPTION:
URL:https://www.goeldorado.com/event/karaoke-dps-food-truck-park/2023-11-18/
LOCATION:DP’s Food Truck Court\, 2117 N College Ave\, 2117 N College Ave\, El Dorado\, AR\, 71730\, United States
CATEGORIES:Arts & Culture,Community,Family and Children,Live Music
ATTACH;FMTTYPE=image/jpeg:https://www.goeldorado.com/wp-content/uploads/2023/11/399434361_232717003156938_5812465826005369225_n.jpg
END:VEVENT
BEGIN:VEVENT
DTSTART;TZID=America/Chicago:20231118T173000
DTEND;TZID=America/Chicago:20231118T203000
DTSTAMP:20260424T052201
CREATED:20231107T171221Z
LAST-MODIFIED:20231107T171221Z
UID:10015894-1700328600-1700339400@www.goeldorado.com
SUMMARY:Holiday Lights Extravaganza @ Natural Resource Museum
DESCRIPTION:$10 a car! \nThis is a must see light display
URL:https://www.goeldorado.com/event/holiday-lights-extravaganza-natural-resource-museum/2023-11-18/
LOCATION:Arkansas Museum of Natural Resources\, 4087 Smackover Hwy\, Smackover\, AR\, 71730\, United States
CATEGORIES:Arts & Culture,Community,Family and Children,Festivals & Celebrations,Holiday
END:VEVENT
BEGIN:VEVENT
DTSTART;TZID=America/Chicago:20231118T170000
DTEND;TZID=America/Chicago:20231118T213000
DTSTAMP:20260424T052201
CREATED:20230123T171108Z
LAST-MODIFIED:20230123T171108Z
UID:10011037-1700326800-1700343000@www.goeldorado.com
SUMMARY:Bingo @ The VFW
DESCRIPTION:The VFW will be hosting BINGO! Every Saturday night. \nQuarter Bingo starts at 5pm \nRegular Bingo starts at 7pm
URL:https://www.goeldorado.com/event/bingo-the-vfw/2023-11-18/
LOCATION:VFW\, 451 Industrial Rd\, El Dorado\, AR\, 71730\, United States
CATEGORIES:Clubs/Organizations,Community,Recreation & Sports
END:VEVENT
BEGIN:VEVENT
DTSTART;TZID=America/Chicago:20231118T140000
DTEND;TZID=America/Chicago:20231118T160000
DTSTAMP:20260424T052201
CREATED:20231102T175152Z
LAST-MODIFIED:20231102T175152Z
UID:10015823-1700316000-1700323200@www.goeldorado.com
SUMMARY:Original Thanksgiving Dinner @ Gallery of History Musuem
DESCRIPTION:
URL:https://www.goeldorado.com/event/original-thanksgiving-dinner-gallery-of-history-musuem/
LOCATION:Gallery of History Museum\, 415 E Faulkner\, El Dorado\, AR\, 71730
CATEGORIES:Arts & Culture,Business,Community,Family and Children,Holiday
ATTACH;FMTTYPE=image/jpeg:https://www.goeldorado.com/wp-content/uploads/2023/11/Thanksgiving-Dinner-1-6-scaled.jpg
ORGANIZER;CN="South Arkansas Historical Preservation Society":MAILTO:info@soarkhistory.com
END:VEVENT
BEGIN:VEVENT
DTSTART;TZID=America/Chicago:20231118T090000
DTEND;TZID=America/Chicago:20231118T120000
DTSTAMP:20260424T052201
CREATED:20231107T165041Z
LAST-MODIFIED:20231107T165042Z
UID:10015840-1700298000-1700308800@www.goeldorado.com
SUMMARY:Farmers Market at MAD
DESCRIPTION:Shop local vendors at the MAD Amphitheater!
URL:https://www.goeldorado.com/event/farmers-market-at-mad-3-3/2023-11-18/
CATEGORIES:Arts & Culture,Community,Family and Children
ATTACH;FMTTYPE=image/jpeg:https://www.goeldorado.com/wp-content/uploads/2023/04/famersmarketevent.jpg
END:VEVENT
BEGIN:VEVENT
DTSTART;TZID=America/Chicago:20231117T200000
DTEND;TZID=America/Chicago:20231117T220000
DTSTAMP:20260424T052201
CREATED:20231107T203846Z
LAST-MODIFIED:20231107T203846Z
UID:10016296-1700251200-1700258400@www.goeldorado.com
SUMMARY:Dave Almond LIVE @ PJs Coffee
DESCRIPTION:
URL:https://www.goeldorado.com/event/dave-almond-live-pjs-coffee-8/
LOCATION:PJ’s Coffee Shop El Dorado\, 106 W Main\, El Dorado\, AR\, 71730\, United States
CATEGORIES:Live Music
END:VEVENT
BEGIN:VEVENT
DTSTART;TZID=America/Chicago:20231117T183000
DTEND;TZID=America/Chicago:20231117T203000
DTSTAMP:20260424T052201
CREATED:20231109T175502Z
LAST-MODIFIED:20231109T175503Z
UID:10016302-1700245800-1700253000@www.goeldorado.com
SUMMARY:Boomer Hill Band LIVE @ DP's Food Truck Park
DESCRIPTION:
URL:https://www.goeldorado.com/event/boomer-hill-band-live-dps-food-truck-park/
LOCATION:DP’s Food Truck Court\, 2117 N College Ave\, 2117 N College Ave\, El Dorado\, AR\, 71730\, United States
CATEGORIES:Family and Children,Live Music
ATTACH;FMTTYPE=image/jpeg:https://www.goeldorado.com/wp-content/uploads/2023/11/399859763_1006187420546269_4196354634553774306_n.jpg
END:VEVENT
BEGIN:VEVENT
DTSTART;TZID=America/Chicago:20231117T173000
DTEND;TZID=America/Chicago:20231117T203000
DTSTAMP:20260424T052201
CREATED:20231107T171221Z
LAST-MODIFIED:20231107T171221Z
UID:10015893-1700242200-1700253000@www.goeldorado.com
SUMMARY:Holiday Lights Extravaganza @ Natural Resource Museum
DESCRIPTION:$10 a car! \nThis is a must see light display
URL:https://www.goeldorado.com/event/holiday-lights-extravaganza-natural-resource-museum/2023-11-17/
LOCATION:Arkansas Museum of Natural Resources\, 4087 Smackover Hwy\, Smackover\, AR\, 71730\, United States
CATEGORIES:Arts & Culture,Community,Family and Children,Festivals & Celebrations,Holiday
END:VEVENT
BEGIN:VEVENT
DTSTART;TZID=America/Chicago:20231117T100000
DTEND;TZID=America/Chicago:20231117T120000
DTSTAMP:20260424T052201
CREATED:20231107T164330Z
LAST-MODIFIED:20231107T164330Z
UID:10015839-1700215200-1700222400@www.goeldorado.com
SUMMARY:Ribbon Cutting & Grand ReOpening: WalMart Supercenter
DESCRIPTION:The event will be from 10-12 and the Ribbon Cutting will take place at 11AM
URL:https://www.goeldorado.com/event/ribbon-cutting-grand-reopening-walmart-supercenter/
LOCATION:WalMart\, 2730 N West Ave\, El Dorado\, AR\, 71730
CATEGORIES:Business,Chamber Of Commerce,Family and Children
ATTACH;FMTTYPE=image/png:https://www.goeldorado.com/wp-content/uploads/2023/11/walmart.png
END:VEVENT
END:VCALENDAR