BEGIN:VCALENDAR
VERSION:2.0
PRODID:-//El Dorado, Arkansas - ECPv6.15.20//NONSGML v1.0//EN
CALSCALE:GREGORIAN
METHOD:PUBLISH
X-WR-CALNAME:El Dorado, Arkansas
X-ORIGINAL-URL:https://www.goeldorado.com
X-WR-CALDESC:Events for El Dorado, Arkansas
REFRESH-INTERVAL;VALUE=DURATION:PT1H
X-Robots-Tag:noindex
X-PUBLISHED-TTL:PT1H
BEGIN:VTIMEZONE
TZID:America/Chicago
BEGIN:DAYLIGHT
TZOFFSETFROM:-0600
TZOFFSETTO:-0500
TZNAME:CDT
DTSTART:20230312T080000
END:DAYLIGHT
BEGIN:STANDARD
TZOFFSETFROM:-0500
TZOFFSETTO:-0600
TZNAME:CST
DTSTART:20231105T070000
END:STANDARD
BEGIN:DAYLIGHT
TZOFFSETFROM:-0600
TZOFFSETTO:-0500
TZNAME:CDT
DTSTART:20240310T080000
END:DAYLIGHT
BEGIN:STANDARD
TZOFFSETFROM:-0500
TZOFFSETTO:-0600
TZNAME:CST
DTSTART:20241103T070000
END:STANDARD
BEGIN:DAYLIGHT
TZOFFSETFROM:-0600
TZOFFSETTO:-0500
TZNAME:CDT
DTSTART:20250309T080000
END:DAYLIGHT
BEGIN:STANDARD
TZOFFSETFROM:-0500
TZOFFSETTO:-0600
TZNAME:CST
DTSTART:20251102T070000
END:STANDARD
END:VTIMEZONE
BEGIN:VEVENT
DTSTART;TZID=America/Chicago:20240222T110000
DTEND;TZID=America/Chicago:20240222T130000
DTSTAMP:20260423T020302
CREATED:20240123T141831Z
LAST-MODIFIED:20240123T220820Z
UID:10017791-1708599600-1708606800@www.goeldorado.com
SUMMARY:Healthy Heart\, Healthy You Luncheon
DESCRIPTION:
URL:https://www.goeldorado.com/event/healthy-heart-healthy-you-luncheon/
LOCATION:El Dorado Conference Center\, 311 S West Ave\, El Dorado\, 71730\, United States
CATEGORIES:Business,Community
ATTACH;FMTTYPE=image/jpeg:https://www.goeldorado.com/wp-content/uploads/2024/01/Healthy-Heart.jpg
END:VEVENT
BEGIN:VEVENT
DTSTART;TZID=America/Chicago:20240221T120000
DTEND;TZID=America/Chicago:20240221T130000
DTSTAMP:20260423T020302
CREATED:20240216T154222Z
LAST-MODIFIED:20240216T154222Z
UID:10018362-1708516800-1708520400@www.goeldorado.com
SUMMARY:Kiwanis Club of El Dorado Meeting with special Guest from Newhaven
DESCRIPTION:
URL:https://www.goeldorado.com/event/kiwanis-club-of-el-dorado-meeting-with-special-guest-from-newhaven/
LOCATION:First Presbyterian Church\, 300 E. Main St\, El Dorado
CATEGORIES:Clubs/Organizations
ATTACH;FMTTYPE=image/jpeg:https://www.goeldorado.com/wp-content/uploads/2024/02/kiwanis-meeting.jpg
END:VEVENT
BEGIN:VEVENT
DTSTART;TZID=America/Chicago:20240220T173000
DTEND;TZID=America/Chicago:20240220T190000
DTSTAMP:20260423T020302
CREATED:20240122T173228Z
LAST-MODIFIED:20240122T173433Z
UID:10017790-1708450200-1708455600@www.goeldorado.com
SUMMARY:Business After Hours: LSB Industries
DESCRIPTION:
URL:https://www.goeldorado.com/event/business-after-hours-lsb-industries/
LOCATION:LSB Industries\, 4500 N West Ave\, El Dorado\, ARk
CATEGORIES:Business,Chamber Of Commerce
ATTACH;FMTTYPE=image/png:https://www.goeldorado.com/wp-content/uploads/2024/01/Business-after-hours-11.png
END:VEVENT
BEGIN:VEVENT
DTSTART;TZID=America/Chicago:20240217T190000
DTEND;TZID=America/Chicago:20240217T210000
DTSTAMP:20260423T020302
CREATED:20231113T200201Z
LAST-MODIFIED:20231116T212938Z
UID:10016575-1708196400-1708203600@www.goeldorado.com
SUMMARY:Pail w/special guest Dave Almond LIVE @ MAD
DESCRIPTION:
URL:https://www.goeldorado.com/event/pail-w-special-guest-dave-almond-live-mad/
LOCATION:First Financial Music Hall
CATEGORIES:Live Music
ATTACH;FMTTYPE=image/jpeg:https://www.goeldorado.com/wp-content/uploads/2023/11/pail-announce-2.jpg
END:VEVENT
BEGIN:VEVENT
DTSTART;TZID=America/Chicago:20240217T180000
DTEND;TZID=America/Chicago:20240217T200000
DTSTAMP:20260423T020302
CREATED:20240123T221524Z
LAST-MODIFIED:20240123T221524Z
UID:10017795-1708192800-1708200000@www.goeldorado.com
SUMMARY:Roots & Revolt LIVE @ DP's Food Truck Park
DESCRIPTION:
URL:https://www.goeldorado.com/event/roots-revolt-live-dps-food-truck-park/
LOCATION:DP’s Food Truck Court\, 2117 N College Ave\, 2117 N College Ave\, El Dorado\, AR\, 71730\, United States
CATEGORIES:Business,Community,Family and Children
END:VEVENT
BEGIN:VEVENT
DTSTART;TZID=America/Chicago:20240217T180000
DTEND;TZID=America/Chicago:20240217T190000
DTSTAMP:20260423T020302
CREATED:20240209T161750Z
LAST-MODIFIED:20240209T161750Z
UID:10018357-1708192800-1708196400@www.goeldorado.com
SUMMARY:
DESCRIPTION:
URL:https://www.goeldorado.com/event/9216/
LOCATION:Barton Library\, 200 E 5th\, El Dorado\, AR\, 71730\, United States
CATEGORIES:Arts & Culture,Community,Family and Children,Live Music
ATTACH;FMTTYPE=image/jpeg:https://www.goeldorado.com/wp-content/uploads/2024/02/barton-library.jpg
ORGANIZER;CN="Barton Library":MAILTO:eldorado@ucpls.org
END:VEVENT
BEGIN:VEVENT
DTSTART;TZID=America/Chicago:20240217T170000
DTEND;TZID=America/Chicago:20240217T213000
DTSTAMP:20260423T020302
CREATED:20230123T171108Z
LAST-MODIFIED:20230123T171108Z
UID:10011050-1708189200-1708205400@www.goeldorado.com
SUMMARY:Bingo @ The VFW
DESCRIPTION:The VFW will be hosting BINGO! Every Saturday night. \nQuarter Bingo starts at 5pm \nRegular Bingo starts at 7pm
URL:https://www.goeldorado.com/event/bingo-the-vfw/2024-02-17/
LOCATION:VFW\, 451 Industrial Rd\, El Dorado\, AR\, 71730\, United States
CATEGORIES:Clubs/Organizations,Community,Recreation & Sports
END:VEVENT
BEGIN:VEVENT
DTSTART;TZID=America/Chicago:20240217T103000
DTEND;TZID=America/Chicago:20240217T120000
DTSTAMP:20260423T020302
CREATED:20240131T204123Z
LAST-MODIFIED:20240131T204123Z
UID:10018222-1708165800-1708171200@www.goeldorado.com
SUMMARY:Women's Self Defense Class
DESCRIPTION:SelfDefenseFlyer_2024
URL:https://www.goeldorado.com/event/womens-self-defense-class/
LOCATION:HealthWorks Fitness Center\, 304 N. Madison\, El Dorado\, AR\, 71730
CATEGORIES:Business,Clubs/Organizations,Continuing Education,Education
ATTACH;FMTTYPE=application/pdf:https://www.goeldorado.com/wp-content/uploads/2024/01/SelfDefenseFlyer_2024-1.pdf
END:VEVENT
BEGIN:VEVENT
DTSTART;TZID=America/Chicago:20240217T083000
DTEND;TZID=America/Chicago:20240217T093000
DTSTAMP:20260423T020302
CREATED:20240201T012002Z
LAST-MODIFIED:20240201T162523Z
UID:10018227-1708158600-1708162200@www.goeldorado.com
SUMMARY:Women Moving Forward Saturday Morning Walk
DESCRIPTION:
URL:https://www.goeldorado.com/event/women-moving-forward-saturday-morning-walk/2024-02-17/
LOCATION:Mellor Park Mall\, 1865 N West Ave\, El Dorado\, 71730\, United States
CATEGORIES:Clubs/Organizations,Family and Children,Recreation & Sports
ATTACH;FMTTYPE=image/png:https://www.goeldorado.com/wp-content/uploads/2024/01/WMF-Announcement.png
ORGANIZER;CN="Women Moving Forward":MAILTO:womenmovingforward21@gmail.com
END:VEVENT
BEGIN:VEVENT
DTSTART;TZID=America/Chicago:20240215T180000
DTEND;TZID=America/Chicago:20240215T190000
DTSTAMP:20260423T020302
CREATED:20231109T180121Z
LAST-MODIFIED:20231109T183656Z
UID:10016317-1708020000-1708023600@www.goeldorado.com
SUMMARY:Trivia Night @ DP's Food Truck
DESCRIPTION:
URL:https://www.goeldorado.com/event/trivia-night-dps-food-truck/2024-02-15/
LOCATION:DP’s Food Truck Court\, 2117 N College Ave\, 2117 N College Ave\, El Dorado\, AR\, 71730\, United States
CATEGORIES:Community,Family and Children,Recreation & Sports
ATTACH;FMTTYPE=image/jpeg:https://www.goeldorado.com/wp-content/uploads/2023/11/trivia.jpg
END:VEVENT
BEGIN:VEVENT
DTSTART;TZID=America/Chicago:20240215T110000
DTEND;TZID=America/Chicago:20240215T120000
DTSTAMP:20260423T020302
CREATED:20240202T154823Z
LAST-MODIFIED:20240202T154833Z
UID:10018344-1707994800-1707998400@www.goeldorado.com
SUMMARY:Solar Eclipse Presentation @ Barton Library
DESCRIPTION:
URL:https://www.goeldorado.com/event/solar-eclipse-presentation-barton-library/
LOCATION:Barton Library\, 200 E 5th\, El Dorado\, AR\, 71730\, United States
CATEGORIES:Community,Education,Family and Children
ATTACH;FMTTYPE=image/jpeg:https://www.goeldorado.com/wp-content/uploads/2024/02/424684995_689608683378731_6196551715609799493_n.jpg
ORGANIZER;CN="Barton Library":MAILTO:eldorado@ucpls.org
END:VEVENT
BEGIN:VEVENT
DTSTART;TZID=America/Chicago:20240213T090000
DTEND;TZID=America/Chicago:20240213T100000
DTSTAMP:20260423T020302
CREATED:20240130T211936Z
LAST-MODIFIED:20240130T211936Z
UID:10018221-1707814800-1707818400@www.goeldorado.com
SUMMARY:Coffee with Causes @ The Chamber of Commerce
DESCRIPTION:  \nThe Chamber of Commerce invites local non-profit organizations to join us for a time of networking and learning about other programs.
URL:https://www.goeldorado.com/event/coffee-with-causes-the-chamber-of-commerce-2/
LOCATION:El Dorado-Union County Chamber of Commerce\, 111 W. Main Street\, El Dorado\, AR\, 71730
CATEGORIES:Chamber Of Commerce,Community
ATTACH;FMTTYPE=image/png:https://www.goeldorado.com/wp-content/uploads/2024/01/Feb-24-coffee-announcement.png
END:VEVENT
BEGIN:VEVENT
DTSTART;TZID=America/Chicago:20240212T120000
DTEND;TZID=America/Chicago:20240212T130000
DTSTAMP:20260423T020302
CREATED:20240130T211627Z
LAST-MODIFIED:20240130T211627Z
UID:10018219-1707739200-1707742800@www.goeldorado.com
SUMMARY:Rotary Club: Speaker Dr Turnage\, UAMS
DESCRIPTION:
URL:https://www.goeldorado.com/event/rotary-club-speaker-dr-turnage-uams/
LOCATION:HealthWorks Fitness Center\, 304 N. Madison\, El Dorado\, AR\, 71730
CATEGORIES:Business,Clubs/Organizations
ATTACH;FMTTYPE=image/png:https://www.goeldorado.com/wp-content/uploads/2024/01/Rotary-Announcement-12.png
END:VEVENT
BEGIN:VEVENT
DTSTART;TZID=America/Chicago:20240210T190000
DTEND;TZID=America/Chicago:20240210T230000
DTSTAMP:20260423T020302
CREATED:20231207T181838Z
LAST-MODIFIED:20231207T181838Z
UID:10016595-1707591600-1707606000@www.goeldorado.com
SUMMARY:JayO Ent Presents Boosie BadAzz
DESCRIPTION:  \n \n  \nTICKETS FOR SALE HERE: \nJayO Ent. Boosie BadAzz in El Dorado Tickets\, Sat\, Feb 10\, 2024 at 7:00 PM | Eventbrite
URL:https://www.goeldorado.com/event/jayo-ent-presents-boosie-badazz/
LOCATION:First Financial Music Hall
CATEGORIES:Community,Live Music
ATTACH;FMTTYPE=image/jpeg:https://www.goeldorado.com/wp-content/uploads/2023/12/boosie.jpg
END:VEVENT
BEGIN:VEVENT
DTSTART;TZID=America/Chicago:20240210T180000
DTEND;TZID=America/Chicago:20240210T200000
DTSTAMP:20260423T020302
CREATED:20231220T222420Z
LAST-MODIFIED:20231220T222420Z
UID:10017723-1707588000-1707595200@www.goeldorado.com
SUMMARY:Verdict LIVE at DP's Food Truck Park
DESCRIPTION:
URL:https://www.goeldorado.com/event/verdict-live-at-dps-food-truck-park/
LOCATION:DP’s Food Truck Court\, 2117 N College Ave\, 2117 N College Ave\, El Dorado\, AR\, 71730\, United States
CATEGORIES:Arts & Culture,Community,Live Music
ATTACH;FMTTYPE=image/jpeg:https://www.goeldorado.com/wp-content/uploads/2023/12/412293640_10101174627520597_7074830351385259165_n.jpg
END:VEVENT
BEGIN:VEVENT
DTSTART;TZID=America/Chicago:20240210T170000
DTEND;TZID=America/Chicago:20240210T213000
DTSTAMP:20260423T020302
CREATED:20230123T171108Z
LAST-MODIFIED:20230123T171108Z
UID:10011049-1707584400-1707600600@www.goeldorado.com
SUMMARY:Bingo @ The VFW
DESCRIPTION:The VFW will be hosting BINGO! Every Saturday night. \nQuarter Bingo starts at 5pm \nRegular Bingo starts at 7pm
URL:https://www.goeldorado.com/event/bingo-the-vfw/2024-02-10/
LOCATION:VFW\, 451 Industrial Rd\, El Dorado\, AR\, 71730\, United States
CATEGORIES:Clubs/Organizations,Community,Recreation & Sports
END:VEVENT
BEGIN:VEVENT
DTSTART;TZID=America/Chicago:20240210T160000
DTEND;TZID=America/Chicago:20240210T180000
DTSTAMP:20260423T020302
CREATED:20240112T174513Z
LAST-MODIFIED:20240112T174537Z
UID:10017769-1707580800-1707588000@www.goeldorado.com
SUMMARY:Galentine's Spa Night @ Pure Bliss Spa and Events
DESCRIPTION:  \nGrab your bestie and come hang out with us! We’ll be making homemade body scrubs that you can take home! There will be cocktails\, snacks\, door prizes\, and goody bags! We’re looking forward to a fun and relaxing night with you!\nTickets are $25 per person!
URL:https://www.goeldorado.com/event/galentines-spa-night/
LOCATION:Pure Bliss Spa and Salon\, 514 W Main\, El Dorado\, AR\, 71730
CATEGORIES:Business,Community,Holiday
ATTACH;FMTTYPE=image/jpeg:https://www.goeldorado.com/wp-content/uploads/2024/01/416368609_7375594875826675_9068415382554525089_n.jpg
END:VEVENT
BEGIN:VEVENT
DTSTART;TZID=America/Chicago:20240210T133000
DTEND;TZID=America/Chicago:20240210T143000
DTSTAMP:20260423T020302
CREATED:20240112T155253Z
LAST-MODIFIED:20240119T162359Z
UID:10017779-1707571800-1707575400@www.goeldorado.com
SUMMARY:Weekend tinkering @ the Museum
DESCRIPTION:If you are looking for a fun and educational activity that will challenge and inspire your child\, Weekend Tinkering at the Arkansas Museum of Natural Resources is a perfect choice for you. Through a variety of programs each month\, participants will have the opportunity to expand their understanding of the 1920s Oil Boom of south Arkansas using STEM (science\, technology\, engineering\, and math) concepts in fun and engaging ways. Sign-up today and see what your child can create. Weekend Tinkering is for ages five and up with a beginner or higher skill level\, and it’s FREE! \n  \nFor details and registration\, please contact Paige Creed at the museum. 870.725.2877 or paige.creed@arkansas.gov
URL:https://www.goeldorado.com/event/weekend-tinkering-the-museum/2024-02-10/
LOCATION:Arkansas Museum of Natural Resources\, 4087 Smackover Hwy\, Smackover\, AR\, 71730\, United States
CATEGORIES:Family and Children
END:VEVENT
BEGIN:VEVENT
DTSTART;TZID=America/Chicago:20240210T130000
DTEND;TZID=America/Chicago:20240210T150000
DTSTAMP:20260423T020302
CREATED:20240103T174504Z
LAST-MODIFIED:20240118T145915Z
UID:10017749-1707570000-1707577200@www.goeldorado.com
SUMMARY:Cocoa For Kids with The CALL in Union County
DESCRIPTION:Join Campfire Group #75 January 20th at All About Flowers from 10am-12PM\, for a cup of Hot Cocoa by donation for kids impacted by foster care.
URL:https://www.goeldorado.com/event/cocoa-for-kids-with-the-call-in-union-county/
LOCATION:All About Flowers\, 106 E Elm\, El Dorado\, AR\, 71730\, United States
CATEGORIES:Clubs/Organizations,Community,Family and Children
ATTACH;FMTTYPE=image/jpeg:https://www.goeldorado.com/wp-content/uploads/2024/01/mew-call-cocoa.jpg
ORGANIZER;CN="The CALL in Union and Calhoun Counties":MAILTO:khicks@thecallinarkansas.org
END:VEVENT
BEGIN:VEVENT
DTSTART;TZID=America/Chicago:20240210T100000
DTEND;TZID=America/Chicago:20240210T130000
DTSTAMP:20260423T020302
CREATED:20240207T150125Z
LAST-MODIFIED:20240207T152017Z
UID:10018353-1707559200-1707570000@www.goeldorado.com
SUMMARY:Farmers Market at MAD Valentine's Market
DESCRIPTION:Over 20 vendors. 10am – 1pm.
URL:https://www.goeldorado.com/event/farmers-market-at-mad-valentines-market/
LOCATION:Murphy Arts District\, 101 E. Locust Street\, El Dorado\, AR\, 71730\, United States
CATEGORIES:Arts & Culture,Community,Family and Children
ATTACH;FMTTYPE=image/jpeg:https://www.goeldorado.com/wp-content/uploads/2024/02/valentines-market-5.jpg
END:VEVENT
BEGIN:VEVENT
DTSTART;TZID=America/Chicago:20240210T083000
DTEND;TZID=America/Chicago:20240210T093000
DTSTAMP:20260423T020302
CREATED:20240201T012002Z
LAST-MODIFIED:20240201T162523Z
UID:10018226-1707553800-1707557400@www.goeldorado.com
SUMMARY:Women Moving Forward Saturday Morning Walk
DESCRIPTION:
URL:https://www.goeldorado.com/event/women-moving-forward-saturday-morning-walk/2024-02-10/
LOCATION:Mellor Park Mall\, 1865 N West Ave\, El Dorado\, 71730\, United States
CATEGORIES:Clubs/Organizations,Family and Children,Recreation & Sports
ATTACH;FMTTYPE=image/png:https://www.goeldorado.com/wp-content/uploads/2024/01/WMF-Announcement.png
ORGANIZER;CN="Women Moving Forward":MAILTO:womenmovingforward21@gmail.com
END:VEVENT
BEGIN:VEVENT
DTSTART;TZID=America/Chicago:20240209T190000
DTEND;TZID=America/Chicago:20240209T220000
DTSTAMP:20260423T020302
CREATED:20240207T145716Z
LAST-MODIFIED:20240207T151948Z
UID:10018352-1707505200-1707516000@www.goeldorado.com
SUMMARY:Mary Heather Hickman FREE Show @ MAD
DESCRIPTION:The community is invited to the First Financial Music Hall\, Friday\, Feb 9 to hear the Mary Heather Hickman Band. Doors at 6\, show at 7.
URL:https://www.goeldorado.com/event/mary-heather-hickman-free-show-mad/
LOCATION:Murphy Arts District\, 101 E. Locust Street\, El Dorado\, AR\, 71730\, United States
CATEGORIES:Live Music
ATTACH;FMTTYPE=image/jpeg:https://www.goeldorado.com/wp-content/uploads/2024/02/mhh.jpg
END:VEVENT
BEGIN:VEVENT
DTSTART;TZID=America/Chicago:20240209T180000
DTEND;TZID=America/Chicago:20240209T200000
DTSTAMP:20260423T020302
CREATED:20240206T212826Z
LAST-MODIFIED:20240206T212826Z
UID:10018351-1707501600-1707508800@www.goeldorado.com
SUMMARY:Paris Scarbrough LIVE @ Main Street Pizza
DESCRIPTION:
URL:https://www.goeldorado.com/event/paris-scarbrough-live-main-street-pizza/
LOCATION:Main Street Pizza\, 101 N Jackson\, El Dorado\, AR\, 71730\, United States
CATEGORIES:Community,Live Music
ATTACH;FMTTYPE=image/jpeg:https://www.goeldorado.com/wp-content/uploads/2024/02/paris-at-main-street-pizza.jpg
END:VEVENT
BEGIN:VEVENT
DTSTART;TZID=America/Chicago:20240209T110000
DTEND;TZID=America/Chicago:20240209T113000
DTSTAMP:20260423T020302
CREATED:20240118T163856Z
LAST-MODIFIED:20240118T163856Z
UID:10017775-1707476400-1707478200@www.goeldorado.com
SUMMARY:Ribbon Cutting: Belvidere's Barber Shop
DESCRIPTION:
URL:https://www.goeldorado.com/event/ribbon-cutting-belvideres-barber-shop/
LOCATION:Belvidere’s Barber Shop\, 1001 B N College Ave\, El Dorado\, AR\, 71730\, United States
CATEGORIES:Business,Chamber Of Commerce
ATTACH;FMTTYPE=image/png:https://www.goeldorado.com/wp-content/uploads/2024/01/Belvideres-Barbershop-art.png
END:VEVENT
BEGIN:VEVENT
DTSTART;TZID=America/Chicago:20240208T183000
DTEND;TZID=America/Chicago:20240208T193000
DTSTAMP:20260423T020302
CREATED:20240123T151952Z
LAST-MODIFIED:20240123T153302Z
UID:10017792-1707417000-1707420600@www.goeldorado.com
SUMMARY:Parents United Support Group:
DESCRIPTION:
URL:https://www.goeldorado.com/event/parents-united-support-group/
LOCATION:Victory Daycare\, 308 1/2 Cordell Ave\, El Dorado\, AR\, 71730
CATEGORIES:Clubs/Organizations,Community
ORGANIZER;CN="Parent's United Code Red":MAILTO:parentsunitedcodered@yahoo.com
END:VEVENT
BEGIN:VEVENT
DTSTART;TZID=America/Chicago:20240208T180000
DTEND;TZID=America/Chicago:20240208T220000
DTSTAMP:20260423T020302
CREATED:20240123T221008Z
LAST-MODIFIED:20240123T221312Z
UID:10017793-1707415200-1707429600@www.goeldorado.com
SUMMARY:Galentine's Party @ Kyle & Co
DESCRIPTION:
URL:https://www.goeldorado.com/event/galentines-party-kyle-co/
LOCATION:Kyle & Co\, 115 S Washington\, El Dorado\, AR\, 71730\, United States
CATEGORIES:Business,Holiday
ATTACH;FMTTYPE=image/jpeg:https://www.goeldorado.com/wp-content/uploads/2024/01/kyle-galentines-day.jpg
END:VEVENT
BEGIN:VEVENT
DTSTART;TZID=America/Chicago:20240208T180000
DTEND;TZID=America/Chicago:20240208T190000
DTSTAMP:20260423T020302
CREATED:20231109T180121Z
LAST-MODIFIED:20231109T183656Z
UID:10016316-1707415200-1707418800@www.goeldorado.com
SUMMARY:Trivia Night @ DP's Food Truck
DESCRIPTION:
URL:https://www.goeldorado.com/event/trivia-night-dps-food-truck/2024-02-08/
LOCATION:DP’s Food Truck Court\, 2117 N College Ave\, 2117 N College Ave\, El Dorado\, AR\, 71730\, United States
CATEGORIES:Community,Family and Children,Recreation & Sports
ATTACH;FMTTYPE=image/jpeg:https://www.goeldorado.com/wp-content/uploads/2023/11/trivia.jpg
END:VEVENT
BEGIN:VEVENT
DTSTART;TZID=America/Chicago:20240208T170000
DTEND;TZID=America/Chicago:20240208T180000
DTSTAMP:20260423T020302
CREATED:20220809T212644Z
LAST-MODIFIED:20220816T204808Z
UID:10009503-1707411600-1707415200@www.goeldorado.com
SUMMARY:El Dorado City Council Meeting
DESCRIPTION:The City of El Dorado’s City Council meeting to discuss city business. Meeting is open to the public. To be placed on the agenda contact the Mayor’s office or your local Alderman. 
URL:https://www.goeldorado.com/event/el-dorado-city-council-meeting/2024-02-08/
CATEGORIES:Community,Government
END:VEVENT
BEGIN:VEVENT
DTSTART;VALUE=DATE:20240208
DTEND;VALUE=DATE:20240212
DTSTAMP:20260423T020302
CREATED:20230913T132722Z
LAST-MODIFIED:20240118T164934Z
UID:10014560-1707350400-1707695999@www.goeldorado.com
SUMMARY:El Dorado Film Fest
DESCRIPTION:2024 Schedule — El Dorado Film Festival (eldofilmfest.com)
URL:https://www.goeldorado.com/event/save-the-date-el-dorado-film-fest/
LOCATION:South Arkansas Arts Center
CATEGORIES:Arts & Culture,Clubs/Organizations,Festivals & Celebrations
ATTACH;FMTTYPE=image/jpeg:https://www.goeldorado.com/wp-content/uploads/2023/09/416693777_876116191182042_4548873728435736454_n.jpg
END:VEVENT
BEGIN:VEVENT
DTSTART;TZID=America/Chicago:20240206T173000
DTEND;TZID=America/Chicago:20240206T190000
DTSTAMP:20260423T020302
CREATED:20240130T211738Z
LAST-MODIFIED:20240130T211738Z
UID:10018220-1707240600-1707246000@www.goeldorado.com
SUMMARY:A Happy Hour with the Rotary Club of El Dorado
DESCRIPTION:
URL:https://www.goeldorado.com/event/a-happy-hour-with-the-rotary-club-of-el-dorado/
LOCATION:The Well @ The Haywood\, 210 S Washington\, El Dorado\, 717303\, United States
CATEGORIES:Business,Clubs/Organizations
ATTACH;FMTTYPE=image/png:https://www.goeldorado.com/wp-content/uploads/2024/01/El-Dorado-Rotary-Club-1.png
END:VEVENT
END:VCALENDAR