BEGIN:VCALENDAR
VERSION:2.0
PRODID:-//El Dorado, Arkansas - ECPv6.15.20//NONSGML v1.0//EN
CALSCALE:GREGORIAN
METHOD:PUBLISH
X-WR-CALNAME:El Dorado, Arkansas
X-ORIGINAL-URL:https://www.goeldorado.com
X-WR-CALDESC:Events for El Dorado, Arkansas
REFRESH-INTERVAL;VALUE=DURATION:PT1H
X-Robots-Tag:noindex
X-PUBLISHED-TTL:PT1H
BEGIN:VTIMEZONE
TZID:America/Chicago
BEGIN:DAYLIGHT
TZOFFSETFROM:-0600
TZOFFSETTO:-0500
TZNAME:CDT
DTSTART:20230312T080000
END:DAYLIGHT
BEGIN:STANDARD
TZOFFSETFROM:-0500
TZOFFSETTO:-0600
TZNAME:CST
DTSTART:20231105T070000
END:STANDARD
BEGIN:DAYLIGHT
TZOFFSETFROM:-0600
TZOFFSETTO:-0500
TZNAME:CDT
DTSTART:20240310T080000
END:DAYLIGHT
BEGIN:STANDARD
TZOFFSETFROM:-0500
TZOFFSETTO:-0600
TZNAME:CST
DTSTART:20241103T070000
END:STANDARD
BEGIN:DAYLIGHT
TZOFFSETFROM:-0600
TZOFFSETTO:-0500
TZNAME:CDT
DTSTART:20250309T080000
END:DAYLIGHT
BEGIN:STANDARD
TZOFFSETFROM:-0500
TZOFFSETTO:-0600
TZNAME:CST
DTSTART:20251102T070000
END:STANDARD
END:VTIMEZONE
BEGIN:VEVENT
DTSTART;TZID=America/Chicago:20240903T120000
DTEND;TZID=America/Chicago:20240903T130000
DTSTAMP:20260425T054614
CREATED:20240829T200523Z
LAST-MODIFIED:20240829T201549Z
UID:10021837-1725364800-1725368400@www.goeldorado.com
SUMMARY:Ribbon Cutting: Aaron's
DESCRIPTION:
URL:https://www.goeldorado.com/event/ribbon-cutting-aarons/
LOCATION:Aaron’s\, 2712 N West Ave
CATEGORIES:Business,Chamber Of Commerce
ATTACH;FMTTYPE=image/png:https://www.goeldorado.com/wp-content/uploads/2024/08/Returning-to-El-Dorado.png
END:VEVENT
BEGIN:VEVENT
DTSTART;TZID=America/Chicago:20240901T173000
DTEND;TZID=America/Chicago:20240901T203000
DTSTAMP:20260425T054614
CREATED:20240718T153748Z
LAST-MODIFIED:20240718T154106Z
UID:10020651-1725211800-1725222600@www.goeldorado.com
SUMMARY:Labor Day Weekend Car & Bike Show with LIVE performance Rich Homie Quan
DESCRIPTION:
URL:https://www.goeldorado.com/event/9992/
LOCATION:Union County Fair Grounds\, 430 E 19th St\, El Dorado\, AR\, 71730\, United States
CATEGORIES:Clubs/Organizations,Community,Holiday,Live Music
ATTACH;FMTTYPE=image/jpeg:https://www.goeldorado.com/wp-content/uploads/2024/07/451596459_10169375197975014_61475360.jpg
END:VEVENT
BEGIN:VEVENT
DTSTART;TZID=America/Chicago:20240831T210000
DTEND;TZID=America/Chicago:20240831T233000
DTSTAMP:20260425T054614
CREATED:20240820T161318Z
LAST-MODIFIED:20240820T161318Z
UID:10021813-1725138000-1725147000@www.goeldorado.com
SUMMARY:Saving For Tuesday LIVE at Hills Pool Hall
DESCRIPTION:
URL:https://www.goeldorado.com/event/saving-for-tuesday-live-at-hills-pool-hall/
LOCATION:Hill’s Pool Hall\, 205 E Cedar ST\, El Dorado\, AR\, 71730
CATEGORIES:Live Music
END:VEVENT
BEGIN:VEVENT
DTSTART;TZID=America/Chicago:20240831T200000
DTEND;TZID=America/Chicago:20240831T230000
DTSTAMP:20260425T054614
CREATED:20240425T164752Z
LAST-MODIFIED:20240503T194903Z
UID:10018855-1725134400-1725145200@www.goeldorado.com
SUMMARY:Justin Moore & Joe Nichols
DESCRIPTION:
URL:https://www.goeldorado.com/event/justin-moore-joe-nichols/
LOCATION:MAD Amphitheater\, 101 E Locust\, El Dorado\, AR\, 71730\, United States
CATEGORIES:Live Music
ATTACH;FMTTYPE=image/jpeg:https://www.goeldorado.com/wp-content/uploads/2024/04/JustinMoore_JoeNichols_2024_ElDorado_1200x627.jpg
END:VEVENT
BEGIN:VEVENT
DTSTART;TZID=America/Chicago:20240831T200000
DTEND;TZID=America/Chicago:20240831T220000
DTSTAMP:20260425T054614
CREATED:20240820T180415Z
LAST-MODIFIED:20240820T180415Z
UID:10021817-1725134400-1725141600@www.goeldorado.com
SUMMARY:Open Mic Night @ PJs Coffee
DESCRIPTION:
URL:https://www.goeldorado.com/event/open-mic-night-pjs-coffee-7/
LOCATION:PJ’s Coffee Shop El Dorado\, 106 W Main\, El Dorado\, AR\, 71730\, United States
CATEGORIES:Live Music
END:VEVENT
BEGIN:VEVENT
DTSTART;TZID=America/Chicago:20240831T170000
DTEND;TZID=America/Chicago:20240831T213000
DTSTAMP:20260425T054614
CREATED:20230123T171108Z
LAST-MODIFIED:20230123T171108Z
UID:10011078-1725123600-1725139800@www.goeldorado.com
SUMMARY:Bingo @ The VFW
DESCRIPTION:The VFW will be hosting BINGO! Every Saturday night. \nQuarter Bingo starts at 5pm \nRegular Bingo starts at 7pm
URL:https://www.goeldorado.com/event/bingo-the-vfw/2024-08-31/
LOCATION:VFW\, 451 Industrial Rd\, El Dorado\, AR\, 71730\, United States
CATEGORIES:Clubs/Organizations,Community,Recreation & Sports
END:VEVENT
BEGIN:VEVENT
DTSTART;TZID=America/Chicago:20240831T160000
DTEND;TZID=America/Chicago:20240831T200000
DTSTAMP:20260425T054614
CREATED:20230628T143043Z
LAST-MODIFIED:20230628T143043Z
UID:10014427-1725120000-1725134400@www.goeldorado.com
SUMMARY:Cruise Night Car Show
DESCRIPTION:
URL:https://www.goeldorado.com/event/cruise-night-car-show/2024-08-31/
LOCATION:Downtown El Dorado\, 101 N. Washington\, El Dorado\, AR\, 71730
CATEGORIES:Clubs/Organizations,Community,Family and Children
ATTACH;FMTTYPE=image/jpeg:https://www.goeldorado.com/wp-content/uploads/2023/06/292313811_354253066884080_3925772226374212086_n.jpg
ORGANIZER;CN="Joe":MAILTO:jjsgourmetbbq@msn.com
END:VEVENT
BEGIN:VEVENT
DTSTART;TZID=America/Chicago:20240831T100000
DTEND;TZID=America/Chicago:20240831T223000
DTSTAMP:20260425T054614
CREATED:20240808T182855Z
LAST-MODIFIED:20240808T182855Z
UID:10021045-1725098400-1725143400@www.goeldorado.com
SUMMARY:Play Ball like a Girl Tournament @ Recreation Complex
DESCRIPTION:
URL:https://www.goeldorado.com/event/play-ball-like-a-girl-tournament-recreation-complex/
LOCATION:El Dorado-Union County Recreation Complex\, 2409 Champagnolle Rd\, El Dorado\, AR\, 71730
CATEGORIES:Community,Recreation & Sports
ATTACH;FMTTYPE=image/jpeg:https://www.goeldorado.com/wp-content/uploads/2024/08/454010832_999304521989083_8111140309585651693_n.jpg
END:VEVENT
BEGIN:VEVENT
DTSTART;TZID=America/Chicago:20240830T203000
DTEND;TZID=America/Chicago:20240830T233000
DTSTAMP:20260425T054614
CREATED:20240829T000016Z
LAST-MODIFIED:20240829T164812Z
UID:10021829-1725049800-1725060600@www.goeldorado.com
SUMMARY:5th Quarter Drug Free Party
DESCRIPTION:Free Games\, Prizes\, Food and more. Come hang out at the El Dorado Boys & Girls Club in a safe and drug-free environment from 8:30-11:30 or after the Eldo football game is over. For 7th-12th graders only.
URL:https://www.goeldorado.com/event/5th-quarter-drug-free-party/
LOCATION:Boys & Girls Club of El Dorado\, 1201 N West Ave\, El Dorado\, AR\, 71730\, United States
CATEGORIES:Clubs/Organizations,Recreation & Sports,Schools
END:VEVENT
BEGIN:VEVENT
DTSTART;TZID=America/Chicago:20240830T190000
DTEND;TZID=America/Chicago:20240830T223000
DTSTAMP:20260425T054614
CREATED:20240814T203927Z
LAST-MODIFIED:20240814T203927Z
UID:10021428-1725044400-1725057000@www.goeldorado.com
SUMMARY:El Dorado High School Varsity Football vs. LR Christian HOME game
DESCRIPTION:
URL:https://www.goeldorado.com/event/el-dorado-high-school-varsity-football-vs-lr-christian-home-game/
LOCATION:Memorial Stadium\, N West Ave\, El Dorado\, AR\, 71730\, United States
CATEGORIES:Community,Education,Family and Children,Recreation & Sports
END:VEVENT
BEGIN:VEVENT
DTSTART;TZID=America/Chicago:20240829T140000
DTEND;TZID=America/Chicago:20240829T150000
DTSTAMP:20260425T054614
CREATED:20240821T183733Z
LAST-MODIFIED:20240821T183824Z
UID:10020192-1724940000-1724943600@www.goeldorado.com
SUMMARY:Teatime with South Arkansas Center on Aging
DESCRIPTION:Teatime with South Arkansas Center on Aging is a free Support Group that meets at 2:00 p.m. the last Thursday of every month. Meetings occur at 1119 N. Madison Avenue in El Dorado. Visits include tips and resources for older adults and caregivers\, social contact for individuals who may live alone\, and care and support for those going through a stressful time. There will be guest speakers as well as tea and cookies made available for participants \n  \nAvailable in person or on ZOOM. Contact Tracye @ tdaniel@uams.edu
URL:https://www.goeldorado.com/event/teatime-with-south-arkansas-center-on-aging-2/2024-08-29/
LOCATION:South Arkansas Center on Aging\, 1119 N Madison\, El Dorado\, AR\, 71730
CATEGORIES:Community
END:VEVENT
BEGIN:VEVENT
DTSTART;TZID=America/Chicago:20240828T120000
DTEND;TZID=America/Chicago:20240828T130000
DTSTAMP:20260425T054614
CREATED:20240627T130351Z
LAST-MODIFIED:20240627T142003Z
UID:10020257-1724846400-1724850000@www.goeldorado.com
SUMMARY:SouthArk Connections Session #1- Introduction to computers
DESCRIPTION:Kick off your digital journey with our Introduction to Computers session! Learn the basics of computer hardware\, how to turn on and shut down a computer\, and practice essential skills like using the mouse and keyboard. This beginner-friendly class is perfect for getting comfortable with the essentials and building a strong foundation for your digital skills.
URL:https://www.goeldorado.com/event/southark-connections-session-1-introduction-to-computers/
LOCATION:Mahony Family Library\, 300 Summit Ave\, El Dorado\, AR\, 71730\, United States
CATEGORIES:Community,Continuing Education
ATTACH;FMTTYPE=image/png:https://www.goeldorado.com/wp-content/uploads/2024/06/Session-1-Flyer.png
END:VEVENT
BEGIN:VEVENT
DTSTART;TZID=America/Chicago:20240826T120000
DTEND;TZID=America/Chicago:20240826T130000
DTSTAMP:20260425T054614
CREATED:20240820T203704Z
LAST-MODIFIED:20240820T203704Z
UID:10021818-1724673600-1724677200@www.goeldorado.com
SUMMARY:El Dorado Rotary Club: Lifetouch Hospice
DESCRIPTION:
URL:https://www.goeldorado.com/event/el-dorado-rotary-club-lifetouch-hospice/
LOCATION:HealthWorks Fitness Center\, 304 N. Madison\, El Dorado\, AR\, 71730
CATEGORIES:Business,Clubs/Organizations
ATTACH;FMTTYPE=image/png:https://www.goeldorado.com/wp-content/uploads/2024/08/Add-a-subheading-22.png
END:VEVENT
BEGIN:VEVENT
DTSTART;VALUE=DATE:20240825
DTEND;VALUE=DATE:20240830
DTSTAMP:20260425T054614
CREATED:20240814T200535Z
LAST-MODIFIED:20240814T200535Z
UID:10021419-1724544000-1724975999@www.goeldorado.com
SUMMARY:Rhea Lana
DESCRIPTION:
URL:https://www.goeldorado.com/event/rhea-lana/
LOCATION:Mellor Park Mall\, 1865 N West Ave\, El Dorado\, 71730\, United States
CATEGORIES:Community,Family and Children
ATTACH;FMTTYPE=image/png:https://www.goeldorado.com/wp-content/uploads/2024/08/Save-The-Date.png
END:VEVENT
BEGIN:VEVENT
DTSTART;TZID=America/Chicago:20240824T210000
DTEND;TZID=America/Chicago:20240824T233000
DTSTAMP:20260425T054614
CREATED:20240823T130054Z
LAST-MODIFIED:20240823T130054Z
UID:10021822-1724533200-1724542200@www.goeldorado.com
SUMMARY:The Minnesota Goodbyes LIVE at Hills Pool Hall
DESCRIPTION:
URL:https://www.goeldorado.com/event/the-minnesota-goodbyes-live-at-hills-pool-hall/
LOCATION:Hill’s Pool Hall\, 205 E Cedar ST\, El Dorado\, AR\, 71730
CATEGORIES:Live Music
ATTACH;FMTTYPE=image/jpeg:https://www.goeldorado.com/wp-content/uploads/2024/08/Rainbow-Retro-Music-Event-Announcement-Instagram-Story.jpeg
END:VEVENT
BEGIN:VEVENT
DTSTART;TZID=America/Chicago:20240824T200000
DTEND;TZID=America/Chicago:20240824T220000
DTSTAMP:20260425T054614
CREATED:20240820T180325Z
LAST-MODIFIED:20240820T180325Z
UID:10021816-1724529600-1724536800@www.goeldorado.com
SUMMARY:Josh & Andy LIVE at PJs Coffee
DESCRIPTION:
URL:https://www.goeldorado.com/event/josh-andy-live-at-pjs-coffee/
LOCATION:PJ’s Coffee Shop El Dorado\, 106 W Main\, El Dorado\, AR\, 71730\, United States
CATEGORIES:Live Music
END:VEVENT
BEGIN:VEVENT
DTSTART;TZID=America/Chicago:20240824T170000
DTEND;TZID=America/Chicago:20240824T213000
DTSTAMP:20260425T054614
CREATED:20230123T171108Z
LAST-MODIFIED:20230123T171108Z
UID:10011077-1724518800-1724535000@www.goeldorado.com
SUMMARY:Bingo @ The VFW
DESCRIPTION:The VFW will be hosting BINGO! Every Saturday night. \nQuarter Bingo starts at 5pm \nRegular Bingo starts at 7pm
URL:https://www.goeldorado.com/event/bingo-the-vfw/2024-08-24/
LOCATION:VFW\, 451 Industrial Rd\, El Dorado\, AR\, 71730\, United States
CATEGORIES:Clubs/Organizations,Community,Recreation & Sports
END:VEVENT
BEGIN:VEVENT
DTSTART;TZID=America/Chicago:20240824T100000
DTEND;TZID=America/Chicago:20240824T220000
DTSTAMP:20260425T054614
CREATED:20240808T182435Z
LAST-MODIFIED:20240808T182435Z
UID:10021042-1724493600-1724536800@www.goeldorado.com
SUMMARY:3rd annual Leslie Darden Co-Ed Memorial Tournament
DESCRIPTION:
URL:https://www.goeldorado.com/event/3rd-annual-leslie-darden-co-ed-memorial-tournament/
LOCATION:El Dorado-Union County Recreation Complex\, 2409 Champagnolle Rd\, El Dorado\, AR\, 71730
CATEGORIES:Community,Recreation & Sports
ATTACH;FMTTYPE=image/jpeg:https://www.goeldorado.com/wp-content/uploads/2024/08/454546907_1000664421853093_5524631337925855108_n.jpg
END:VEVENT
BEGIN:VEVENT
DTSTART;TZID=America/Chicago:20240823T190000
DTEND;TZID=America/Chicago:20240823T220000
DTSTAMP:20260425T054614
CREATED:20240814T203820Z
LAST-MODIFIED:20240814T203820Z
UID:10021427-1724439600-1724450400@www.goeldorado.com
SUMMARY:El Dorado High School Varsity Football vs. N Little Rock HOME
DESCRIPTION:
URL:https://www.goeldorado.com/event/el-dorado-high-school-varsity-football-vs-n-little-rock-home/
LOCATION:Memorial Stadium\, N West Ave\, El Dorado\, AR\, 71730\, United States
CATEGORIES:Clubs/Organizations,Community,Education,Family and Children,Recreation & Sports
END:VEVENT
BEGIN:VEVENT
DTSTART;TZID=America/Chicago:20240823T190000
DTEND;TZID=America/Chicago:20240823T210000
DTSTAMP:20260425T054614
CREATED:20240816T140527Z
LAST-MODIFIED:20240816T140818Z
UID:10021446-1724439600-1724446800@www.goeldorado.com
SUMMARY:Rabbit Hole. A production from Second Stage Theater Troupe
DESCRIPTION:Ticket Information:  \nPurchase Tickets to Rabbit Hole – Second Stage at South Arkansas Arts Center | TicketstotheCity.com
URL:https://www.goeldorado.com/event/rabbit-hole-a-production-from-second-stage-theater-troupe/2024-08-23/
LOCATION:South Arkansas Arts Center
CATEGORIES:Arts & Culture,Community
ATTACH;FMTTYPE=image/jpeg:https://www.goeldorado.com/wp-content/uploads/2024/08/455283622_500571279218132_6518834541285152497_n.jpg
END:VEVENT
BEGIN:VEVENT
DTSTART;TZID=America/Chicago:20240822T190000
DTEND;TZID=America/Chicago:20240822T210000
DTSTAMP:20260425T054614
CREATED:20240816T140527Z
LAST-MODIFIED:20240816T140818Z
UID:10021445-1724353200-1724360400@www.goeldorado.com
SUMMARY:Rabbit Hole. A production from Second Stage Theater Troupe
DESCRIPTION:Ticket Information:  \nPurchase Tickets to Rabbit Hole – Second Stage at South Arkansas Arts Center | TicketstotheCity.com
URL:https://www.goeldorado.com/event/rabbit-hole-a-production-from-second-stage-theater-troupe/2024-08-22/
LOCATION:South Arkansas Arts Center
CATEGORIES:Arts & Culture,Community
ATTACH;FMTTYPE=image/jpeg:https://www.goeldorado.com/wp-content/uploads/2024/08/455283622_500571279218132_6518834541285152497_n.jpg
END:VEVENT
BEGIN:VEVENT
DTSTART;TZID=America/Chicago:20240820T173000
DTEND;TZID=America/Chicago:20240820T190000
DTSTAMP:20260425T054614
CREATED:20231211T221422Z
LAST-MODIFIED:20240814T202724Z
UID:10016605-1724175000-1724180400@www.goeldorado.com
SUMMARY:Business After Hours @ Cole's Jewelers
DESCRIPTION:
URL:https://www.goeldorado.com/event/business-after-hours/2024-08-20/
LOCATION:Cole’s Jewelers\, 710 N West Ave\, El Dorado\, AR\, 71730
CATEGORIES:Business,Chamber Of Commerce
ATTACH;FMTTYPE=image/png:https://www.goeldorado.com/wp-content/uploads/2023/12/BAH-Coles.png
END:VEVENT
BEGIN:VEVENT
DTSTART;TZID=America/Chicago:20240820T163000
DTEND;TZID=America/Chicago:20240820T183000
DTSTAMP:20260425T054614
CREATED:20240711T201812Z
LAST-MODIFIED:20240712T184002Z
UID:10020276-1724171400-1724178600@www.goeldorado.com
SUMMARY:Penguin Project Auditions at South Arkansas Arts Center
DESCRIPTION:The South Arkansas Arts Center announces Penguin Project auditions for actors of differing needs and their mentors for Disney’s “Finding Nemo.” Actors in grades 3-12 and Mentors in grades 5-12 are eligible to audition.
URL:https://www.goeldorado.com/event/penguin-project-auditions-at-south-arkansas-arts-center/
LOCATION:South Arkansas Arts Center
CATEGORIES:Arts & Culture,Community,Family and Children
END:VEVENT
BEGIN:VEVENT
DTSTART;TZID=America/Chicago:20240817T190000
DTEND;TZID=America/Chicago:20240817T230000
DTSTAMP:20260425T054614
CREATED:20240523T154613Z
LAST-MODIFIED:20240523T154613Z
UID:10019862-1723921200-1723935600@www.goeldorado.com
SUMMARY:Southern Soul Showdown @ Union County Fairgrounds
DESCRIPTION:
URL:https://www.goeldorado.com/event/southern-soul-showdown-union-county-fairgrounds/
LOCATION:Union County Fair Grounds\, 430 E 19th St\, El Dorado\, AR\, 71730\, United States
CATEGORIES:Community,Live Music
ATTACH;FMTTYPE=image/jpeg:https://www.goeldorado.com/wp-content/uploads/2024/05/441496530_892565326007358_4016774507595690532_n.jpg
END:VEVENT
BEGIN:VEVENT
DTSTART;TZID=America/Chicago:20240817T190000
DTEND;TZID=America/Chicago:20240817T220000
DTSTAMP:20260425T054614
CREATED:20240814T201815Z
LAST-MODIFIED:20240814T201815Z
UID:10021423-1723921200-1723932000@www.goeldorado.com
SUMMARY:Caden Ross LIVE @ DP's Food Truck Park
DESCRIPTION:
URL:https://www.goeldorado.com/event/caden-ross-live-dps-food-truck-park/
LOCATION:DP’s Food Truck Court\, 2117 N College Ave\, 2117 N College Ave\, El Dorado\, AR\, 71730\, United States
CATEGORIES:Live Music
ATTACH;FMTTYPE=image/jpeg:https://www.goeldorado.com/wp-content/uploads/2024/08/455599257_407297169032253_9158453693211707364_n.jpg
END:VEVENT
BEGIN:VEVENT
DTSTART;TZID=America/Chicago:20240817T170000
DTEND;TZID=America/Chicago:20240817T213000
DTSTAMP:20260425T054614
CREATED:20230123T171108Z
LAST-MODIFIED:20230123T171108Z
UID:10011076-1723914000-1723930200@www.goeldorado.com
SUMMARY:Bingo @ The VFW
DESCRIPTION:The VFW will be hosting BINGO! Every Saturday night. \nQuarter Bingo starts at 5pm \nRegular Bingo starts at 7pm
URL:https://www.goeldorado.com/event/bingo-the-vfw/2024-08-17/
LOCATION:VFW\, 451 Industrial Rd\, El Dorado\, AR\, 71730\, United States
CATEGORIES:Clubs/Organizations,Community,Recreation & Sports
END:VEVENT
BEGIN:VEVENT
DTSTART;TZID=America/Chicago:20240817T100000
DTEND;TZID=America/Chicago:20240817T220000
DTSTAMP:20260425T054614
CREATED:20240808T182724Z
LAST-MODIFIED:20240808T182724Z
UID:10021044-1723888800-1723932000@www.goeldorado.com
SUMMARY:Diamonds in the Rough Tournament @ Recreation Complex
DESCRIPTION:
URL:https://www.goeldorado.com/event/diamonds-in-the-rough-tournament-recreation-complex/
LOCATION:El Dorado-Union County Recreation Complex\, 2409 Champagnolle Rd\, El Dorado\, AR\, 71730
CATEGORIES:Community,Recreation & Sports
ATTACH;FMTTYPE=image/jpeg:https://www.goeldorado.com/wp-content/uploads/2024/08/454287547_999303608655841_5410053576876312361_n.jpg
END:VEVENT
BEGIN:VEVENT
DTSTART;TZID=America/Chicago:20240817T100000
DTEND;TZID=America/Chicago:20240817T140000
DTSTAMP:20260425T054614
CREATED:20240521T184352Z
LAST-MODIFIED:20240808T143027Z
UID:10019854-1723888800-1723903200@www.goeldorado.com
SUMMARY:Back to School Bash with a Splash!
DESCRIPTION:The Back-to-School Bash with a Splash is happening Saturday\, August 17th!  Come and join us for a day filled with fun and excitement. We have water slides\, water games\, and yard games that you and your friends can enjoy. Student vendors will be showcasing their homemade products\, and you won’t want to miss the amazing student entertainment happening all day!
URL:https://www.goeldorado.com/event/back-to-school-bash-with-splash/
LOCATION:Downtown El Dorado\, 101 N. Washington\, El Dorado\, AR\, 71730
CATEGORIES:Community,Family and Children
END:VEVENT
BEGIN:VEVENT
DTSTART;TZID=America/Chicago:20240816T190000
DTEND;TZID=America/Chicago:20240816T220000
DTSTAMP:20260425T054614
CREATED:20240814T211302Z
LAST-MODIFIED:20240814T211303Z
UID:10018776-1723834800-1723845600@www.goeldorado.com
SUMMARY:Dance @ Champagnolle Landing
DESCRIPTION: 
URL:https://www.goeldorado.com/event/dance-champagnolle-landing-3/
LOCATION:Champagnolle Landing\, 910 Champagnolle Rd\, El Dorado\, AR\, 71730\, United States
CATEGORIES:Live Music
ATTACH;FMTTYPE=image/png:https://www.goeldorado.com/wp-content/uploads/2024/04/Dance.png
END:VEVENT
BEGIN:VEVENT
DTSTART;TZID=America/Chicago:20240815T180000
DTEND;TZID=America/Chicago:20240815T210000
DTSTAMP:20260425T054614
CREATED:20240731T194148Z
LAST-MODIFIED:20240806T154611Z
UID:10020657-1723744800-1723755600@www.goeldorado.com
SUMMARY:"Disco Daze" Corks and Canvas led by Marla Tomlinson at South Arkansas Arts Center
DESCRIPTION:Perfect for those who have always wanted to explore their artistic side\, Corks and Canvas combines creativity with a relaxed atmosphere. This month\, Marla will guide participants in creating a “far-out” acrylic painting of a disco ball on 12-inch round canvases\, “I wanted to do something fun and colorful with the class\, and what says fun more than a disco ball?!?! I also love the idea of painting the round canvases to look like disco balls versus painting a round disco ball on a square or rectangle canvas. I’m looking forward to a fun night at SAAC.” \nNo prior art experience is needed—just bring your friends and a willingness to unwind and have fun! All painting supplies\, including paints and brushes\, will be provided\, and SAAC will offer snacks to enjoy during the class. Attendees are encouraged to bring their favorite drinks to sip on while they paint.
URL:https://www.goeldorado.com/event/disco-daze-corks-and-canvas-led-by-marla-tomlinson-at-south-arkansas-arts-center/
LOCATION:South Arkansas Arts Center
CATEGORIES:Arts & Culture
END:VEVENT
END:VCALENDAR