BEGIN:VCALENDAR
VERSION:2.0
PRODID:-//El Dorado, Arkansas - ECPv6.15.20//NONSGML v1.0//EN
CALSCALE:GREGORIAN
METHOD:PUBLISH
X-WR-CALNAME:El Dorado, Arkansas
X-ORIGINAL-URL:https://www.goeldorado.com
X-WR-CALDESC:Events for El Dorado, Arkansas
REFRESH-INTERVAL;VALUE=DURATION:PT1H
X-Robots-Tag:noindex
X-PUBLISHED-TTL:PT1H
BEGIN:VTIMEZONE
TZID:America/Chicago
BEGIN:DAYLIGHT
TZOFFSETFROM:-0600
TZOFFSETTO:-0500
TZNAME:CDT
DTSTART:20230312T080000
END:DAYLIGHT
BEGIN:STANDARD
TZOFFSETFROM:-0500
TZOFFSETTO:-0600
TZNAME:CST
DTSTART:20231105T070000
END:STANDARD
BEGIN:DAYLIGHT
TZOFFSETFROM:-0600
TZOFFSETTO:-0500
TZNAME:CDT
DTSTART:20240310T080000
END:DAYLIGHT
BEGIN:STANDARD
TZOFFSETFROM:-0500
TZOFFSETTO:-0600
TZNAME:CST
DTSTART:20241103T070000
END:STANDARD
BEGIN:DAYLIGHT
TZOFFSETFROM:-0600
TZOFFSETTO:-0500
TZNAME:CDT
DTSTART:20250309T080000
END:DAYLIGHT
BEGIN:STANDARD
TZOFFSETFROM:-0500
TZOFFSETTO:-0600
TZNAME:CST
DTSTART:20251102T070000
END:STANDARD
END:VTIMEZONE
BEGIN:VEVENT
DTSTART;TZID=America/Chicago:20241004T190000
DTEND;TZID=America/Chicago:20241004T220000
DTSTAMP:20260422T200949
CREATED:20240814T204318Z
LAST-MODIFIED:20240814T204318Z
UID:10021432-1728068400-1728079200@www.goeldorado.com
SUMMARY:El Dorado High Varsity Football vs. Marion: HOME game
DESCRIPTION:
URL:https://www.goeldorado.com/event/el-dorado-high-varsity-football-vs-marion-home-game/
LOCATION:Memorial Stadium\, N West Ave\, El Dorado\, AR\, 71730\, United States
CATEGORIES:Community,Education,Family and Children,Recreation & Sports
END:VEVENT
BEGIN:VEVENT
DTSTART;VALUE=DATE:20241004
DTEND;VALUE=DATE:20241006
DTSTAMP:20260422T200949
CREATED:20240103T184015Z
LAST-MODIFIED:20240916T153347Z
UID:10017753-1728000000-1728172799@www.goeldorado.com
SUMMARY:MusicFest 36th Anniversary
DESCRIPTION:Live music\, vendors\, food\, attractions\, rides\, kids zone!
URL:https://www.goeldorado.com/event/musicfest-36th-anniversary/
LOCATION:Downtown El Dorado\, 101 N. Washington\, El Dorado\, AR\, 71730
CATEGORIES:Arts & Culture,Chamber Of Commerce,Clubs/Organizations,Community,Festivals & Celebrations,Live Music,Recreation & Sports,Schools
ATTACH;FMTTYPE=image/jpeg:https://www.goeldorado.com/wp-content/uploads/2024/01/459069055_1058784842477345_7079040607192275438_n.jpg
END:VEVENT
BEGIN:VEVENT
DTSTART;TZID=America/Chicago:20241003T200000
DTEND;TZID=America/Chicago:20241003T220000
DTSTAMP:20260422T200949
CREATED:20240425T165058Z
LAST-MODIFIED:20240923T191044Z
UID:10018856-1727985600-1727992800@www.goeldorado.com
SUMMARY:Jamey Johnson: What a View Tour @ MAD
DESCRIPTION:
URL:https://www.goeldorado.com/event/jamey-johnson-what-a-view-tour/
LOCATION:MAD Amphitheater\, 101 E Locust\, El Dorado\, AR\, 71730\, United States
CATEGORIES:Live Music
ATTACH;FMTTYPE=image/jpeg:https://www.goeldorado.com/wp-content/uploads/2024/04/JJsquare.jpg
END:VEVENT
BEGIN:VEVENT
DTSTART;TZID=America/Chicago:20241003T190000
DTEND;TZID=America/Chicago:20241003T210000
DTSTAMP:20260422T200949
CREATED:20240808T160458Z
LAST-MODIFIED:20240809T165743Z
UID:10021046-1727982000-1727989200@www.goeldorado.com
SUMMARY:From Almeda To Zilphia: Arkansas Women Who Transformed American Popular Song
DESCRIPTION:El Dorado will host a one-of-a-kind celebration of art and the state’s musical heritage this fall. At 7 p.m. on Thursday\, October 3\, the South Arkansas Arts Center will welcome the author Stephen Koch and artist Katherine Strause behind a new book profiling Arkansas women in music. Refreshments and a book signing will follow the program.
URL:https://www.goeldorado.com/event/from-almeda-to-zilphia-arkansas-women-who-transformed-american-popular-song/
LOCATION:South Arkansas Arts Center
CATEGORIES:Arts & Culture,Community,Education
ATTACH;FMTTYPE=image/jpeg:https://www.goeldorado.com/wp-content/uploads/2024/08/COVER_From-Almeda-to-Zilphia_Koch-scaled.jpg
END:VEVENT
BEGIN:VEVENT
DTSTART;TZID=America/Chicago:20241003T100000
DTEND;TZID=America/Chicago:20241003T103000
DTSTAMP:20260422T200949
CREATED:20240927T183230Z
LAST-MODIFIED:20240927T183245Z
UID:10022441-1727949600-1727951400@www.goeldorado.com
SUMMARY:National Disability Employment Awareness Month Proclamation
DESCRIPTION:
URL:https://www.goeldorado.com/event/national-disability-employment-awareness-month-proclamation/
LOCATION:El Dorado-Union County Chamber of Commerce\, 111 W. Main Street\, El Dorado\, AR\, 71730
CATEGORIES:Business,Community
ATTACH;FMTTYPE=image/png:https://www.goeldorado.com/wp-content/uploads/2024/09/Screenshot-73.png
END:VEVENT
BEGIN:VEVENT
DTSTART;TZID=America/Chicago:20241001T180000
DTEND;TZID=America/Chicago:20241001T193000
DTSTAMP:20260422T200949
CREATED:20240829T000729Z
LAST-MODIFIED:20240829T164838Z
UID:10021830-1727805600-1727811000@www.goeldorado.com
SUMMARY:Parent  Resource Night
DESCRIPTION:Free food\, child care and a gym full of community resources all in one place!  Come find the most current information and resources for your children\, family and friends all in one place – the El Dorado Boys & Girls Club. Organized by the ACTIVE Coalition.
URL:https://www.goeldorado.com/event/parent-resource-night/
LOCATION:Boys & Girls Club of El Dorado\, 1201 N West Ave\, El Dorado\, AR\, 71730\, United States
CATEGORIES:Community,Family and Children
END:VEVENT
BEGIN:VEVENT
DTSTART;TZID=America/Chicago:20241001T120000
DTEND;TZID=America/Chicago:20241001T130000
DTSTAMP:20260422T200949
CREATED:20240801T204242Z
LAST-MODIFIED:20240806T155243Z
UID:10021035-1727784000-1727787600@www.goeldorado.com
SUMMARY:Spectral Secrets:  Delving into El Dorado's Haunted History
DESCRIPTION:Join us for a spine-tingling lunch lecture where Darrin Riley\, Researcher and Curator at So. AR Historical Preservation Society\, delves into the haunted history of our area. Discover the eerie tales and ghostly legends that have shaped the local lore and learn about the historical significance of these stories. \nThis lecture is a prelude to the highly anticipated Night of the Living Newtons event. \nRegister Here: https://forms.microsoft.com/r/69AX0sLRHz \nDon’t miss this opportunity to get a preview of the ghostly happenings and the chance to learn more about the haunted history of El Dorado. This lecture is free and open to the public\, with lunch provided for attendees.
URL:https://www.goeldorado.com/event/spectral-secrets-delving-into-el-dorados-haunted-history/
LOCATION:Mahony Family Library\, 300 Summit Ave\, El Dorado\, AR\, 71730\, United States
CATEGORIES:Arts & Culture,Clubs/Organizations,Community,Education,Holiday
END:VEVENT
BEGIN:VEVENT
DTSTART;TZID=America/Chicago:20240929T140000
DTEND;TZID=America/Chicago:20240929T170000
DTSTAMP:20260422T200949
CREATED:20240103T183140Z
LAST-MODIFIED:20240916T154347Z
UID:10017752-1727618400-1727629200@www.goeldorado.com
SUMMARY:Miss MusicFest Pageant
DESCRIPTION:The kickoff of the 36th annual MusicFest celebration! \nPlease join the Miss MusicFest Facebook group for all updated information as well as our website: \nwww.mainstreeteldorado.org
URL:https://www.goeldorado.com/event/miss-musicfest-pageant-4/
LOCATION:El Dorado Municipal Auditorium\, El Dorado\, AR\, 71730\, United States
CATEGORIES:Arts & Culture,Clubs/Organizations,Community,Festivals & Celebrations,Live Music
ATTACH;FMTTYPE=image/jpeg:https://www.goeldorado.com/wp-content/uploads/2024/01/458872412_1055521256137037_2908388424039665176_n.jpg
END:VEVENT
BEGIN:VEVENT
DTSTART;TZID=America/Chicago:20240928T193000
DTEND;TZID=America/Chicago:20240928T213000
DTSTAMP:20260422T200949
CREATED:20240920T142332Z
LAST-MODIFIED:20240920T142332Z
UID:10021968-1727551800-1727559000@www.goeldorado.com
SUMMARY:CS Dubb @ DP's Food Truck Park
DESCRIPTION:
URL:https://www.goeldorado.com/event/cs-dubb-dps-food-truck-park/
LOCATION:DP’s Food Truck Court\, 2117 N College Ave\, 2117 N College Ave\, El Dorado\, AR\, 71730\, United States
CATEGORIES:Live Music
ATTACH;FMTTYPE=image/jpeg:https://www.goeldorado.com/wp-content/uploads/2024/09/460344715_431017506660219_6075684244630101749_n.jpg
END:VEVENT
BEGIN:VEVENT
DTSTART;TZID=America/Chicago:20240928T190000
DTEND;TZID=America/Chicago:20240928T210000
DTSTAMP:20260422T200949
CREATED:20240923T190510Z
LAST-MODIFIED:20240923T190510Z
UID:10022352-1727550000-1727557200@www.goeldorado.com
SUMMARY:Chris Loggins LIVE @ The Haywood
DESCRIPTION:
URL:https://www.goeldorado.com/event/chris-loggins-live-the-haywood/
LOCATION:The Well @ The Haywood\, 210 S Washington\, El Dorado\, 717303\, United States
CATEGORIES:Live Music
ATTACH;FMTTYPE=image/jpeg:https://www.goeldorado.com/wp-content/uploads/2024/09/460847212_1092608652872268_4992234752047936660_n.jpg
END:VEVENT
BEGIN:VEVENT
DTSTART;TZID=America/Chicago:20240928T190000
DTEND;TZID=America/Chicago:20240928T210000
DTSTAMP:20260422T200949
CREATED:20240904T205512Z
LAST-MODIFIED:20240904T210511Z
UID:10021857-1727550000-1727557200@www.goeldorado.com
SUMMARY:Carolina Cotton LIVE @ PJs Coffee
DESCRIPTION:
URL:https://www.goeldorado.com/event/carolina-cotton-live-pjs-coffee/
LOCATION:PJs Coffee
CATEGORIES:Live Music
END:VEVENT
BEGIN:VEVENT
DTSTART;TZID=America/Chicago:20240928T170000
DTEND;TZID=America/Chicago:20240928T213000
DTSTAMP:20260422T200949
CREATED:20230123T171108Z
LAST-MODIFIED:20230123T171108Z
UID:10011082-1727542800-1727559000@www.goeldorado.com
SUMMARY:Bingo @ The VFW
DESCRIPTION:The VFW will be hosting BINGO! Every Saturday night. \nQuarter Bingo starts at 5pm \nRegular Bingo starts at 7pm
URL:https://www.goeldorado.com/event/bingo-the-vfw/2024-09-28/
LOCATION:VFW\, 451 Industrial Rd\, El Dorado\, AR\, 71730\, United States
CATEGORIES:Clubs/Organizations,Community,Recreation & Sports
END:VEVENT
BEGIN:VEVENT
DTSTART;TZID=America/Chicago:20240928T160000
DTEND;TZID=America/Chicago:20240928T200000
DTSTAMP:20260422T200949
CREATED:20230628T143043Z
LAST-MODIFIED:20230628T143043Z
UID:10014428-1727539200-1727553600@www.goeldorado.com
SUMMARY:Cruise Night Car Show
DESCRIPTION:
URL:https://www.goeldorado.com/event/cruise-night-car-show/2024-09-28/
LOCATION:Downtown El Dorado\, 101 N. Washington\, El Dorado\, AR\, 71730
CATEGORIES:Clubs/Organizations,Community,Family and Children
ATTACH;FMTTYPE=image/jpeg:https://www.goeldorado.com/wp-content/uploads/2023/06/292313811_354253066884080_3925772226374212086_n.jpg
ORGANIZER;CN="Joe":MAILTO:jjsgourmetbbq@msn.com
END:VEVENT
BEGIN:VEVENT
DTSTART;TZID=America/Chicago:20240928T140000
DTEND;TZID=America/Chicago:20240928T160000
DTSTAMP:20260422T200949
CREATED:20240812T213057Z
LAST-MODIFIED:20240814T201035Z
UID:10021421-1727532000-1727539200@www.goeldorado.com
SUMMARY:SAAC's Penguin Project Performance of Finding Nemo
DESCRIPTION:The Penguin Project allows children with differing needs to perform in a live stage production in front of an audience. Each artist is paired with a mentor of a similar age who guides them through the production from start to finish helping them to learn lines\, dances\, songs\, and stage blocking.  Each artist and their mentor operate as a symbiotic pair throughout the entire process\, including appearing on stage together. \n“Finding Nemo\, Kids” is a musical that follows the adventurous journey of a timid clownfish named Marlin and his spirited son\, Nemo\, who is captured by a diver and placed in a fish tank. With the help of Dory\, a forgetful but friendly blue tang\, Marlin embarks on a quest across the ocean to rescue his son. Along the way\, they encounter various sea creatures\, face challenges\, and learn valuable lessons about bravery\, friendship\, and the importance of family. The musical features catchy songs\, vibrant characters\, and a heartwarming message.
URL:https://www.goeldorado.com/event/saacs-penguin-project-performance-of-finding-nemo-2/
LOCATION:South Arkansas Arts Center
CATEGORIES:Arts & Culture,Community,Family and Children
END:VEVENT
BEGIN:VEVENT
DTSTART;TZID=America/Chicago:20240928T080000
DTEND;TZID=America/Chicago:20240928T220000
DTSTAMP:20260422T200949
CREATED:20240515T140712Z
LAST-MODIFIED:20240515T140712Z
UID:10019055-1727510400-1727560800@www.goeldorado.com
SUMMARY:Paint the Town Pink
DESCRIPTION:To kick off Breast Cancer Awareness Month\, join the community for a competitive 5K\, as well as a family fun run/walk! All Process benefit #teamcorrie cancer foundation to Help provide monetary grants to cancer warriors in Union County\, Arkansas.
URL:https://www.goeldorado.com/event/paint-the-town-pink-3/
LOCATION:Downtown El Dorado\, 101 N. Washington\, El Dorado\, AR\, 71730
CATEGORIES:Clubs/Organizations,Community,Family and Children,Recreation & Sports
ATTACH;FMTTYPE=image/jpeg:https://www.goeldorado.com/wp-content/uploads/2024/05/Save-the-Date-PTTP-2024.jpg
END:VEVENT
BEGIN:VEVENT
DTSTART;VALUE=DATE:20240928
DTEND;VALUE=DATE:20240930
DTSTAMP:20260422T200949
CREATED:20240611T210905Z
LAST-MODIFIED:20240612T204522Z
UID:10020177-1727481600-1727654399@www.goeldorado.com
SUMMARY:First Financial Bank/SHARE Benefit Golf Tournament
DESCRIPTION:The 31st Annual First Financial Bank/SHARE Benefit Golf Tournament is scheduled as a two-day tournament for\nSaturday and Sunday\, September 28-29\, 2024\, at Lions Club Municipal Golf Course & Mystic Creek Golf Course. \nAll tournament proceeds will go to South Arkansas Regional Hospital (SARH) Foundation’s Hearts Close to Home Capital Campaign to enhance SARH’s Cardiology and Surgical Services.
URL:https://www.goeldorado.com/event/first-financial-bank-share-benefit-golf-tournament-3/
CATEGORIES:Recreation & Sports
ATTACH;FMTTYPE=image/jpeg:https://www.goeldorado.com/wp-content/uploads/2024/06/SHAREGolf-calendarheader-2024.jpg
ORGANIZER;CN="SHARE Foundation":MAILTO:acooley@sharefoundation.com
END:VEVENT
BEGIN:VEVENT
DTSTART;TZID=America/Chicago:20240927T190000
DTEND;TZID=America/Chicago:20240927T223000
DTSTAMP:20260422T200949
CREATED:20240814T204230Z
LAST-MODIFIED:20240814T204230Z
UID:10021431-1727463600-1727476200@www.goeldorado.com
SUMMARY:El Dorado High School Varsity Football vs. Catholic High: AWAY
DESCRIPTION:
URL:https://www.goeldorado.com/event/el-dorado-high-school-varsity-football-vs-catholic-high-away/
CATEGORIES:Community,Education,Family and Children,Recreation & Sports
END:VEVENT
BEGIN:VEVENT
DTSTART;TZID=America/Chicago:20240927T190000
DTEND;TZID=America/Chicago:20240927T210000
DTSTAMP:20260422T200949
CREATED:20240812T212756Z
LAST-MODIFIED:20240814T200950Z
UID:10021420-1727463600-1727470800@www.goeldorado.com
SUMMARY:SAAC's Penguin Project Performance of Finding Nemo
DESCRIPTION:The Penguin Project allows children with differing needs to perform in a live stage production in front of an audience. Each artist is paired with a mentor of a similar age who guides them through the production from start to finish helping them to learn lines\, dances\, songs\, and stage blocking.  Each artist and their mentor operates as a symbiotic pair throughout the entire process\, including appearing on stage together. \n“Finding Nemo\, Kids” is a musical that follows the adventurous journey of a timid clownfish named Marlin and his spirited son\, Nemo\, who is captured by a diver and placed in a fish tank. With the help of Dory\, a forgetful but friendly blue tang\, Marlin embarks on a quest across the ocean to rescue his son. Along the way\, they encounter various sea creatures\, face challenges\, and learn valuable lessons about bravery\, friendship\, and the importance of family. The musical features catchy songs\, vibrant characters\, and a heartwarming message.
URL:https://www.goeldorado.com/event/saacs-penguin-project-performance-of-finding-nemo/
LOCATION:South Arkansas Arts Center
CATEGORIES:Arts & Culture,Community,Family and Children
END:VEVENT
BEGIN:VEVENT
DTSTART;TZID=America/Chicago:20240926T183000
DTEND;TZID=America/Chicago:20240926T200000
DTSTAMP:20260422T200949
CREATED:20240924T182250Z
LAST-MODIFIED:20240924T194605Z
UID:10022427-1727375400-1727380800@www.goeldorado.com
SUMMARY:SPECIAL THEME TRIVIA: MusicFest Trivia at DP's Food Truck Park
DESCRIPTION:On Thursday\, September 26\, DP’s Food Truck Park is doing a special MusicFest themed trivia\, showcasing all of the talented musicians that have been on the main stage throughout the years. Come by to win not only a $50 gift card to Gabe’s Cave\, but also win some MusicFest swag as well.
URL:https://www.goeldorado.com/event/special-theme-trivia-musicfest-trivia-at-dps-food-truck-park/
LOCATION:DP’s Food Truck Court\, 2117 N College Ave\, 2117 N College Ave\, El Dorado\, AR\, 71730\, United States
CATEGORIES:Arts & Culture,Community
ATTACH;FMTTYPE=image/png:https://www.goeldorado.com/wp-content/uploads/2024/09/MFTRIVIA.png
END:VEVENT
BEGIN:VEVENT
DTSTART;TZID=America/Chicago:20240926T140000
DTEND;TZID=America/Chicago:20240926T150000
DTSTAMP:20260422T200949
CREATED:20240821T183733Z
LAST-MODIFIED:20240821T183824Z
UID:10020193-1727359200-1727362800@www.goeldorado.com
SUMMARY:Teatime with South Arkansas Center on Aging
DESCRIPTION:Teatime with South Arkansas Center on Aging is a free Support Group that meets at 2:00 p.m. the last Thursday of every month. Meetings occur at 1119 N. Madison Avenue in El Dorado. Visits include tips and resources for older adults and caregivers\, social contact for individuals who may live alone\, and care and support for those going through a stressful time. There will be guest speakers as well as tea and cookies made available for participants \n  \nAvailable in person or on ZOOM. Contact Tracye @ tdaniel@uams.edu
URL:https://www.goeldorado.com/event/teatime-with-south-arkansas-center-on-aging-2/2024-09-26/
LOCATION:South Arkansas Center on Aging\, 1119 N Madison\, El Dorado\, AR\, 71730
CATEGORIES:Community
END:VEVENT
BEGIN:VEVENT
DTSTART;TZID=America/Chicago:20240925T120000
DTEND;TZID=America/Chicago:20240925T130000
DTSTAMP:20260422T200949
CREATED:20240627T131245Z
LAST-MODIFIED:20240627T142154Z
UID:10020259-1727265600-1727269200@www.goeldorado.com
SUMMARY:SouthArk Connections Session #3-Introduction to the Internet
DESCRIPTION:Explore the basics of the internet in our Introduction to the Internet class! Learn how to use web browsers\, perform searches\, and navigate websites safely. This session will open up a world of information and connectivity at your fingertips.
URL:https://www.goeldorado.com/event/southark-connections-session-3-introduction-to-the-internet/
LOCATION:Mahony Family Library\, 300 Summit Ave\, El Dorado\, AR\, 71730\, United States
CATEGORIES:Community,Continuing Education
ATTACH;FMTTYPE=image/png:https://www.goeldorado.com/wp-content/uploads/2024/06/Session-3-Flyer.png
END:VEVENT
BEGIN:VEVENT
DTSTART;TZID=America/Chicago:20240925T100000
DTEND;TZID=America/Chicago:20240925T120000
DTSTAMP:20260422T200949
CREATED:20240827T165417Z
LAST-MODIFIED:20240829T164542Z
UID:10021826-1727258400-1727265600@www.goeldorado.com
SUMMARY:Financial Literacy Class
DESCRIPTION:Literacy Council of Union County is hosting a Free Financial Literacy Class sponsored by Simmons Bank. Call 870-639-3782 to register\, space is limited. \nWhat to know about your personal finances: \nBudgeting \nBank Accounts \nLoans \nCredit Scores
URL:https://www.goeldorado.com/event/financial-literacy-class/
CATEGORIES:Education
ATTACH;FMTTYPE=image/jpeg:https://www.goeldorado.com/wp-content/uploads/2024/08/Financial-Literacy-Class.jpg
END:VEVENT
BEGIN:VEVENT
DTSTART;TZID=America/Chicago:20240924T170000
DTEND;TZID=America/Chicago:20240924T190000
DTSTAMP:20260422T200949
CREATED:20240920T135743Z
LAST-MODIFIED:20240920T140245Z
UID:10021905-1727197200-1727204400@www.goeldorado.com
SUMMARY:Public Open House El Dorado Greenway Project
DESCRIPTION:
URL:https://www.goeldorado.com/event/public-open-house-el-dorado-greenway-project/
LOCATION:El Dorado Municipal Auditorium\, El Dorado\, AR\, 71730\, United States
CATEGORIES:Business,Chamber Of Commerce,Community,Family and Children,Recreation & Sports
ATTACH;FMTTYPE=image/png:https://www.goeldorado.com/wp-content/uploads/2024/09/greenway-project.png
END:VEVENT
BEGIN:VEVENT
DTSTART;TZID=America/Chicago:20240924T113000
DTEND;TZID=America/Chicago:20240924T130000
DTSTAMP:20260422T200949
CREATED:20240919T124755Z
LAST-MODIFIED:20240919T152215Z
UID:10021903-1727177400-1727182800@www.goeldorado.com
SUMMARY:Silver Screen- Maisie
DESCRIPTION:Short Film: \nThe Wrong Room (1939\, RKO Radio Pictures) \nStarring: Lean Erroll and Veronica Lake \nRuntime: 19 minutes \n  \nFeature Film: \nMaisie (1939\, MGM) \nStarring: Ann Sothern and Robert Young \nRuntime: 75 minutes \nJoin us for classic films featuring laughs and adventure! Don’t miss this chance to experience cinematic history. \nPlus\, enjoy our popcorn bar with a variety of flavors and toppings to make your movie even more special!
URL:https://www.goeldorado.com/event/silver-screen-maisie/
LOCATION:Mahony Family Library\, 300 Summit Ave\, El Dorado\, AR\, 71730\, United States
CATEGORIES:Arts & Culture,Community,Education
END:VEVENT
BEGIN:VEVENT
DTSTART;TZID=America/Chicago:20240923T120000
DTEND;TZID=America/Chicago:20240923T130000
DTSTAMP:20260422T200949
CREATED:20240923T162724Z
LAST-MODIFIED:20240923T162724Z
UID:10022340-1727092800-1727096400@www.goeldorado.com
SUMMARY:El Dorado Rotary Club Meeting: KTVE
DESCRIPTION:
URL:https://www.goeldorado.com/event/el-dorado-rotary-club-meeting-ktve/
LOCATION:HealthWorks Fitness Center\, 304 N. Madison\, El Dorado\, AR\, 71730
CATEGORIES:Business,Clubs/Organizations
ATTACH;FMTTYPE=image/png:https://www.goeldorado.com/wp-content/uploads/2024/09/sept-23-rotary.png
END:VEVENT
BEGIN:VEVENT
DTSTART;TZID=America/Chicago:20240921T193000
DTEND;TZID=America/Chicago:20240921T220000
DTSTAMP:20260422T200949
CREATED:20240909T195616Z
LAST-MODIFIED:20240909T195616Z
UID:10021877-1726947000-1726956000@www.goeldorado.com
SUMMARY:Second Hand Jacket LIVE @ DP's Food Truck Park
DESCRIPTION:
URL:https://www.goeldorado.com/event/second-hand-jacket-live-dps-food-truck-park/
LOCATION:DP’s Food Truck Court\, 2117 N College Ave\, 2117 N College Ave\, El Dorado\, AR\, 71730\, United States
CATEGORIES:Community,Live Music
ATTACH;FMTTYPE=image/jpeg:https://www.goeldorado.com/wp-content/uploads/2024/09/459135345_426300960465207_834468552221881080_n.jpg
END:VEVENT
BEGIN:VEVENT
DTSTART;TZID=America/Chicago:20240921T190000
DTEND;TZID=America/Chicago:20240921T210000
DTSTAMP:20260422T200949
CREATED:20240904T205135Z
LAST-MODIFIED:20240904T205135Z
UID:10021856-1726945200-1726952400@www.goeldorado.com
SUMMARY:Reece Sullivant LIVE @ PJs Coffee
DESCRIPTION:
URL:https://www.goeldorado.com/event/reece-sullivant-live-pjs-coffee/
LOCATION:PJ’s Coffee Shop El Dorado\, 106 W Main\, El Dorado\, AR\, 71730\, United States
CATEGORIES:Community,Live Music
END:VEVENT
BEGIN:VEVENT
DTSTART;TZID=America/Chicago:20240921T170000
DTEND;TZID=America/Chicago:20240921T213000
DTSTAMP:20260422T200949
CREATED:20230123T171108Z
LAST-MODIFIED:20230123T171108Z
UID:10011081-1726938000-1726954200@www.goeldorado.com
SUMMARY:Bingo @ The VFW
DESCRIPTION:The VFW will be hosting BINGO! Every Saturday night. \nQuarter Bingo starts at 5pm \nRegular Bingo starts at 7pm
URL:https://www.goeldorado.com/event/bingo-the-vfw/2024-09-21/
LOCATION:VFW\, 451 Industrial Rd\, El Dorado\, AR\, 71730\, United States
CATEGORIES:Clubs/Organizations,Community,Recreation & Sports
END:VEVENT
BEGIN:VEVENT
DTSTART;TZID=America/Chicago:20240921T120000
DTEND;TZID=America/Chicago:20240921T130000
DTSTAMP:20260422T200949
CREATED:20240829T195518Z
LAST-MODIFIED:20240906T144737Z
UID:10021836-1726920000-1726923600@www.goeldorado.com
SUMMARY:Ribbon Cutting: Tobacco Station
DESCRIPTION:
URL:https://www.goeldorado.com/event/ribbon-cutting-tobacco-station/
LOCATION:Tobacco Station\, 337 W Hillsboro\, El Dorado\, AR\, 71730
CATEGORIES:Business,Chamber Of Commerce
ATTACH;FMTTYPE=image/png:https://www.goeldorado.com/wp-content/uploads/2024/08/Ribbon-Cutting-Grand-Opening-1-1.png
END:VEVENT
BEGIN:VEVENT
DTSTART;TZID=America/Chicago:20240921T100000
DTEND;TZID=America/Chicago:20240922T170000
DTSTAMP:20260422T200949
CREATED:20240812T215522Z
LAST-MODIFIED:20240814T201131Z
UID:10021422-1726912800-1727024400@www.goeldorado.com
SUMMARY:Make Art Work Program with Artist INC Express @ SAAC
DESCRIPTION:Led by a team of experienced\, working artists\, this hands-on workshop will help artists address specific needs and challenges they might face throughout their career. Through discussions\, activities\, and hands-on exercises\, the artist-facilitators and a new network of peer artists will help participants set goals for their practice\, write about their work\, and build a personal brand.
URL:https://www.goeldorado.com/event/make-art-work-program-with-artist-inc-express-saac/
LOCATION:South Arkansas Arts Center
CATEGORIES:Arts & Culture
END:VEVENT
END:VCALENDAR